<?xml version="1.0" encoding="UTF-8" standalone="no"?>
<metadata xml:lang="en">
<Esri>
<CreaDate>20230811</CreaDate>
<CreaTime>10492000</CreaTime>
<ArcGISFormat>1.0</ArcGISFormat>
<SyncOnce>FALSE</SyncOnce>
<DataProperties>
<itemProps>
<itemName Sync="TRUE">CarbonStock_2022_Raster</itemName>
<imsContentType Sync="TRUE">002</imsContentType>
<nativeExtBox>
<westBL Sync="TRUE">6123352.894169</westBL>
<eastBL Sync="TRUE">6462131.744169</eastBL>
<southBL Sync="TRUE">1801588.967350</southBL>
<northBL Sync="TRUE">2075013.617350</northBL>
<exTypeCode Sync="TRUE">1</exTypeCode>
</nativeExtBox>
<itemLocation>
<protocol Sync="TRUE">Local Area Network</protocol>
</itemLocation>
</itemProps>
<coordRef>
<type Sync="TRUE">Projected</type>
<geogcsn Sync="TRUE">GCS_North_American_1983</geogcsn>
<csUnits Sync="TRUE">Linear Unit: Foot_US (0.304801)</csUnits>
<projcsn Sync="TRUE">NAD_1983_StatePlane_California_II_FIPS_0402_Feet</projcsn>
<peXml Sync="TRUE">&lt;ProjectedCoordinateSystem xsi:type='typens:ProjectedCoordinateSystem' xmlns:xsi='http://www.w3.org/2001/XMLSchema-instance' xmlns:xs='http://www.w3.org/2001/XMLSchema' xmlns:typens='http://www.esri.com/schemas/ArcGIS/3.1.0'&gt;&lt;WKT&gt;PROJCS[&amp;quot;NAD_1983_StatePlane_California_II_FIPS_0402_Feet&amp;quot;,GEOGCS[&amp;quot;GCS_North_American_1983&amp;quot;,DATUM[&amp;quot;D_North_American_1983&amp;quot;,SPHEROID[&amp;quot;GRS_1980&amp;quot;,6378137.0,298.257222101]],PRIMEM[&amp;quot;Greenwich&amp;quot;,0.0],UNIT[&amp;quot;Degree&amp;quot;,0.0174532925199433]],PROJECTION[&amp;quot;Lambert_Conformal_Conic&amp;quot;],PARAMETER[&amp;quot;False_Easting&amp;quot;,6561666.666666666],PARAMETER[&amp;quot;False_Northing&amp;quot;,1640416.666666667],PARAMETER[&amp;quot;Central_Meridian&amp;quot;,-122.0],PARAMETER[&amp;quot;Standard_Parallel_1&amp;quot;,38.33333333333334],PARAMETER[&amp;quot;Standard_Parallel_2&amp;quot;,39.83333333333334],PARAMETER[&amp;quot;Latitude_Of_Origin&amp;quot;,37.66666666666666],UNIT[&amp;quot;Foot_US&amp;quot;,0.3048006096012192],AUTHORITY[&amp;quot;EPSG&amp;quot;,2226]]&lt;/WKT&gt;&lt;XOrigin&gt;-115211800&lt;/XOrigin&gt;&lt;YOrigin&gt;-93821500&lt;/YOrigin&gt;&lt;XYScale&gt;36983428.057351544&lt;/XYScale&gt;&lt;ZOrigin&gt;-100000&lt;/ZOrigin&gt;&lt;ZScale&gt;10000&lt;/ZScale&gt;&lt;MOrigin&gt;-100000&lt;/MOrigin&gt;&lt;MScale&gt;10000&lt;/MScale&gt;&lt;XYTolerance&gt;0.0032808333333333331&lt;/XYTolerance&gt;&lt;ZTolerance&gt;0.001&lt;/ZTolerance&gt;&lt;MTolerance&gt;0.001&lt;/MTolerance&gt;&lt;HighPrecision&gt;true&lt;/HighPrecision&gt;&lt;WKID&gt;102642&lt;/WKID&gt;&lt;LatestWKID&gt;2226&lt;/LatestWKID&gt;&lt;/ProjectedCoordinateSystem&gt;</peXml>
</coordRef>
</DataProperties>
<SyncDate>20231009</SyncDate>
<SyncTime>15391400</SyncTime>
<ModDate>20240418</ModDate>
<ModTime>11555900</ModTime>
<scaleRange>
<minScale>150000000</minScale>
<maxScale>5000</maxScale>
</scaleRange>
<ArcGISProfile>FGDC</ArcGISProfile>
</Esri>
<mdHrLv>
<ScopeCd value="005"/>
</mdHrLv>
<dataIdInfo>
<idPurp>This layer is the final 2022 Carbon Stock analysis which captures carbon stock changes based on vegetation type, cover, and height. This layer was created using RStudio, grabbing information from the Land Cover dataset.</idPurp>
<idCredit>Rincon Consultants, Inc.
LANDFIRE 2022</idCredit>
<idCitation>
<resTitle>CarbonStock_2022</resTitle>
<presForm>
<PresFormCd Sync="TRUE" value="011"/>
</presForm>
<date>
<pubDate>2023-08-31T00:00:00</pubDate>
</date>
</idCitation>
<searchKeys>
<keyword>23-14274</keyword>
<keyword>2022 Carbon Stock</keyword>
<keyword>Raster</keyword>
</searchKeys>
<resConst>
<Consts>
<useLimit>&lt;div style='text-align:Left;'&gt;&lt;div&gt;&lt;div&gt;&lt;p&gt;&lt;span&gt;This data is from a County-wide analysis and is not intended to be used on a localized scale. Rincon Consultants shall not be held liable for improper or incorrect use of this data. Data and related graphics are not legal documents and are not intended to be used as such. This data is dynamic and may change over time. It is the responsibility of the data user to use the data appropriately and within the limitations of geospatial data in general, and this data in particular. Rincon Consultants gives no warranty, expressed or implied, as to the accuracy, reliability, or completeness of this data. Rincon Consultants gives no warranty expressed or implied, regarding the utility of the data on another system, or for general or scientific purposes; nor shall the act of distribution constitute any such warranty. This disclaimer applies both to individual use of the data and aggregate use with other data.&lt;/span&gt;&lt;/p&gt;&lt;p&gt;&lt;span&gt;The County of Sonoma (“County”) is the authoritative source for this data and follows guidelines recommended by Creative Commons for data distribution. Please contact the data owner if you have questions about permitted use.&lt;/span&gt;&lt;/p&gt;&lt;p&gt;&lt;span&gt;For more information regarding the contacts and use and limitations please refer to policy 9-2 Information Technology Use and Security Policy Manual (https://sonomacounty.ca.gov/CAO/Administrative-Policies/IT-Use-and-Security-Policy).&lt;/span&gt;&lt;/p&gt;&lt;p&gt;&lt;span&gt;Permission Required - The user may only copy and redistribute the data in any medium or format with the permission of the author of the data. The licensor reserves the right to revoke the license if the user violates the terms of the agreement.&lt;/span&gt;&lt;/p&gt;&lt;p&gt;&lt;span&gt;License terms: Attribution - You must give appropriate credit (if supplied, you must provide the name of the creator and attribution parties, a copyright notice, a license notice, a disclaimer notice and a link to the material) and indicate if changes were made. You may do so in any reasonable manner, but not in any way that suggests the licensor endorses you, your organization, or your use of the data. &lt;/span&gt;&lt;/p&gt;&lt;p&gt;&lt;span&gt;No additional Restrictions - You may not apply legal terms or technological measures that legally restrict others form doing anything the license permits. &lt;/span&gt;&lt;/p&gt;&lt;p&gt;&lt;span&gt;Notices: You do not have to comply with the license for elements of the material in the public domain or where your use is permitted by an applicable exception or limitation. No warranties are given. The license may not give you the permissions necessary for your intended use. For example, other rights such as publicity, privacy, or moral rights may limit how you use the data. &lt;/span&gt;&lt;/p&gt;&lt;p&gt;&lt;span&gt;EXCEPT TO THE EXTENT REQUIRED BY APPLICABLE LAW, IN NO EVENT WILL LICENSOR BE LIABLE TO YOU ON ANY LEGAL THEORY FOR ANY SPECIAL, INCIDENTAL, CONSEQUENTIAL, PUNITIVE OR EXEMPLARY DAMAGES ARISING OUT OF THIS LICENSE OR THE USE OF THE DATA, EVEN IF LICENSOR HAS BEEN ADVISED OF THE POSSIBILITY OF SUCH DAMAGES.&lt;/span&gt;&lt;/p&gt;&lt;p&gt;&lt;span&gt;The above is an easily understandable summary of and not a substitute for the license and disclaimer for the “Permission Required” 3.0 United States (CC BY-PR 3.0 US) the full text is available at creativecommons.org.&lt;/span&gt;&lt;/p&gt;&lt;p&gt;&lt;span /&gt;&lt;/p&gt;&lt;/div&gt;&lt;/div&gt;&lt;/div&gt;</useLimit>
</Consts>
</resConst>
<envirDesc Sync="TRUE">Microsoft Windows Server 2016 Technical Preview Version 10.0 (Build 19045) ; Esri ArcGIS 13.1.3.41833</envirDesc>
<dataLang>
<languageCode Sync="TRUE" value="eng"/>
<countryCode Sync="TRUE" value="USA"/>
</dataLang>
<spatRpType>
<SpatRepTypCd Sync="TRUE" value="002"/>
</spatRpType>
<dataExt>
<geoEle>
<GeoBndBox esriExtentType="search">
<exTypeCode Sync="TRUE">1</exTypeCode>
<westBL Sync="TRUE">-123.539179</westBL>
<eastBL Sync="TRUE">-122.345903</eastBL>
<northBL Sync="TRUE">38.859466</northBL>
<southBL Sync="TRUE">38.099116</southBL>
</GeoBndBox>
</geoEle>
</dataExt>
<idAbs>&lt;div style='text-align:Left;'&gt;&lt;div&gt;&lt;div&gt;&lt;p&gt;&lt;span&gt;The Sonoma County carbon inventories methodology is based on the Resilient Counties Guide, which provides the most up-to-date county-level natural and working lands analysis in line with State’s 2018 natural and working lands inventory. The first step includes estimating carbon stocks by land cover class (i.e., forest, grassland, and shrub) using the 2013 and 2022 datasets described in the Data Sources section and Literature and Data Evaluation review provided to the County in July of 2023. The second step involves calculating carbon stored in different carbon pools (i.e., above- and below-ground live biomass, litter, and soil) based on existing vegetation type, cover, and height. The sections below describe the methodology and findings of the two carbon inventories. The inventory of carbon stocks for natural and working lands in Sonoma County will cover 1,016,469 acres, which includes all natural, agricultural, and urban areas countywide. The best available data were used in this analysis to allow for progress on estimating carbon stock stability and developing strategies for optimizing carbon sequestration in Sonoma in a timely manner. Some changes in land cover and carbon stock between the two years may be data artifacts. Future updates to the Sonoma Veg Map data will allow for more accurate carbon stock and trends analysis.&lt;/span&gt;&lt;/p&gt;&lt;p&gt;&lt;span&gt;Carbon stock estimates are based on the sum of carbon stored in different carbon pools. Carbon stock analysis includes carbon stored in the following carbon pools:&lt;/span&gt;&lt;/p&gt;&lt;ul&gt;&lt;li&gt;&lt;p&gt;&lt;span&gt;Above- and below-ground live biomass&lt;/span&gt;&lt;/p&gt;&lt;/li&gt;&lt;li&gt;&lt;p&gt;&lt;span&gt;Above- and below-ground biomass associated with dead standing trees&lt;/span&gt;&lt;/p&gt;&lt;/li&gt;&lt;li&gt;&lt;p&gt;&lt;span&gt;Lying dead wood (e.g., branches, logs, etc., lying on the ground surface)&lt;/span&gt;&lt;/p&gt;&lt;/li&gt;&lt;li&gt;&lt;p&gt;&lt;span&gt;Litter (e.g., freshly fallen or slightly decomposed leaves, bark, twigs, flowers, fruits, and other vegetable matter)&lt;/span&gt;&lt;/p&gt;&lt;/li&gt;&lt;li&gt;&lt;p&gt;&lt;span&gt;Soil&lt;/span&gt;&lt;/p&gt;&lt;/li&gt;&lt;/ul&gt;&lt;p&gt;&lt;span&gt;Carbon stored in all above- and below-ground biomass (including live, dead, and litter), is calculated using volumetric estimates of carbon mass (metric tons per hectare) provided by the California Air Resources Board (CARB). These estimates will be provided for every combination of Existing Vegetation Type, Height, and Cover and assigned to each 30 by 30-meter cell in the county. The carbon values are then summed within each land cover class.&lt;/span&gt;&lt;/p&gt;&lt;p&gt;&lt;span&gt;Soil carbon values are obtained using the combined The National Cooperative Soil Survey (NCSS) Characterization Database, the National Soil Information System (NASIS), and the Rapid Carbon Assessment (RaCA) datasets. The soil carbon inventory estimates are determined by using the values provided for soil organic carbon and soil bulk density at a depth of 0-30 centimeters. The soil organic carbon estimates are calculated as described in Quantification Guidance for Use with Forest Carbon Projects report from the CAR FPP Quantification Guidance Version 4.0 (the Conversion of Organic Matter to Carbon step was skipped as the input data was provided as Soil Organic Carbon, Climate Action Reserve, 2017).&lt;/span&gt;&lt;/p&gt;&lt;p&gt;&lt;span&gt;To view the tables and for more info, please download the &lt;/span&gt;&lt;a href='&amp;amp;amp' style='text-decoration:underline;'&gt;&lt;span&gt;Report&lt;/span&gt;&lt;/a&gt;&lt;span&gt;.&lt;/span&gt;&lt;/p&gt;&lt;/div&gt;&lt;/div&gt;&lt;/div&gt;</idAbs>
</dataIdInfo>
<mdLang>
<languageCode Sync="TRUE" value="eng"/>
<countryCode Sync="TRUE" value="USA"/>
</mdLang>
<distInfo>
<distFormat>
<formatName Sync="TRUE">File Geodatabase Raster Dataset</formatName>
</distFormat>
</distInfo>
<mdHrLvName Sync="TRUE">dataset</mdHrLvName>
<refSysInfo>
<RefSystem>
<refSysID>
<identCode Sync="TRUE" code="2226"/>
<idCodeSpace Sync="TRUE">EPSG</idCodeSpace>
<idVersion Sync="TRUE">5.3(9.0.0)</idVersion>
</refSysID>
</RefSystem>
</refSysInfo>
<spdoinfo>
<rastinfo>
<rasttype Sync="TRUE">Pixel</rasttype>
<rowcount Sync="TRUE">2778</rowcount>
<colcount Sync="TRUE">3442</colcount>
<rastxsz Sync="TRUE">98.425000</rastxsz>
<rastysz Sync="TRUE">98.425000</rastysz>
<rastbpp Sync="TRUE">64</rastbpp>
<vrtcount Sync="TRUE">1</vrtcount>
<rastorig Sync="TRUE">Upper Left</rastorig>
<rastcmap Sync="TRUE">FALSE</rastcmap>
<rastcomp Sync="TRUE">LZ77</rastcomp>
<rastband Sync="TRUE">1</rastband>
<rastdtyp Sync="TRUE">pixel codes</rastdtyp>
<rastifor Sync="TRUE">FGDBR</rastifor>
<rastplyr Sync="TRUE">TRUE</rastplyr>
</rastinfo>
</spdoinfo>
<spref>
<horizsys>
<planar>
<planci>
<plance Sync="TRUE">row and column</plance>
<coordrep>
<absres Sync="TRUE">98.425000</absres>
<ordres Sync="TRUE">98.425000</ordres>
</coordrep>
</planci>
</planar>
</horizsys>
</spref>
<mdDateSt Sync="TRUE">20240418</mdDateSt>
</metadata>
