{ "currentVersion": 11.3, "serviceDescription": "
Sum of all SB450 layers.<\/SPAN><\/P><\/DIV><\/DIV>",
"name": "ROVPublic/SB450_Weighted_Sum_2023",
"description": " Sum of all SB450 layers.<\/span><\/p><\/div><\/div>",
"extent": {
"xmin": -1.3751715203200001E7,
"ymin": 4595278.148800001,
"xmax": -1.3619915203200001E7,
"ymax": 4700578.148800001,
"spatialReference": {
"wkid": 102100,
"latestWkid": 3857
}
},
"initialExtent": {
"xmin": -1.3751715203200001E7,
"ymin": 4595278.148800001,
"xmax": -1.3619915203200001E7,
"ymax": 4700578.148800001,
"spatialReference": {
"wkid": 102100,
"latestWkid": 3857
}
},
"fullExtent": {
"xmin": -1.3751715203200001E7,
"ymin": 4595278.148800001,
"xmax": -1.3619915203200001E7,
"ymax": 4700578.148800001,
"spatialReference": {
"wkid": 102100,
"latestWkid": 3857
}
},
"sortableFields": "",
"bandCount": 1,
"pixelType": "F32",
"minValues": [
5.327880382537842
],
"maxValues": [
41.057586669921875
],
"meanValues": [
13.434188829242435
],
"stdvValues": [
4.521683780186399
],
"hasMultidimensions": false,
"pixelSizeX": 100,
"pixelSizeY": 100,
"meanPixelSize": 100,
"datasetFormat": "FGDBR",
"uncompressedSize": 5551416,
"blockWidth": 128,
"blockHeight": 128,
"compressionType": "NONE",
"bandNames": [
"Band_1"
],
"allowCopy": true,
"allowAnalysis": true,
"itemAccess": false,
"inspectionCapabilities": "",
"minPixelSize": 0,
"maxPixelSize": 0,
"copyrightText": "",
"serviceDataType": "esriImageServiceDataTypeGeneric",
"serviceSourceType": "esriImageServiceSourceTypeDataset",
"objectIdField": "",
"fields": [],
"capabilities": "Image,Metadata,Mensuration",
"defaultMosaicMethod": "Center",
"allowedMosaicMethods": "",
"sortField": "",
"sortValue": null,
"sortAscending": true,
"mosaicOperator": "First",
"defaultCompressionQuality": 75,
"defaultResamplingMethod": "Bilinear",
"maxImageHeight": 4100,
"maxImageWidth": 15000,
"allowRasterFunction": true,
"rasterFunctionInfos": [
{
"name": "None",
"description": "",
"help": ""
}
],
"rasterTypeInfos": [
{
"name": "Raster Dataset",
"description": "Supports all ArcGIS Raster Datasets",
"help": ""
}
],
"mensurationCapabilities": "Basic",
"hasHistograms": true,
"hasColormap": false,
"hasRasterAttributeTable": false,
"minScale": 0,
"maxScale": 0,
"exportTilesAllowed": false,
"supportsStatistics": false,
"supportsAdvancedQueries": false,
"editFieldsInfo": null,
"ownershipBasedAccessControlForRasters": null,
"allowComputeTiePoints": false,
"useStandardizedQueries": true,
"advancedQueryCapabilities": {
"useStandardizedQueries": true,
"supportsStatistics": false,
"supportsOrderBy": false,
"supportsDistinct": false,
"supportsPagination": false
},
"spatialReference": {
"wkid": 102100,
"latestWkid": 3857
}
}