<?xml version="1.0" encoding="UTF-8" standalone="no"?>
<metadata xml:lang="en">
<Esri>
<CreaDate>20170509</CreaDate>
<CreaTime>16411000</CreaTime>
<ArcGISFormat>1.0</ArcGISFormat>
<ArcGISstyle>FGDC CSDGM Metadata</ArcGISstyle>
<SyncOnce>FALSE</SyncOnce>
<DataProperties>
<itemProps>
<itemName Sync="TRUE">Aboveground_Carbon_Mgha_2013</itemName>
<nativeExtBox>
<westBL Sync="TRUE">428220.000000</westBL>
<eastBL Sync="TRUE">569550.000000</eastBL>
<southBL Sync="TRUE">4202010.000000</southBL>
<northBL Sync="TRUE">4319550.000000</northBL>
<exTypeCode Sync="TRUE">1</exTypeCode>
</nativeExtBox>
<imsContentType Sync="TRUE">002</imsContentType>
</itemProps>
<coordRef>
<type Sync="TRUE">Projected</type>
<geogcsn Sync="TRUE">GCS_North_American_1983</geogcsn>
<csUnits Sync="TRUE">Linear Unit: Meter (1.000000)</csUnits>
<projcsn Sync="TRUE">UTM_Zone_10N</projcsn>
<peXml Sync="TRUE">&lt;ProjectedCoordinateSystem xsi:type='typens:ProjectedCoordinateSystem' xmlns:xsi='http://www.w3.org/2001/XMLSchema-instance' xmlns:xs='http://www.w3.org/2001/XMLSchema' xmlns:typens='http://www.esri.com/schemas/ArcGIS/10.7'&gt;&lt;WKT&gt;PROJCS[&amp;quot;UTM_Zone_10N&amp;quot;,GEOGCS[&amp;quot;GCS_North_American_1983&amp;quot;,DATUM[&amp;quot;D_North_American_1983&amp;quot;,SPHEROID[&amp;quot;GRS_1980&amp;quot;,6378137.0,298.257222101]],PRIMEM[&amp;quot;Greenwich&amp;quot;,0.0],UNIT[&amp;quot;Degree&amp;quot;,0.0174532925199433]],PROJECTION[&amp;quot;Transverse_Mercator&amp;quot;],PARAMETER[&amp;quot;false_easting&amp;quot;,500000.0],PARAMETER[&amp;quot;false_northing&amp;quot;,0.0],PARAMETER[&amp;quot;central_meridian&amp;quot;,-123.0],PARAMETER[&amp;quot;scale_factor&amp;quot;,0.9996],PARAMETER[&amp;quot;latitude_of_origin&amp;quot;,0.0],UNIT[&amp;quot;Meter&amp;quot;,1.0]]&lt;/WKT&gt;&lt;XOrigin&gt;-5120900&lt;/XOrigin&gt;&lt;YOrigin&gt;-9998100&lt;/YOrigin&gt;&lt;XYScale&gt;450445547.3910538&lt;/XYScale&gt;&lt;ZOrigin&gt;-100000&lt;/ZOrigin&gt;&lt;ZScale&gt;10000&lt;/ZScale&gt;&lt;MOrigin&gt;-100000&lt;/MOrigin&gt;&lt;MScale&gt;10000&lt;/MScale&gt;&lt;XYTolerance&gt;0.001&lt;/XYTolerance&gt;&lt;ZTolerance&gt;0.001&lt;/ZTolerance&gt;&lt;MTolerance&gt;0.001&lt;/MTolerance&gt;&lt;HighPrecision&gt;true&lt;/HighPrecision&gt;&lt;/ProjectedCoordinateSystem&gt;</peXml>
</coordRef>
</DataProperties>
<SyncDate>20201216</SyncDate>
<SyncTime>11105500</SyncTime>
<ModDate>20250418</ModDate>
<ModTime>7002600</ModTime>
<scaleRange>
<minScale>150000000</minScale>
<maxScale>5000</maxScale>
</scaleRange>
<ArcGISProfile>FGDC</ArcGISProfile>
</Esri>
<mdContact>
<rpIndName>Allison Schichtel</rpIndName>
<rpOrgName>Sonoma County Agricultural Preservation &amp; Open Space District</rpOrgName>
<rpPosName>Conservation GIS Analyst</rpPosName>
<role>
<RoleCd value="006">
</RoleCd>
</role>
<rpCntInfo>
<cntAddress addressType="both">
<delPoint>747 Mendocino Ave, Suite 100</delPoint>
<city>Santa Rosa</city>
<adminArea>CA</adminArea>
<postCode>95401</postCode>
<eMailAdd>Allison.Clark@sonoma-county.org</eMailAdd>
</cntAddress>
<cntPhone>
<voiceNum>7075657353</voiceNum>
</cntPhone>
</rpCntInfo>
<displayName>Allison Schichtel</displayName>
<displayName>Allison Schichtel</displayName>
</mdContact>
<dataIdInfo>
<idCitation>
<date>
<createDate>2017-05-19T00:00:00</createDate>
<pubDate>2017-05-19T00:00:00</pubDate>
<reviseDate>2017-05-19T00:00:00</reviseDate>
</date>
<resEdDate>20170519</resEdDate>
<citRespParty>
<rpIndName>Allison Schichtel</rpIndName>
<rpOrgName>Sonoma County Agricultural Preservation &amp; Open Space District</rpOrgName>
<rpPosName>Conservation GIS Analyst</rpPosName>
<role>
<RoleCd value="006">
</RoleCd>
</role>
<rpCntInfo>
<cntAddress>
<delPoint>747 Mendocino Ave, Suite 100</delPoint>
<city>Santa Rosa</city>
<adminArea>CA</adminArea>
<postCode>95401</postCode>
<eMailAdd>Allison.Clark@sonoma-county.org</eMailAdd>
</cntAddress>
<cntPhone>
<voiceNum>7075657353</voiceNum>
</cntPhone>
</rpCntInfo>
<displayName>Allison Schichtel</displayName>
</citRespParty>
<resTitle Sync="FALSE">Aboveground_Carbon_Mgha_2013</resTitle>
<presForm>
<PresFormCd Sync="TRUE" value="011">
</PresFormCd>
</presForm>
</idCitation>
<idPurp>This data set provides 30-meter gridded estimates of aboveground carbon density (AGB) in metric tons per hectare (Mg/ha) for the County of Sonoma in 2013. Leaf-on LiDAR data were combined with high-resolution agricultural imagery to select 179 field sampling sites for biomass measurements. The field-based estimates were related to LiDAR height and volume metrics through random forests regression models across the Sonoma County.</idPurp>
<idAbs>&lt;div style='text-align:Left;'&gt;&lt;div&gt;&lt;div&gt;&lt;p&gt;&lt;span&gt;The NASA Carbon Monitoring System (CMS) is designed to make significant contributions in characterizing, quantifying, understanding, and predicting the evolution of global carbon sources and sinks through improved monitoring of carbon stocks and fluxes. The System will use the full range of NASA satellite observations and modeling/analysis capabilities to establish the accuracy, quantitative uncertainties, and utility of products for supporting national and international policy, regulatory, and management activities. CMS will maintain a global emphasis while providing finer scale regional information, utilizing space-based and surface-based data and will rapidly initiate generation and distribution of products both for user evaluation and to inform near-term policy development and planning. &lt;/span&gt;&lt;/p&gt;&lt;p&gt;&lt;span&gt;Funding for this work came from the NASA Carbon Monitoring system (CMS) project (NNX13AP69G, Dr. Ralph Dubayah and Dr. George Hurtt, Principal Investigators). The data set was developed through collaboration between the University of Maryland, the University of Vermont, and the USDA Forest Service. &lt;/span&gt;&lt;/p&gt;&lt;p&gt;&lt;span&gt;The datasheet for this product is available here:&lt;/span&gt;&lt;/p&gt;&lt;p&gt;&lt;span&gt;https://sonomaopenspace.egnyte.com/dl/GUj8b4EjCR&lt;/span&gt;&lt;/p&gt;&lt;p&gt;&lt;span /&gt;&lt;/p&gt;&lt;/div&gt;&lt;/div&gt;&lt;/div&gt;</idAbs>
<idCredit>Dubayah, R.O., A. Swatantran, W. Huang, L. Duncanson, K. Johnson, H. Tang, J.O. Dunne, and G.C. Hurtt. 2016. CMS: LiDAR-derived Aboveground Biomass, Canopy Height and Cover for Sonoma County, 2013.</idCredit>
<searchKeys>
<keyword>Sonoma</keyword>
<keyword>Aboveground Carbon</keyword>
<keyword>Random Forest</keyword>
</searchKeys>
<idPoC>
<rpIndName>Allison Schichtel</rpIndName>
<rpOrgName>Sonoma County Agricultural Preservation &amp; Open Space District</rpOrgName>
<rpPosName>Conservation GIS Analyst</rpPosName>
<role>
<RoleCd value="006">
</RoleCd>
</role>
<rpCntInfo>
<cntAddress addressType="both">
<delPoint>747 Mendocino Ave, Suite 100</delPoint>
<city>Santa Rosa</city>
<adminArea>CA</adminArea>
<postCode>95401</postCode>
<eMailAdd>Allison.Clark@sonoma-county.org</eMailAdd>
</cntAddress>
<cntPhone>
<voiceNum>7075657353</voiceNum>
</cntPhone>
</rpCntInfo>
</idPoC>
<dataChar>
<CharSetCd value="004">
</CharSetCd>
</dataChar>
<resMaint>
<maintFreq>
<MaintFreqCd value="012">
</MaintFreqCd>
</maintFreq>
</resMaint>
<envirDesc Sync="FALSE">Esri ArcGIS 10.7.1.11595</envirDesc>
<dataLang>
<languageCode Sync="TRUE" value="eng">
</languageCode>
<countryCode Sync="TRUE" value="USA">
</countryCode>
</dataLang>
<spatRpType>
<SpatRepTypCd Sync="TRUE" value="002">
</SpatRepTypCd>
</spatRpType>
<dataExt>
<geoEle>
<GeoBndBox esriExtentType="search">
<exTypeCode Sync="TRUE">1</exTypeCode>
<westBL Sync="TRUE">-123.829199</westBL>
<eastBL Sync="TRUE">-122.196560</eastBL>
<northBL Sync="TRUE">39.024992</northBL>
<southBL Sync="TRUE">37.962868</southBL>
</GeoBndBox>
</geoEle>
</dataExt>
<resConst>
<Consts>
<useLimit/>
</Consts>
</resConst>
</dataIdInfo>
<spatRepInfo>
<Georect>
<axisDimension type="002">
</axisDimension>
<axisDimension type="001">
</axisDimension>
</Georect>
</spatRepInfo>
<contInfo>
<ImgDesc>
<covDim>
<Band>
<valUnit>
<UOM type="length">
</UOM>
</valUnit>
</Band>
</covDim>
</ImgDesc>
</contInfo>
<mdLang>
<languageCode Sync="TRUE" value="eng">
</languageCode>
<countryCode Sync="TRUE" value="USA">
</countryCode>
</mdLang>
<distInfo>
<distFormat>
<formatName Sync="TRUE">File Geodatabase Raster Dataset</formatName>
</distFormat>
</distInfo>
<mdHrLv>
<ScopeCd Sync="TRUE" value="005">
</ScopeCd>
</mdHrLv>
<mdHrLvName Sync="TRUE">dataset</mdHrLvName>
<refSysInfo>
<RefSystem>
<refSysID>
<identCode Sync="TRUE" code="0">
</identCode>
</refSysID>
</RefSystem>
</refSysInfo>
<spdoinfo>
<rastinfo>
<rasttype Sync="TRUE">Pixel</rasttype>
<rowcount Sync="TRUE">3918</rowcount>
<colcount Sync="TRUE">4711</colcount>
<rastxsz Sync="TRUE">30.000000</rastxsz>
<rastysz Sync="TRUE">30.000000</rastysz>
<rastbpp Sync="TRUE">64</rastbpp>
<vrtcount Sync="TRUE">1</vrtcount>
<rastorig Sync="TRUE">Upper Left</rastorig>
<rastcmap Sync="TRUE">FALSE</rastcmap>
<rastcomp Sync="TRUE">LZ77</rastcomp>
<rastband Sync="TRUE">1</rastband>
<rastdtyp Sync="TRUE">pixel codes</rastdtyp>
<rastifor Sync="TRUE">FGDBR</rastifor>
<rastplyr Sync="TRUE">TRUE</rastplyr>
</rastinfo>
</spdoinfo>
<spref>
<horizsys>
<planar>
<planci>
<plance Sync="TRUE">row and column</plance>
<coordrep>
<absres Sync="TRUE">30.000000</absres>
<ordres Sync="TRUE">30.000000</ordres>
</coordrep>
</planci>
</planar>
</horizsys>
</spref>
<mdDateSt Sync="TRUE">20250418</mdDateSt>
</metadata>
