{ "currentVersion": 11.3, "serviceDescription": "
Drone imagery of wildfire (2017) damage to Journey's End mobile home park in Sonoma County, CA.<\/span><\/p><\/div><\/div>",
"name": "Rasters/Complex_Fire_2017_Journeys_End_Drone_Imagery",
"description": " Drone imagery of wildfire (2017) damage to Journey's End mobile home park in Sonoma County, CA.<\/span><\/p><\/div><\/div>",
"extent": {
"xmin": -1.3662306757804934E7,
"ymin": 4646363.049875607,
"xmax": -1.3661889563907517E7,
"ymax": 4646696.472820908,
"spatialReference": {
"wkid": 102100,
"latestWkid": 3857
}
},
"initialExtent": {
"xmin": -1.3662306757804934E7,
"ymin": 4646363.049875607,
"xmax": -1.3661889563907517E7,
"ymax": 4646696.472820908,
"spatialReference": {
"wkid": 102100,
"latestWkid": 3857
}
},
"fullExtent": {
"xmin": -1.3662306757804934E7,
"ymin": 4646363.049875607,
"xmax": -1.3661889563907517E7,
"ymax": 4646696.472820908,
"spatialReference": {
"wkid": 102100,
"latestWkid": 3857
}
},
"sortableFields": "",
"bandCount": 3,
"pixelType": "U8",
"minValues": [],
"maxValues": [],
"meanValues": [],
"stdvValues": [],
"hasMultidimensions": false,
"pixelSizeX": 0.01866138385296185,
"pixelSizeY": 0.018661383852971874,
"meanPixelSize": 0.01866138385296686,
"datasetFormat": "AFR",
"uncompressedSize": 1198303956,
"blockWidth": 256,
"blockHeight": 256,
"compressionType": "None",
"bandNames": [
"Band_1",
"Band_2",
"Band_3"
],
"allowCopy": true,
"allowAnalysis": true,
"itemAccess": false,
"inspectionCapabilities": "",
"minPixelSize": 0,
"maxPixelSize": 0,
"copyrightText": "",
"serviceDataType": "esriImageServiceDataTypeRGB",
"serviceSourceType": "esriImageServiceSourceTypeDataset",
"objectIdField": "",
"fields": [],
"capabilities": "Mensuration,Image,Metadata",
"defaultMosaicMethod": "Center",
"allowedMosaicMethods": "",
"sortField": "",
"sortValue": null,
"sortAscending": true,
"mosaicOperator": "First",
"defaultCompressionQuality": 75,
"defaultResamplingMethod": "Bilinear",
"maxImageHeight": 4100,
"maxImageWidth": 15000,
"allowRasterFunction": true,
"rasterFunctionInfos": [
{
"name": "None",
"description": "",
"help": ""
}
],
"rasterTypeInfos": [
{
"name": "Raster Dataset",
"description": "Supports all ArcGIS Raster Datasets",
"help": ""
}
],
"mensurationCapabilities": "Basic",
"hasHistograms": false,
"hasColormap": false,
"hasRasterAttributeTable": false,
"minScale": 0,
"maxScale": 0,
"exportTilesAllowed": false,
"supportsStatistics": false,
"supportsAdvancedQueries": false,
"editFieldsInfo": null,
"ownershipBasedAccessControlForRasters": null,
"allowComputeTiePoints": false,
"useStandardizedQueries": true,
"advancedQueryCapabilities": {
"useStandardizedQueries": true,
"supportsStatistics": false,
"supportsOrderBy": false,
"supportsDistinct": false,
"supportsPagination": false
},
"spatialReference": {
"wkid": 102100,
"latestWkid": 3857
},
"resampling": false
}