{ "currentVersion": 11.3, "serviceDescription": "
Post event imagery collected by Digital Globe on Oct 13, 2017<\/span><\/p><\/div><\/div>",
"name": "Rasters/Complex_Fire_2017_Oct_13_2017_Imagery",
"description": " Post event imagery collected by Digital Globe on Oct 13, 2017<\/span><\/p><\/div><\/div>",
"extent": {
"xmin": -1.3678896485452235E7,
"ymin": 4589803.49320694,
"xmax": -1.3591016893776083E7,
"ymax": 4684087.970403574,
"spatialReference": {
"wkid": 102100,
"latestWkid": 3857
}
},
"initialExtent": {
"xmin": -1.3678896485452235E7,
"ymin": 4589803.49320694,
"xmax": -1.3591016893776083E7,
"ymax": 4684087.970403574,
"spatialReference": {
"wkid": 102100,
"latestWkid": 3857
}
},
"fullExtent": {
"xmin": -1.3678896485452235E7,
"ymin": 4589803.49320694,
"xmax": -1.3591016893776083E7,
"ymax": 4684087.970403574,
"spatialReference": {
"wkid": 102100,
"latestWkid": 3857
}
},
"sortableFields": "",
"bandCount": 3,
"pixelType": "U8",
"minValues": [],
"maxValues": [],
"meanValues": [],
"stdvValues": [],
"hasMultidimensions": false,
"pixelSizeX": 0.2985821416476163,
"pixelSizeY": 0.2985821416476174,
"meanPixelSize": 0.29858214164761687,
"datasetFormat": "AFR",
"uncompressedSize": 278818653006,
"blockWidth": 256,
"blockHeight": 256,
"compressionType": "None",
"bandNames": [
"Band_1",
"Band_2",
"Band_3"
],
"allowCopy": true,
"allowAnalysis": true,
"itemAccess": false,
"inspectionCapabilities": "",
"minPixelSize": 0,
"maxPixelSize": 0,
"copyrightText": "",
"serviceDataType": "esriImageServiceDataTypeRGB",
"serviceSourceType": "esriImageServiceSourceTypeDataset",
"objectIdField": "",
"fields": [],
"capabilities": "Mensuration,Image,Metadata",
"defaultMosaicMethod": "Center",
"allowedMosaicMethods": "",
"sortField": "",
"sortValue": null,
"sortAscending": true,
"mosaicOperator": "First",
"defaultCompressionQuality": 75,
"defaultResamplingMethod": "Bilinear",
"maxImageHeight": 4100,
"maxImageWidth": 15000,
"allowRasterFunction": true,
"rasterFunctionInfos": [
{
"name": "None",
"description": "",
"help": ""
}
],
"rasterTypeInfos": [
{
"name": "Raster Dataset",
"description": "Supports all ArcGIS Raster Datasets",
"help": ""
}
],
"mensurationCapabilities": "Basic",
"hasHistograms": false,
"hasColormap": false,
"hasRasterAttributeTable": false,
"minScale": 0,
"maxScale": 0,
"exportTilesAllowed": false,
"supportsStatistics": false,
"supportsAdvancedQueries": false,
"editFieldsInfo": null,
"ownershipBasedAccessControlForRasters": null,
"allowComputeTiePoints": false,
"useStandardizedQueries": true,
"advancedQueryCapabilities": {
"useStandardizedQueries": true,
"supportsStatistics": false,
"supportsOrderBy": false,
"supportsDistinct": false,
"supportsPagination": false
},
"spatialReference": {
"wkid": 102100,
"latestWkid": 3857
},
"resampling": false
}