{ "currentVersion": 11.3, "serviceDescription": "
Imagery provided by Digital Globe open data program.<\/span><\/p> 103001007301E000<\/span><\/p> 10300100745BA400<\/span><\/p> https://www.digitalglobe.com/opendata/santa-rosa-wildfires/post-event<\/span><\/p><\/div><\/div><\/div>",
"name": "Rasters/Complex_Fire_2017_Oct_17_2017_Imagery",
"description": "",
"extent": {
"xmin": -1.3687731531023588E7,
"ymin": 4599863.024141189,
"xmax": -1.3624028135356644E7,
"ymax": 4712443.420649422,
"spatialReference": {
"wkid": 102100,
"latestWkid": 3857
}
},
"initialExtent": {
"xmin": -1.3687731531023588E7,
"ymin": 4599863.024141189,
"xmax": -1.3624028135356644E7,
"ymax": 4712443.420649422,
"spatialReference": {
"wkid": 102100,
"latestWkid": 3857
}
},
"fullExtent": {
"xmin": -1.3687731531023588E7,
"ymin": 4599863.024141189,
"xmax": -1.3624028135356644E7,
"ymax": 4712443.420649422,
"spatialReference": {
"wkid": 102100,
"latestWkid": 3857
}
},
"sortableFields": "",
"bandCount": 3,
"pixelType": "U8",
"minValues": [],
"maxValues": [],
"meanValues": [],
"stdvValues": [],
"hasMultidimensions": false,
"pixelSizeX": 0.2985821416476162,
"pixelSizeY": 0.29858214164761604,
"meanPixelSize": 0.2985821416476161,
"datasetFormat": "AFR",
"uncompressedSize": 241334245950,
"blockWidth": 256,
"blockHeight": 256,
"compressionType": "None",
"bandNames": [
"Band_1",
"Band_2",
"Band_3"
],
"allowCopy": true,
"allowAnalysis": true,
"itemAccess": false,
"inspectionCapabilities": "",
"minPixelSize": 0,
"maxPixelSize": 0,
"copyrightText": "",
"serviceDataType": "esriImageServiceDataTypeRGB",
"serviceSourceType": "esriImageServiceSourceTypeDataset",
"objectIdField": "",
"fields": [],
"capabilities": "Mensuration,Image,Metadata",
"defaultMosaicMethod": "Center",
"allowedMosaicMethods": "",
"sortField": "",
"sortValue": null,
"sortAscending": true,
"mosaicOperator": "First",
"defaultCompressionQuality": 75,
"defaultResamplingMethod": "Bilinear",
"maxImageHeight": 4100,
"maxImageWidth": 15000,
"allowRasterFunction": true,
"rasterFunctionInfos": [
{
"name": "None",
"description": "",
"help": ""
}
],
"rasterTypeInfos": [
{
"name": "Raster Dataset",
"description": "Supports all ArcGIS Raster Datasets",
"help": ""
}
],
"mensurationCapabilities": "Basic",
"hasHistograms": false,
"hasColormap": false,
"hasRasterAttributeTable": false,
"minScale": 0,
"maxScale": 0,
"exportTilesAllowed": false,
"supportsStatistics": false,
"supportsAdvancedQueries": false,
"editFieldsInfo": null,
"ownershipBasedAccessControlForRasters": null,
"allowComputeTiePoints": false,
"useStandardizedQueries": true,
"advancedQueryCapabilities": {
"useStandardizedQueries": true,
"supportsStatistics": false,
"supportsOrderBy": false,
"supportsDistinct": false,
"supportsPagination": false
},
"spatialReference": {
"wkid": 102100,
"latestWkid": 3857
},
"resampling": false
}