<?xml version="1.0" encoding="UTF-8" standalone="no"?>
<metadata xml:lang="en">
<Esri>
<CreaDate>20200901</CreaDate>
<CreaTime>07433100</CreaTime>
<ArcGISFormat>1.0</ArcGISFormat>
<SyncOnce>FALSE</SyncOnce>
<DataProperties>
<itemProps>
<itemName Sync="TRUE">Lidar_Canopy_Density_2013</itemName>
<itemLocation>
<protocol Sync="TRUE">Local Area Network</protocol>
</itemLocation>
<nativeExtBox>
<westBL Sync="TRUE">6119016.999954</westBL>
<eastBL Sync="TRUE">6497016.999954</eastBL>
<southBL Sync="TRUE">1797202.000025</southBL>
<northBL Sync="TRUE">2250802.000025</northBL>
<exTypeCode Sync="TRUE">1</exTypeCode>
</nativeExtBox>
<imsContentType export="False"/>
</itemProps>
<coordRef>
<type Sync="TRUE">Projected</type>
<geogcsn Sync="TRUE">GCS_NAD_1983_2011</geogcsn>
<csUnits Sync="TRUE">Linear Unit: Foot_US (0.304801)</csUnits>
<projcsn Sync="TRUE">NAD_1983_StatePlane_California_II_FIPS_0402_Feet_2011</projcsn>
<peXml Sync="TRUE">&lt;ProjectedCoordinateSystem xsi:type='typens:ProjectedCoordinateSystem' xmlns:xsi='http://www.w3.org/2001/XMLSchema-instance' xmlns:xs='http://www.w3.org/2001/XMLSchema' xmlns:typens='http://www.esri.com/schemas/ArcGIS/3.4.0'&gt;&lt;WKT&gt;PROJCS[&amp;quot;NAD_1983_StatePlane_California_II_FIPS_0402_Feet_2011&amp;quot;,GEOGCS[&amp;quot;GCS_NAD_1983_2011&amp;quot;,DATUM[&amp;quot;D_NAD_1983_2011&amp;quot;,SPHEROID[&amp;quot;GRS_1980&amp;quot;,6378137.0,298.257222101]],PRIMEM[&amp;quot;Greenwich&amp;quot;,0.0],UNIT[&amp;quot;Degree&amp;quot;,0.0174532925199433]],PROJECTION[&amp;quot;Lambert_Conformal_Conic&amp;quot;],PARAMETER[&amp;quot;false_easting&amp;quot;,6561666.666666666],PARAMETER[&amp;quot;false_northing&amp;quot;,1640416.666666667],PARAMETER[&amp;quot;central_meridian&amp;quot;,-122.0],PARAMETER[&amp;quot;standard_parallel_1&amp;quot;,38.33333333333334],PARAMETER[&amp;quot;standard_parallel_2&amp;quot;,39.83333333333334],PARAMETER[&amp;quot;latitude_of_origin&amp;quot;,37.66666666666666],UNIT[&amp;quot;Foot_US&amp;quot;,0.3048006096012192]]&lt;/WKT&gt;&lt;XOrigin&gt;-115211800&lt;/XOrigin&gt;&lt;YOrigin&gt;-93821500&lt;/YOrigin&gt;&lt;XYScale&gt;36983428.057351544&lt;/XYScale&gt;&lt;ZOrigin&gt;-100000&lt;/ZOrigin&gt;&lt;ZScale&gt;10000&lt;/ZScale&gt;&lt;MOrigin&gt;-100000&lt;/MOrigin&gt;&lt;MScale&gt;10000&lt;/MScale&gt;&lt;XYTolerance&gt;0.0032808333333333331&lt;/XYTolerance&gt;&lt;ZTolerance&gt;0.001&lt;/ZTolerance&gt;&lt;MTolerance&gt;0.001&lt;/MTolerance&gt;&lt;HighPrecision&gt;true&lt;/HighPrecision&gt;&lt;/ProjectedCoordinateSystem&gt;</peXml>
</coordRef>
<RasterProperties>
<General>
<PixelDepth Sync="TRUE">32</PixelDepth>
<HasColormap Sync="TRUE">FALSE</HasColormap>
<CompressionType Sync="TRUE">None</CompressionType>
<NumBands Sync="TRUE">1</NumBands>
<Format Sync="TRUE">AMD</Format>
<HasPyramids Sync="TRUE">TRUE</HasPyramids>
<SourceType Sync="TRUE">continuous</SourceType>
<PixelType Sync="TRUE">floating point</PixelType>
<NoDataValue Sync="TRUE"/>
</General>
<Properties>
<MaxImageHeight Sync="TRUE">4100</MaxImageHeight>
<MaxImageWidth Sync="TRUE">15000</MaxImageWidth>
<MaxRecordCount Sync="TRUE">1000</MaxRecordCount>
<MaxDownloadImageCount Sync="TRUE">20</MaxDownloadImageCount>
<MaxDownloadSizeLimit Sync="TRUE">2048</MaxDownloadSizeLimit>
<MaxMosaicImageCount Sync="TRUE">20</MaxMosaicImageCount>
<DefaultCompressionQuality Sync="TRUE">75</DefaultCompressionQuality>
<DefaultCompressionTolerance Sync="TRUE">0.01</DefaultCompressionTolerance>
<BlendWidth Sync="TRUE">10</BlendWidth>
<ViewpointSpacingX Sync="TRUE">600</ViewpointSpacingX>
<ViewpointSpacingY Sync="TRUE">300</ViewpointSpacingY>
<AllowedItemMetadata Sync="TRUE">Basic</AllowedItemMetadata>
<DefaultResamplingMethod Sync="TRUE">1</DefaultResamplingMethod>
<AllowedMosaicMethods Sync="TRUE">NorthWest,Center,LockRaster,ByAttribute,Nadir,Viewpoint,Seamline,None</AllowedMosaicMethods>
<AllowedCompressions Sync="TRUE">None,JPEG,LZ77,LERC</AllowedCompressions>
<AllowedMensurationCapabilities Sync="TRUE">Basic</AllowedMensurationCapabilities>
<AvailableMensurationCapabilities Sync="TRUE">None,Basic,Base-Top Height,Top-Top Shadow Height,Base-Top Shadow Height,3D</AvailableMensurationCapabilities>
<ClipToBoundary Sync="TRUE">-1</ClipToBoundary>
<FootprintMayContainNoData Sync="TRUE">-1</FootprintMayContainNoData>
<CellSizeTolerance Sync="TRUE">0.8</CellSizeTolerance>
<MinimumPixelContribution Sync="TRUE">1</MinimumPixelContribution>
<AvailableMosaicMethods Sync="TRUE">NorthWest,Center,LockRaster,ByAttribute,Nadir,Viewpoint,Seamline,None</AvailableMosaicMethods>
<AvailableCompressionMethods Sync="TRUE">None,JPEG,LZ77,LERC</AvailableCompressionMethods>
<AvailableItemMetadataLevels Sync="TRUE">None,Basic,Full</AvailableItemMetadataLevels>
<ConfigKeyword Sync="TRUE"/>
<BandDefinitionKeyword Sync="TRUE">NONE</BandDefinitionKeyword>
<AllowedFields Sync="TRUE">Name,MinPS,MaxPS,LowPS,HighPS,Tag,GroupName,ProductName,CenterX,CenterY,ZOrder,Shape_Length,Shape_Area</AllowedFields>
<MaxCellSize Sync="TRUE">97200</MaxCellSize>
<LowCellSize Sync="TRUE">3</LowCellSize>
<HighCellSize Sync="TRUE">1944</HighCellSize>
<_docversion_ Sync="TRUE">9</_docversion_>
</Properties>
<Functions Sync="TRUE">
<Function Description="Performs on-the-fly mosaic on a raster catalog." Name="Mosaic Function"/>
</Functions>
</RasterProperties>
</DataProperties>
<SyncDate>20250411</SyncDate>
<SyncTime>13285100</SyncTime>
<ModDate>20250411</ModDate>
<ModTime>13285100</ModTime>
<ArcGISstyle>FGDC CSDGM MetadataVerify - ISD GIS</ArcGISstyle>
<scaleRange>
<minScale>50000</minScale>
<maxScale>5000</maxScale>
</scaleRange>
<ArcGISProfile>NAP</ArcGISProfile>
</Esri>
<mdLang>
<languageCode value="eng"/>
<countryCode Sync="TRUE" value="USA"/>
</mdLang>
<mdChar>
<CharSetCd value="004"/>
</mdChar>
<mdHrLv>
<ScopeCd value="005"/>
</mdHrLv>
<mdContact>
<rpOrgName>Watershed Sciences, Inc. (WSI)</rpOrgName>
<rpCntInfo>
<cntPhone>
<voiceNum>503-505-5100</voiceNum>
<faxNum>503-546-6801</faxNum>
</cntPhone>
<cntAddress addressType="physical">
<delPoint>421 S.W. 6th Ave., Suite 800</delPoint>
<city>Portland</city>
<adminArea>OR</adminArea>
<postCode>97204</postCode>
<country>US</country>
</cntAddress>
</rpCntInfo>
<role>
<RoleCd value="007"/>
</role>
</mdContact>
<mdDateSt Sync="TRUE">20250411</mdDateSt>
<mdStanName>ArcGIS Metadata</mdStanName>
<mdStanVer>1.0</mdStanVer>
<distInfo>
<distributor>
<distorCont>
<rpOrgName>Sonoma County Agricultural Preservation and Open Space District</rpOrgName>
<rpCntInfo>
<cntPhone>
<voiceNum>(707) 565-7369</voiceNum>
</cntPhone>
<cntAddress addressType="both">
<delPoint>747 Mendocino Ave, Suite 100</delPoint>
<city>Santa Rosa</city>
<adminArea>CA</adminArea>
<postCode>95401</postCode>
<country>US</country>
</cntAddress>
</rpCntInfo>
<role>
<RoleCd value="005"/>
</role>
</distorCont>
</distributor>
</distInfo>
<dataIdInfo>
<idCitation>
<resTitle Sync="FALSE">Lidar_Canopy_Density_2013</resTitle>
<date>
<pubDate>2014-02-19</pubDate>
</date>
<citRespParty>
<rpOrgName>Sonoma County Vegetation Mapping and LiDAR Program</rpOrgName>
<role>
<RoleCd value="006"/>
</role>
</citRespParty>
<presForm>
<PresFormCd value="005"/>
</presForm>
<presForm>
<fgdcGeoform>raster digital data</fgdcGeoform>
</presForm>
</idCitation>
<idAbs>&lt;div style='text-align:Left;'&gt;&lt;div&gt;&lt;div&gt;&lt;p style='margin:0 0 11 0;'&gt;&lt;span&gt;This intensity raster depicts the aboveground LiDAR return to the total count LiDAR return and provides a ratio of the two from 0.0 to 1.0, where 0.0 represents no canopy and 1.0 very dense canopy. Each image corresponds to a 37,800-square-foot tile. Each pixel is 3 feet and represents an average intensity for that area. The specified coordinate system for this dataset is California State Plane Zone II (FIPS 0402), NAD83 (2011), with units in US Survey Feet for horizontal, and vertical units are NAVD88 (12A) US Survey Feet. The dataset encompasses all of Sonoma County. WSI collected the LiDAR and created this data set for the Sonoma County Vegetation Mapping and LiDAR Consortium.&lt;/span&gt;&lt;/p&gt;&lt;p style='margin:0 0 11 0;'&gt;&lt;span /&gt;&lt;/p&gt;&lt;p&gt;&lt;span /&gt;&lt;/p&gt;&lt;/div&gt;&lt;/div&gt;&lt;/div&gt;</idAbs>
<idPurp>The Sonoma County Vegetation Mapping and LiDAR Program (http://sonomavegmap.org) and the University of Maryland (under grant NNX13AP69G from NASA’s Carbon Monitoring System, Dr. Ralph Dubayah, PI) contracted LiDAR and orthophoto data collection for all of Sonoma County in late 2013. Also included in the data collection were two areas in Mendocino County - the Soda Spring Creek-Dry Creek Watershed and Lake Mendocino. This fine scale data will help provide an accurate, up-to-date inventory of the county’s landscape features, ecological communities and habitats. Project funders include: NASA, the University of Maryland, the Sonoma County Agricultural Preservation and Open Space District, the Sonoma County Water Agency, the California Department of Fish and Wildlife, the United States Geological Survey, the Sonoma County Information Systems Department, the Sonoma County Transportation and Public Works Department, the Nature Conservancy, and the City of Petaluma.
A pixel value of 0.0 represents no canopy and a pixel value of 1.0 represents very dense canopy.</idPurp>
<idCredit>Sonoma County Vegetation Mapping and LiDAR Consortium, NASA, University of Maryland, Watershed Sciences, Inc., Tukman Geospatial LLC</idCredit>
<idStatus>
<ProgCd value="001"/>
</idStatus>
<resMaint>
<maintFreq>
<MaintFreqCd value="011"/>
</maintFreq>
</resMaint>
<placeKeys>
<keyword>Sonoma County, Lake Mendocino, Sonoma Lake Watershed</keyword>
</placeKeys>
<themeKeys>
<keyword>LiDAR, Light Detection And Ranging</keyword>
</themeKeys>
<searchKeys>
<keyword>LiDAR</keyword>
<keyword>Light Detection And Ranging</keyword>
<keyword>Sonoma County</keyword>
<keyword>Lake Mendocino</keyword>
<keyword>Sonoma Lake Watershed</keyword>
</searchKeys>
<resConst>
<LegConsts>
<useLimit>Data were provided by the University of Maryland and the Sonoma County Vegetation Mapping and LiDAR Program (http://sonomavegmap.org) under grant NNX13AP69G from NASA’s Carbon Monitoring System (Dr. Ralph Dubayah, PI). This data is available for unrestricted public use. However, users should acknowledge the source of the data in any reports, publications, or presentations where the data is used.</useLimit>
</LegConsts>
</resConst>
<resConst>
<Consts>
<useLimit>&lt;div style='text-align:Left;'&gt;&lt;div&gt;&lt;div&gt;&lt;p&gt;&lt;span style='font-size:10pt'&gt;Data were provided by the University of Maryland and the Sonoma County Vegetation Mapping and LiDAR Program (http://sonomavegmap.org) under grant NNX13AP69G from NASA’s Carbon Monitoring System (Dr. Ralph Dubayah, PI). &lt;/span&gt;&lt;/p&gt;&lt;p&gt;&lt;span style='font-size:10pt'&gt;You are free to: Share - copy and redistribute the data in any medium or format. Adapt - You may make derivative works, transform, and build upon the data for any purpose, even commercial. The licensor cannot revoke these freedoms as long as you follow the license terms.&lt;/span&gt;&lt;/p&gt;&lt;p&gt;&lt;span style='font-size:10pt'&gt;License terms: Attribution - You must give appropriate credit (if supplied, you must provide the name of the creator and attribution parties, a copyright notice, a license notice, a disclaimer notice and a link to the material) and indicate if any changes were made. You may do so in any reasonable manner, but not in any way that suggests the licensor endorses you, your organization, or your use of the data. ShareAlike - if you modify, transform, or build on the data, you must distribute your contributions under the same license as the original.&lt;/span&gt;&lt;/p&gt;&lt;p&gt;&lt;span style='font-size:10pt'&gt;No additional Restrictions - You may not apply legal terms or technological measures that legally restrict others form doing anything the license permits.&lt;/span&gt;&lt;/p&gt;&lt;p&gt;&lt;span style='font-size:10pt'&gt;Notices: You do not have to comply with the license for elements of the material in the public domain or where your use is permitted by an applicable exception or limitation. No warranties are given. The license may not give you all of the permissions necessary for your intended use. For example, other rights such as publicity, privacy, or moral rights may limit how you use the data.&lt;/span&gt;&lt;/p&gt;&lt;p&gt;&lt;span style='font-size:10pt'&gt;EXCEPT TO THE EXTENT REQUIRED BY APPLICABLE LAW, IN NO EVENT WILL LICENSOR BE LIABLE TO YOU ON ANY LEGAL THEORY FOR ANY SPECIAL, INCIDENTAL, CONSEQUENTIAL, PUNITIVE OR EXEMPLARY DAMAGES ARISING OUT OF THIS LICENSE OR THE USE OF THE DATA, EVEN IF LICENSOR HAS BEEN ADVISED OF THE POSSIBILITY OF SUCH DAMAGES.&lt;/span&gt;&lt;/p&gt;&lt;p&gt;&lt;span style='font-size:10pt'&gt;The above is an easily understandable summary of and not a substitute for the license and disclaimer for the Attribution-ShareAlike 3.0 United States (CC BY-SA 3.0 US) the full text is available at creativecommons.org.&lt;/span&gt;&lt;/p&gt;&lt;p&gt;&lt;span style='font-size:10pt'&gt;https://creativecommons.org/licenses/by-sa/3.0/us/legalcode&lt;/span&gt;&lt;/p&gt;&lt;/div&gt;&lt;/div&gt;&lt;/div&gt;</useLimit>
</Consts>
</resConst>
<dataLang>
<languageCode value="eng"/>
<countryCode Sync="TRUE" value="USA"/>
</dataLang>
<dataExt>
<exDesc>Ground Condition - LiDAR: Leica ALS50 &amp; Leica ALS70</exDesc>
<tempEle>
<TempExtent>
<exTemp>
<TM_Period>
<tmBegin>2013-09-28</tmBegin>
<tmEnd>2013-11-26</tmEnd>
</TM_Period>
</exTemp>
</TempExtent>
</tempEle>
</dataExt>
<dataExt>
<geoEle>
<GeoBndBox>
<westBL>-123.238581</westBL>
<eastBL>-122.390681</eastBL>
<southBL>38.298129</southBL>
<northBL>38.511668</northBL>
</GeoBndBox>
</geoEle>
</dataExt>
<envirDesc Sync="TRUE">Microsoft Windows Server 2016 Technical Preview Version 10.0 (Build 17763) ; Esri ArcGIS 13.4.0.55405</envirDesc>
<spatRpType>
<SpatRepTypCd Sync="TRUE" value="002"/>
</spatRpType>
<dataExt>
<geoEle>
<GeoBndBox esriExtentType="search">
<exTypeCode Sync="TRUE">1</exTypeCode>
<westBL Sync="TRUE">-123.565031</westBL>
<eastBL Sync="TRUE">-122.224633</eastBL>
<northBL Sync="TRUE">39.342439</northBL>
<southBL Sync="TRUE">38.086871</southBL>
</GeoBndBox>
</geoEle>
</dataExt>
<dataChar>
<CharSetCd value="004"/>
</dataChar>
<suppInfo>A pixel value of 0.0 represents no canopy and a pixel value of 1.0 represents very dense canopy.</suppInfo>
<tpCat>
<TopicCatCd value="002"/>
</tpCat>
<tpCat>
<TopicCatCd value="007"/>
</tpCat>
</dataIdInfo>
<dqInfo>
<dqScope>
<scpLvl>
<ScopeCd value="005"/>
</scpLvl>
</dqScope>
<report type="DQConcConsis">
<measDesc>LiDAR has been collected and processed throughout study area. Some elevation units have been interpolated across areas in the ground model where there are no elevation data (e.g., over water, over dense vegetation). In some areas of heavy vegetation and forest cover, there may be relatively few ground points in the LiDAR data. TINing the points produces large triangles and hence the elevations may be less accurate within such areas. In some areas with large bodies of water, competing water surface levels may be visible. This is due to seasonal water level fluctuation and intervals of time between acquisition of an area.</measDesc>
</report>
<report type="DQCompOm">
<measDesc>LiDAR has been collected and processed for all areas within the project study Area. For Canopy Cover, First-Return, only the highest hits, are shown (e.g. tree-tops, roofs, etc.). LiDAR flight lines have been examined to ensure that there was at least 60% sidelap, there are no gaps between flightlines, and overlapping flightlines have consistent elevation values. Shaded relief images have been visually inspected for data errors such as pits, border artifacts, gaps, and shifting. The data was examined at a 1:3000 scale.</measDesc>
</report>
<report dimension="horizontal" type="DQAbsExtPosAcc">
<measDesc>Relative Accuracy measures the divergence between points from different flightlines. Relative Accuracy median is 0.05 meters (0.17 feet) out of 106,255,665,985 laser points over 4,133 flightlines. For more information regarding the internal consistency between ground-classified points from different overlapping flightlines please see LiDAR data report.</measDesc>
</report>
<report dimension="vertical" type="DQAbsExtPosAcc">
<measDesc>The Fundamental Vertical Accuracy (FVA) of the data set is 0.03 meters (0.09 feet). Accuracy was assessed using 9,685 ground control (real time kinematic) points. These ground control points are distributed through out the project study area. Supplemental Vertical Accuracy (SVA) is reported as the deviation between landcover classified laser points and landclass checkpoints at the 95th percentile. The SVA for individual land classes are 0.27 meters for shrub, 0.09 meters for short grass, 0.19 meters for tall grass, 0.19 meters for mixed forest, 0.05 meters for developed areas, 0.12 for herbaceous upland natural areas, 0.05 for non-natural woody areas and 0.07 for barren areas. The supplemental vertical accuracies were calculated using 417 individual landclass checkpoints. Consolidated Vertical Accuracy (CVA) is reported as the deviation between both ground and landcover classified laser points from all survey checkpoints, reported at the 95th percentile. CVA for this dataset is 0.06 meters, and was calculated from 10,102 ground and landclass checkpoints. See LiDAR data report.</measDesc>
<evalMethDesc>The FVA was tested using 851 independent ground control points (GCPs) located in open terrain. The GCPs were distributed throughout the project area. Elevations from the unclassified LiDAR surface were measured for the x,y location of each check point. Elevations interpolated from the LiDAR surface were then compared to the elevation values of the surveyed control. The Root-Mean-Square (RMSE) was computed to be 0.03 m (0.09 ft.). AccuracyZ has been tested to meet 0.05 m (0.18 ft.) FVA at 95 Percent confidence level using RMSE(z) x 1.9600 as defined by the National Standards for Spatial Data Accuracy (NSSDA); assessed and reported using National Digital Elevation Program (NDEP)/ASRPS Guidelines.</evalMethDesc>
<measResult>
<QuanResult>
<quanVal>0.05 meters RMSEz at 95 percent Confidence Interval.</quanVal>
</QuanResult>
</measResult>
</report>
</dqInfo>
<spatRepInfo>
<Georect>
<numDims Sync="TRUE">2</numDims>
<cellGeo>
<CellGeoCd Sync="TRUE" value="002"/>
</cellGeo>
<tranParaAv Sync="TRUE">1</tranParaAv>
<chkPtAv Sync="TRUE">0</chkPtAv>
<cornerPts>
<pos Sync="TRUE">6119016.999954 1797202.000025</pos>
</cornerPts>
<cornerPts>
<pos Sync="TRUE">6119016.999954 2250802.000025</pos>
</cornerPts>
<cornerPts>
<pos Sync="TRUE">6497016.999954 2250802.000025</pos>
</cornerPts>
<cornerPts>
<pos Sync="TRUE">6497016.999954 1797202.000025</pos>
</cornerPts>
<centerPt>
<pos Sync="TRUE">6308016.999954 2024002.000025</pos>
</centerPt>
<axisDimension type="002">
<dimSize Sync="TRUE">126000</dimSize>
<dimResol>
<value Sync="TRUE" uom="ftUS">3.000000</value>
</dimResol>
</axisDimension>
<axisDimension type="001">
<dimSize Sync="TRUE">151200</dimSize>
<dimResol>
<value Sync="TRUE" uom="ftUS">3.000000</value>
</dimResol>
</axisDimension>
<ptInPixel>
<PixOrientCd Sync="TRUE" value="001"/>
</ptInPixel>
</Georect>
</spatRepInfo>
<eainfo>
<overview>
<eaover>This raster data set represents vegetation heights derived from ground classified LiDAR point data.</eaover>
<eadetcit>Sonoma County Vegetation Mapping and LiDAR Program</eadetcit>
</overview>
</eainfo>
<refSysInfo>
<RefSystem>
<refSysID>
<identCode Sync="TRUE" code="0"/>
</refSysID>
</RefSystem>
</refSysInfo>
<contInfo>
<ImgDesc>
<contentTyp>
<ContentTypCd Sync="TRUE" value="001"/>
</contentTyp>
<covDim>
<Band>
<dimDescrp Sync="TRUE">Band_1</dimDescrp>
<maxVal Sync="TRUE">1.000000</maxVal>
<minVal Sync="TRUE">0.000000</minVal>
<bitsPerVal Sync="TRUE">32</bitsPerVal>
<valUnit>
<UOM type="length"/>
</valUnit>
</Band>
</covDim>
</ImgDesc>
</contInfo>
<myData>
<InEdit>N/A</InEdit>
<InMain>N/A</InMain>
<InRest>N/A</InRest>
<InPortal>N/A</InPortal>
<InAGO>N/A</InAGO>
<LastPublicationDateTag>No</LastPublicationDateTag>
<PreviousLayerName>N/A</PreviousLayerName>
<MetadataReview>No</MetadataReview>
<MetadataSource>N/A</MetadataSource>
</myData>
</metadata>
