<?xml version="1.0" encoding="UTF-8" standalone="no"?>
<metadata xml:lang="en">
<Esri>
<CreaDate>20200403</CreaDate>
<CreaTime>10243300</CreaTime>
<ArcGISFormat>1.0</ArcGISFormat>
<ArcGISstyle>FGDC CSDGM Metadata Abridged2</ArcGISstyle>
<SyncOnce>FALSE</SyncOnce>
<DataProperties>
<itemProps>
<itemName Sync="TRUE">Lidar_Highest_Hit_HS_2013_WM</itemName>
<itemLocation>
<protocol Sync="TRUE">Local Area Network</protocol>
</itemLocation>
<nativeExtBox>
<westBL Sync="TRUE">-13755196.730571</westBL>
<eastBL Sync="TRUE">-13605983.888269</eastBL>
<southBL Sync="TRUE">4591705.376964</southBL>
<northBL Sync="TRUE">4770843.017249</northBL>
<exTypeCode Sync="TRUE">1</exTypeCode>
</nativeExtBox>
<imsContentType Sync="TRUE">002</imsContentType>
</itemProps>
<coordRef>
<type Sync="TRUE">Projected</type>
<geogcsn Sync="TRUE">GCS_WGS_1984</geogcsn>
<csUnits Sync="TRUE">Linear Unit: Meter (1.000000)</csUnits>
<projcsn Sync="TRUE">WGS_1984_Web_Mercator_Auxiliary_Sphere</projcsn>
<peXml Sync="TRUE">&lt;ProjectedCoordinateSystem xsi:type='typens:ProjectedCoordinateSystem' xmlns:xsi='http://www.w3.org/2001/XMLSchema-instance' xmlns:xs='http://www.w3.org/2001/XMLSchema' xmlns:typens='http://www.esri.com/schemas/ArcGIS/10.7'&gt;&lt;WKT&gt;PROJCS[&amp;quot;WGS_1984_Web_Mercator_Auxiliary_Sphere&amp;quot;,GEOGCS[&amp;quot;GCS_WGS_1984&amp;quot;,DATUM[&amp;quot;D_WGS_1984&amp;quot;,SPHEROID[&amp;quot;WGS_1984&amp;quot;,6378137.0,298.257223563]],PRIMEM[&amp;quot;Greenwich&amp;quot;,0.0],UNIT[&amp;quot;Degree&amp;quot;,0.0174532925199433]],PROJECTION[&amp;quot;Mercator_Auxiliary_Sphere&amp;quot;],PARAMETER[&amp;quot;False_Easting&amp;quot;,0.0],PARAMETER[&amp;quot;False_Northing&amp;quot;,0.0],PARAMETER[&amp;quot;Central_Meridian&amp;quot;,0.0],PARAMETER[&amp;quot;Standard_Parallel_1&amp;quot;,0.0],PARAMETER[&amp;quot;Auxiliary_Sphere_Type&amp;quot;,0.0],UNIT[&amp;quot;Meter&amp;quot;,1.0],AUTHORITY[&amp;quot;EPSG&amp;quot;,3857]]&lt;/WKT&gt;&lt;XOrigin&gt;-20037700&lt;/XOrigin&gt;&lt;YOrigin&gt;-30241100&lt;/YOrigin&gt;&lt;XYScale&gt;148923141.92838538&lt;/XYScale&gt;&lt;ZOrigin&gt;-100000&lt;/ZOrigin&gt;&lt;ZScale&gt;10000&lt;/ZScale&gt;&lt;MOrigin&gt;-100000&lt;/MOrigin&gt;&lt;MScale&gt;10000&lt;/MScale&gt;&lt;XYTolerance&gt;0.001&lt;/XYTolerance&gt;&lt;ZTolerance&gt;0.001&lt;/ZTolerance&gt;&lt;MTolerance&gt;0.001&lt;/MTolerance&gt;&lt;HighPrecision&gt;true&lt;/HighPrecision&gt;&lt;WKID&gt;102100&lt;/WKID&gt;&lt;LatestWKID&gt;3857&lt;/LatestWKID&gt;&lt;/ProjectedCoordinateSystem&gt;</peXml>
</coordRef>
<RasterProperties>
<General>
<PixelDepth Sync="TRUE">32</PixelDepth>
<HasColormap Sync="TRUE">FALSE</HasColormap>
<CompressionType Sync="TRUE">Mixed</CompressionType>
<NumBands Sync="TRUE">1</NumBands>
<Format Sync="TRUE">Cache/Mixed</Format>
<HasPyramids Sync="TRUE">TRUE</HasPyramids>
<SourceType Sync="TRUE">continuous</SourceType>
<PixelType Sync="TRUE">unsigned integer</PixelType>
<NoDataValue Sync="TRUE"/>
</General>
</RasterProperties>
</DataProperties>
<SyncDate>20210604</SyncDate>
<SyncTime>09123600</SyncTime>
<ModDate>20210604</ModDate>
<ModTime>09123600</ModTime>
<scaleRange>
<minScale>50000</minScale>
<maxScale>5000</maxScale>
</scaleRange>
<ArcGISProfile>FGDC</ArcGISProfile>
</Esri>
<mdLang>
<languageCode value="eng"/>
<countryCode Sync="TRUE" value="USA"/>
</mdLang>
<mdChar>
<CharSetCd value="004"/>
</mdChar>
<mdHrLv>
<ScopeCd value="005"/>
</mdHrLv>
<mdContact>
<rpOrgName>Watershed Sciences, Inc. (WSI)</rpOrgName>
<rpCntInfo>
<cntPhone>
<voiceNum>503-505-5100</voiceNum>
<faxNum>503-546-6801</faxNum>
</cntPhone>
<cntAddress addressType="physical">
<delPoint>421 S.W. 6th Ave., Suite 800</delPoint>
<city>Portland</city>
<adminArea>OR</adminArea>
<postCode>97204</postCode>
<country>US</country>
</cntAddress>
</rpCntInfo>
<role>
<RoleCd value="007"/>
</role>
</mdContact>
<mdStanName>ArcGIS Metadata</mdStanName>
<mdStanVer>1.0</mdStanVer>
<distInfo>
<distributor>
<distorCont>
<rpOrgName>Sonoma County Vegetation Mapping and LiDAR Program</rpOrgName>
<role>
<RoleCd value="001"/>
</role>
<editorSave>False</editorSave>
<displayName>Sonoma County Vegetation Mapping and LiDAR Program</displayName>
</distorCont>
</distributor>
<distFormat>
<formatName Sync="TRUE">Raster Dataset</formatName>
</distFormat>
</distInfo>
<dataIdInfo>
<idCitation>
<date>
<pubDate>2014-02-19T00:00:00</pubDate>
<createDate>2013-09-28T00:00:00</createDate>
</date>
<citRespParty>
<rpOrgName>Sonoma County Vegetation Mapping and LiDAR Program</rpOrgName>
<role>
<RoleCd value="006"/>
</role>
</citRespParty>
<presForm>
<PresFormCd value="005"/>
</presForm>
<presForm>
<fgdcGeoform>raster digital data</fgdcGeoform>
</presForm>
<resTitle Sync="TRUE">Lidar_Highest_Hit_HS_2013_WM</resTitle>
</idCitation>
<idAbs>&lt;div style='text-align:Left;'&gt;&lt;div&gt;&lt;div&gt;&lt;p style='margin:0 0 11 0;'&gt;&lt;span&gt;Hillshade of the highest hit digital elevation model using the Sonoma Veg Map LiDAR data. The Mosaic Reproject function was used to reproject the raster mosaic to Web Mercator. The Mosaic hillshade function was applied to generate this hillshade. The default values were used except for the Z value. A value of .4 was used for the Z value. The raster cache was generated from the prevous item.&lt;/span&gt;&lt;/p&gt;&lt;p style='margin:0 0 11 0;'&gt;&lt;span&gt;The DEM used to create this hillshade is described as a Highest Hit or First Return digital elevation model (DEM) represents the earth’s surface with the base or bare-earth DEM values subtracted from the first returns, with the resulting raster being the height of any vegetation, structure, or the ground for those areas lacking in vegetation or structures for the subject area. Values are in feet. Each cell in the GRID is three feet and has a value that represents an average vegetation height at that location. The purpose of the data is to provide users with a very accurate view of the vegetation height in the subject area for the date of data capture.&lt;/span&gt;&lt;/p&gt;&lt;/div&gt;&lt;/div&gt;&lt;/div&gt;</idAbs>
<idPurp>A high resolution LiDAR derived hillshade facilitates the visualization of the topography of a landscape at a variety of scales. This layer may be used on its own or in conjunction with other data. This hillshade which was created from a LiDAR derived highest hit digital elevation model shows the signal returns that were the highest above the ground in a given location. This provides the viewer a hillshade display of the tree canopy or structures at the time of data capture. The Sonoma County Vegetation Mapping and LiDAR Program (http://sonomavegmap.org) and the University of Maryland (under grant NNX13AP69G from NASA’s Carbon Monitoring System, Dr. Ralph Dubayah, PI) contracted LiDAR and orthophoto data collection for all of Sonoma County in late 2013. Also included in the data collection were two areas in Mendocino County - the Soda Spring Creek-Dry Creek Watershed and Lake Mendocino. This fine scale data will help provide an accurate, up-to-date inventory of the county’s landscape features, ecological communities and habitats. Project funders include: NASA, the University of Maryland, the Sonoma County Agricultural Preservation and Open Space District, the Sonoma County Water Agency, the California Department of Fish and Wildlife, the United States Geological Survey, the Sonoma County Information Systems Department, the Sonoma County Transportation and Public Works Department, the Nature Conservancy, and the City of Petaluma.</idPurp>
<idCredit>Sonoma County Vegetation Mapping and LiDAR Consortium, NASA, University of Maryland, Watershed Sciences, Inc., Tukman Geospatial LLC</idCredit>
<idStatus>
<ProgCd value="001"/>
</idStatus>
<resMaint>
<maintFreq>
<MaintFreqCd value="011"/>
</maintFreq>
</resMaint>
<placeKeys>
<keyword>Sonoma County, Lake Mendocino, Sonoma Lake Watershed</keyword>
</placeKeys>
<themeKeys>
<keyword>LiDAR, Light Detection And Ranging</keyword>
</themeKeys>
<searchKeys>
<keyword>LiDAR</keyword>
<keyword>Light Detection And Ranging</keyword>
<keyword>Sonoma County</keyword>
<keyword>Lake Mendocino</keyword>
<keyword>Sonoma Lake Watershed</keyword>
<keyword>Elevation</keyword>
<keyword>Canopy Height</keyword>
<keyword>Highest Hit</keyword>
<keyword>First Return.</keyword>
</searchKeys>
<resConst>
<LegConsts>
<useLimit>Data were provided by the University of Maryland and the Sonoma County Vegetation Mapping and LiDAR Program (http://sonomavegmap.org) under grant NNX13AP69G from NASA’s Carbon Monitoring System (Dr. Ralph Dubayah, PI). This data is available for unrestricted public use. However, users should acknowledge the source of the data in any reports, publications, or presentations where the data is used.</useLimit>
</LegConsts>
</resConst>
<resConst>
<Consts>
<useLimit>&lt;div style='text-align:Left;'&gt;&lt;div&gt;&lt;div&gt;&lt;p&gt;&lt;span&gt;Data were provided by the University of Maryland and the Sonoma County Vegetation Mapping and LiDAR Program (http://sonomavegmap.org) under grant NNX13AP69G from NASA’s Carbon Monitoring System (Dr. Ralph Dubayah, PI).&lt;/span&gt;&lt;/p&gt;&lt;p&gt;&lt;span&gt;You are free to: Share - copy and redistribute the data in any medium or format. Adapt - You may make derivative works, transform, and build upon the data for any purpose, even commercial. The licensor cannot revoke these freedoms as long as you follow the license terms.&lt;/span&gt;&lt;/p&gt;&lt;p&gt;&lt;span&gt;License terms: Attribution - You must give appropriate credit (if supplied, you must provide the name of the creator and attribution parties, a copyright notice, a license notice, a disclaimer notice and a link to the material) and indicate if any changes were made. You may do so in any reasonable manner, but not in any way that suggests the licensor endorses you, your organization, or your use of the data. ShareAlike - if you modify, transform, or build on the data, you must distribute your contributions under the same license as the original.&lt;/span&gt;&lt;/p&gt;&lt;p&gt;&lt;span&gt;No additional Restrictions - You may not apply legal terms or technological measures that legally restrict others form doing anything the license permits.&lt;/span&gt;&lt;/p&gt;&lt;p&gt;&lt;span&gt;Notices: You do not have to comply with the license for elements of the material in the public domain or where your use is permitted by an applicable exception or limitation. No warranties are given. The license may not give you all of the permissions necessary for your intended use. For example, other rights such as publicity, privacy, or moral rights may limit how you use the data.&lt;/span&gt;&lt;/p&gt;&lt;p&gt;&lt;span&gt;EXCEPT TO THE EXTENT REQUIRED BY APPLICABLE LAW, IN NO EVENT WILL LICENSOR BE LIABLE TO YOU ON ANY LEGAL THEORY FOR ANY SPECIAL, INCIDENTAL, CONSEQUENTIAL, PUNITIVE OR EXEMPLARY DAMAGES ARISING OUT OF THIS LICENSE OR THE USE OF THE DATA, EVEN IF LICENSOR HAS BEEN ADVISED OF THE POSSIBILITY OF SUCH DAMAGES.&lt;/span&gt;&lt;/p&gt;&lt;p&gt;&lt;span&gt;The above is an easily understandable summary of and not a substitute for the license and disclaimer for the Attribution-ShareAlike 3.0 United States (CC BY-SA 3.0 US) the full text is available at creativecommons.org.&lt;/span&gt;&lt;/p&gt;&lt;p&gt;&lt;span&gt;https://creativecommons.org/licenses/by-sa/3.0/us/legalcode&lt;/span&gt;&lt;/p&gt;&lt;/div&gt;&lt;/div&gt;&lt;/div&gt;</useLimit>
</Consts>
</resConst>
<dataLang>
<languageCode value="eng"/>
<countryCode Sync="TRUE" value="USA"/>
</dataLang>
<dataExt>
<exDesc>Ground Condition - LiDAR: Leica ALS50 &amp; Leica ALS70</exDesc>
<tempEle>
<TempExtent>
<exTemp>
<TM_Period>
<tmBegin>2013-09-28T00:00:00</tmBegin>
<tmEnd>2013-11-26T00:00:00</tmEnd>
</TM_Period>
</exTemp>
</TempExtent>
</tempEle>
<geoEle>
<GeoBndBox>
<exTypeCode>1</exTypeCode>
<westBL>-123.565035</westBL>
<eastBL>-122.224633</eastBL>
<southBL>38.086873</southBL>
<northBL>39.342443</northBL>
</GeoBndBox>
</geoEle>
</dataExt>
<dataChar>
<CharSetCd value="004"/>
</dataChar>
<idPoC>
<rpIndName>Sonoma Veg Map</rpIndName>
<rpOrgName>Sonoma County Vegetation Mapping &amp; LiDAR Program</rpOrgName>
<rpPosName>staff</rpPosName>
<role>
<RoleCd value="001"/>
</role>
<rpCntInfo>
<cntOnlineRes>
<linkage>http://sonomavegmap.org/</linkage>
<orFunct>
<OnFunctCd value="001"/>
</orFunct>
</cntOnlineRes>
<cntAddress addressType="physical">
<delPoint>747 Mendocino Ave, Suite 100</delPoint>
<city>Santa Rosa</city>
<adminArea>CA</adminArea>
<postCode>95401</postCode>
<eMailAdd>openspace@sonoma-county.org</eMailAdd>
<country>US</country>
</cntAddress>
<cntPhone>
<voiceNum>707-565-7360</voiceNum>
<faxNum>707-565-7359</faxNum>
</cntPhone>
<cntHours>M-F 9am to 4pm</cntHours>
</rpCntInfo>
</idPoC>
<idPoC>
<rpOrgName>Watershed Sciences, Inc. (WSI)</rpOrgName>
<rpCntInfo>
<cntPhone>
<voiceNum>503-505-5100</voiceNum>
<faxNum>503-546-6801</faxNum>
</cntPhone>
<cntAddress addressType="physical">
<delPoint>421 S.W. 6th Ave., Suite 800</delPoint>
<city>Portland</city>
<adminArea>OR</adminArea>
<postCode>97204</postCode>
<country>US</country>
</cntAddress>
</rpCntInfo>
<role>
<RoleCd value="007"/>
</role>
<displayName>Watershed Sciences, Inc. (WSI)</displayName>
</idPoC>
<envirDesc Sync="TRUE"> Version 6.2 (Build 9200) ; Esri ArcGIS 10.7.1.11595</envirDesc>
<spatRpType>
<SpatRepTypCd Sync="TRUE" value="002"/>
</spatRpType>
<dataExt>
<geoEle>
<GeoBndBox esriExtentType="search">
<exTypeCode Sync="TRUE">1</exTypeCode>
<westBL Sync="TRUE">-123.565035</westBL>
<eastBL Sync="TRUE">-122.224633</eastBL>
<northBL Sync="TRUE">39.342443</northBL>
<southBL Sync="TRUE">38.086873</southBL>
</GeoBndBox>
</geoEle>
</dataExt>
<tpCat>
<TopicCatCd value="002"/>
</tpCat>
<tpCat>
<TopicCatCd value="006"/>
</tpCat>
</dataIdInfo>
<dqInfo>
<dqScope>
<scpLvl>
<ScopeCd value="005"/>
</scpLvl>
</dqScope>
<report type="DQConcConsis">
<measDesc>LiDAR flight lines have been examined to ensure that there was at least 60% sidelap, there are no gaps between flightlines, and overlapping flightlines have consistent elevation values. Shaded relief images have been visually inspected for data errors such as pits, border artifacts, gaps, and shifting. The data were examined at a 1:3000 scale.</measDesc>
</report>
<report type="DQCompOm">
<measDesc>LiDAR has been collected and processed for all areas within the project study Area. In some areas of heavy vegetation and forest cover, there may be relatively few ground points in the LiDAR data. Some elevation units have been interpolated across areas in the ground model where there are no elevation data (e.g., over water, over dense vegetation). TINing the points produces large triangles and hence the elevations may be less accurate within such areas. Some elevation units have been interpolated across areas in the ground model where there are no elevation data (e.g., over water, over dense vegetation).</measDesc>
</report>
<report dimension="horizontal" type="DQAbsExtPosAcc">
<measDesc>Relative Accuracy measures the divergence between points from different flightlines. Relative Accuracy median is 0.05 meters (0.17 feet) out of 106,255,686,985 laser points over 4,133 flightlines. For more information regarding the internal consistency between ground-classified points from different overlapping flightlines please see LiDAR data report.</measDesc>
</report>
<report dimension="vertical" type="DQAbsExtPosAcc">
<measDesc>The Fundamental Vertical Accuracy (FVA) of the data set is 0.03 meters (0.09 feet). Accuracy was assessed using 9,685 ground control points (GCP). These ground control points are distributed through out the project study area.</measDesc>
<evalMethDesc>The FVA was tested using 851 independent ground control points (GCPs) located in open terrain. The GCPs were distributed throughout the project area. Elevations from the unclassified LiDAR surface were measured for the x,y location of each check point. Elevations interpolated from the LiDAR surface were then compared to the elevation values of the surveyed control. The Root-Mean-Square (RMSE) was computed to be 0.03 m (0.09 ft.). AccuracyZ has been tested to meet 0.05 m (0.17 ft.) FVA at 95 Percent confidence level using RMSE(z) x 1.9600 as defined by the National Standards for Spatial Data Accuracy (NSSDA); assessed and reported using National Digital Elevation Program (NDEP)/ASRPS Guidelines.</evalMethDesc>
<measResult>
<QuanResult>
<quanVal>0.05 meters RMSEz at 95 percent Confidence Interval.</quanVal>
</QuanResult>
</measResult>
</report>
<dataLineage>
<prcStep>
<stepDesc>Acquisition. LiDAR data acquisition was started September 28, 2013 and was completed on November 26, 2013. The survey is utilizing a Leica ALS50 or ALS70 laser system mounted in a Piper Navajo PA-31-325 or Cessna Caravan 208B. Near nadir scan angles were used to increase penetration of vegetation to ground surfaces. Ground level GPS and aircraft IMU were collected during the flight.</stepDesc>
<stepDateTm>2014-02-19</stepDateTm>
</prcStep>
<prcStep>
<stepDesc>LiDAR Data Processing. Flight lines and data were reviewed to ensure complete coverage of the study area and positional accuracy of the laser points. Laser point return coordinates were computed using ALS Post Processor software and IPAS Pro GPS/INS software, based on independent data from the LiDAR system, IMU, and aircraft. The raw LiDAR file was assembled into flight lines per return with each point having an associated x, y, and z coordinate. Visual inspection of swath to swath laser point consistencies within the study area were used to perform manual refinements of system alignment. Custom algorithms were designed to evaluate points between adjacent flight lines. Automated system alignment was computed based upon randomly selected swath to swath accuracy measurements that consider elevation, slope, and intensities. Specifically, refinement in the combination of system pitch, roll and yaw offset parameters optimize internal consistency. Noise (e.g., pits and birds) was filtered using ALS post-processing software, based on known elevation ranges and included the removal of any cycle slips. Using TerraScan and MicroStation, ground classifications utilized custom settings appropriate to the study area. The corrected and filtered return points were compared to the RTK ground survey points collected to verify the vertical and horizontal accuracies. Points were output as laser points, TINed and GRIDed surfaces.</stepDesc>
<stepDateTm>2014-10-24</stepDateTm>
</prcStep>
</dataLineage>
</dqInfo>
<spatRepInfo>
<Georect>
<axisDimension type="002">
<dimSize Sync="TRUE">499738</dimSize>
<dimResol>
<value Sync="TRUE" uom="m">0.298582</value>
</dimResol>
</axisDimension>
<axisDimension type="001">
<dimSize Sync="TRUE">599961</dimSize>
<dimResol>
<value Sync="TRUE" uom="m">0.298582</value>
</dimResol>
</axisDimension>
<cellGeo>
<CellGeoCd Sync="TRUE" value="002"/>
</cellGeo>
<numDims Sync="TRUE">2</numDims>
<tranParaAv Sync="TRUE">1</tranParaAv>
<chkPtAv Sync="TRUE">0</chkPtAv>
<cornerPts>
<pos Sync="TRUE">-13755196.730571 4591705.376964</pos>
</cornerPts>
<cornerPts>
<pos Sync="TRUE">-13755196.730571 4770843.017249</pos>
</cornerPts>
<cornerPts>
<pos Sync="TRUE">-13605983.888269 4770843.017249</pos>
</cornerPts>
<cornerPts>
<pos Sync="TRUE">-13605983.888269 4591705.376964</pos>
</cornerPts>
<centerPt>
<pos Sync="TRUE">-13680590.309420 4681274.197106</pos>
</centerPt>
<ptInPixel>
<PixOrientCd Sync="TRUE" value="001"/>
</ptInPixel>
</Georect>
</spatRepInfo>
<contInfo>
<ImgDesc>
<covDim>
<Band>
<valUnit>
<UOM type="length"/>
</valUnit>
<dimDescrp Sync="TRUE">Band_1</dimDescrp>
<bitsPerVal Sync="TRUE">32</bitsPerVal>
</Band>
</covDim>
<attDesc>3 foot pixel resolution raster cache.</attDesc>
<trianInd>False</trianInd>
<radCalDatAv>False</radCalDatAv>
<camCalInAv>False</camCalInAv>
<filmDistInAv>False</filmDistInAv>
<lensDistInAv>False</lensDistInAv>
<contentTyp>
<ContentTypCd Sync="TRUE" value="001"/>
</contentTyp>
</ImgDesc>
</contInfo>
<eainfo>
<overview>
<eaover>This raster data set represents ground surface elevations derived from ground classified LiDAR point data.</eaover>
<eadetcit>Sonoma County Vegetation Mapping and LiDAR Program</eadetcit>
</overview>
</eainfo>
<mdHrLvName Sync="TRUE">dataset</mdHrLvName>
<refSysInfo>
<RefSystem>
<refSysID>
<identCode Sync="TRUE" code="3857"/>
<idCodeSpace Sync="TRUE">EPSG</idCodeSpace>
<idVersion Sync="TRUE">8.8(9.3.1.2)</idVersion>
</refSysID>
</RefSystem>
</refSysInfo>
<mdDateSt Sync="TRUE">20210604</mdDateSt>
</metadata>
