<?xml version="1.0" encoding="UTF-8" standalone="no"?>
<metadata xml:lang="en">
<Esri>
<CreaDate>20200827</CreaDate>
<CreaTime>10235200</CreaTime>
<ArcGISFormat>1.0</ArcGISFormat>
<SyncOnce>FALSE</SyncOnce>
<DataProperties>
<itemProps>
<itemName Sync="TRUE">Lidar_HydroFlat_BareEarth_DEM_2013_WM</itemName>
<itemLocation>
<protocol Sync="TRUE">Local Area Network</protocol>
</itemLocation>
<nativeExtBox>
<westBL Sync="TRUE">-13755196.748793</westBL>
<eastBL Sync="TRUE">-13605983.743967</eastBL>
<southBL Sync="TRUE">4591705.359411</southBL>
<northBL Sync="TRUE">4770843.078486</northBL>
<exTypeCode Sync="TRUE">1</exTypeCode>
</nativeExtBox>
</itemProps>
<coordRef>
<type Sync="TRUE">Projected</type>
<geogcsn Sync="TRUE">GCS_WGS_1984</geogcsn>
<csUnits Sync="TRUE">Linear Unit: Meter (1.000000)</csUnits>
<projcsn Sync="TRUE">WGS_1984_Web_Mercator_Auxiliary_Sphere</projcsn>
<peXml Sync="TRUE">&lt;ProjectedCoordinateSystem xsi:type='typens:ProjectedCoordinateSystem' xmlns:xsi='http://www.w3.org/2001/XMLSchema-instance' xmlns:xs='http://www.w3.org/2001/XMLSchema' xmlns:typens='http://www.esri.com/schemas/ArcGIS/10.7'&gt;&lt;WKT&gt;PROJCS[&amp;quot;WGS_1984_Web_Mercator_Auxiliary_Sphere&amp;quot;,GEOGCS[&amp;quot;GCS_WGS_1984&amp;quot;,DATUM[&amp;quot;D_WGS_1984&amp;quot;,SPHEROID[&amp;quot;WGS_1984&amp;quot;,6378137.0,298.257223563]],PRIMEM[&amp;quot;Greenwich&amp;quot;,0.0],UNIT[&amp;quot;Degree&amp;quot;,0.0174532925199433]],PROJECTION[&amp;quot;Mercator_Auxiliary_Sphere&amp;quot;],PARAMETER[&amp;quot;False_Easting&amp;quot;,0.0],PARAMETER[&amp;quot;False_Northing&amp;quot;,0.0],PARAMETER[&amp;quot;Central_Meridian&amp;quot;,0.0],PARAMETER[&amp;quot;Standard_Parallel_1&amp;quot;,0.0],PARAMETER[&amp;quot;Auxiliary_Sphere_Type&amp;quot;,0.0],UNIT[&amp;quot;Meter&amp;quot;,1.0],AUTHORITY[&amp;quot;EPSG&amp;quot;,3857]]&lt;/WKT&gt;&lt;XOrigin&gt;-20037700&lt;/XOrigin&gt;&lt;YOrigin&gt;-30241100&lt;/YOrigin&gt;&lt;XYScale&gt;148923141.92838538&lt;/XYScale&gt;&lt;ZOrigin&gt;-100000&lt;/ZOrigin&gt;&lt;ZScale&gt;10000&lt;/ZScale&gt;&lt;MOrigin&gt;-100000&lt;/MOrigin&gt;&lt;MScale&gt;10000&lt;/MScale&gt;&lt;XYTolerance&gt;0.001&lt;/XYTolerance&gt;&lt;ZTolerance&gt;0.001&lt;/ZTolerance&gt;&lt;MTolerance&gt;0.001&lt;/MTolerance&gt;&lt;HighPrecision&gt;true&lt;/HighPrecision&gt;&lt;WKID&gt;102100&lt;/WKID&gt;&lt;LatestWKID&gt;3857&lt;/LatestWKID&gt;&lt;/ProjectedCoordinateSystem&gt;</peXml>
</coordRef>
<RasterProperties>
<General>
<PixelDepth Sync="TRUE">32</PixelDepth>
<HasColormap Sync="TRUE">FALSE</HasColormap>
<CompressionType Sync="TRUE">None</CompressionType>
<NumBands Sync="TRUE">1</NumBands>
<Format Sync="TRUE">AMD</Format>
<HasPyramids Sync="TRUE">TRUE</HasPyramids>
<SourceType Sync="TRUE">continuous</SourceType>
<PixelType Sync="TRUE">floating point</PixelType>
<NoDataValue Sync="TRUE"/>
</General>
<Properties>
<MaxImageHeight Sync="TRUE">4100</MaxImageHeight>
<MaxImageWidth Sync="TRUE">15000</MaxImageWidth>
<MaxRecordCount Sync="TRUE">1000</MaxRecordCount>
<MaxDownloadImageCount Sync="TRUE">20</MaxDownloadImageCount>
<MaxDownloadSizeLimit Sync="TRUE">2048</MaxDownloadSizeLimit>
<MaxMosaicImageCount Sync="TRUE">20</MaxMosaicImageCount>
<DefaultCompressionQuality Sync="TRUE">75</DefaultCompressionQuality>
<DefaultCompressionTolerance Sync="TRUE">0.01</DefaultCompressionTolerance>
<BlendWidth Sync="TRUE">10</BlendWidth>
<ViewpointSpacingX Sync="TRUE">600</ViewpointSpacingX>
<ViewpointSpacingY Sync="TRUE">300</ViewpointSpacingY>
<AllowedItemMetadata Sync="TRUE">Basic</AllowedItemMetadata>
<DefaultResamplingMethod Sync="TRUE">1</DefaultResamplingMethod>
<AllowedMosaicMethods Sync="TRUE">NorthWest,Center,LockRaster,ByAttribute,Nadir,Viewpoint,Seamline,None</AllowedMosaicMethods>
<AllowedCompressions Sync="TRUE">None,JPEG,LZ77,LERC</AllowedCompressions>
<AllowedMensurationCapabilities Sync="TRUE">Basic</AllowedMensurationCapabilities>
<AvailableMensurationCapabilities Sync="TRUE">None,Basic,Base-Top Height,Top-Top Shadow Height,Base-Top Shadow Height,3D</AvailableMensurationCapabilities>
<ClipToBoundary Sync="TRUE">-1</ClipToBoundary>
<FootprintMayContainNoData Sync="TRUE">-1</FootprintMayContainNoData>
<CellSizeTolerance Sync="TRUE">0.8</CellSizeTolerance>
<MinimumPixelContribution Sync="TRUE">1</MinimumPixelContribution>
<AvailableMosaicMethods Sync="TRUE">NorthWest,Center,LockRaster,ByAttribute,Nadir,Viewpoint,Seamline,None</AvailableMosaicMethods>
<AvailableCompressionMethods Sync="TRUE">None,JPEG,LZ77,LERC</AvailableCompressionMethods>
<AvailableItemMetadataLevels Sync="TRUE">None,Basic,Full</AvailableItemMetadataLevels>
<ConfigKeyword Sync="TRUE"/>
<BandDefinitionKeyword Sync="TRUE">NONE</BandDefinitionKeyword>
<AllowedFields Sync="TRUE">Name,MinPS,MaxPS,LowPS,HighPS,Tag,GroupName,ProductName,CenterX,CenterY,ZOrder,Shape_Length,Shape_Area</AllowedFields>
<_docversion_ Sync="TRUE">9</_docversion_>
<ApplyColorCorrection Sync="TRUE">0</ApplyColorCorrection>
<MaxCellSize Sync="TRUE">29626.6192532385</MaxCellSize>
<LowCellSize Sync="TRUE">0.914401828803658</LowCellSize>
<HighCellSize Sync="TRUE">592.53238506477</HighCellSize>
</Properties>
<Functions Sync="TRUE">
<Function Description="Sets a new spatial reference and cell sizes" Name="Reproject Function">
<Arguments>
<Raster>MosaicFunction.OutputRaster</Raster>
<XCellsize>0</XCellsize>
<YCellsize>0</YCellsize>
<XOrigin>0</XOrigin>
<YOrigin>0</YOrigin>
</Arguments>
</Function>
<Function Description="Performs on-the-fly mosaic on a raster catalog." Name="Mosaic Function"/>
</Functions>
</RasterProperties>
</DataProperties>
<SyncDate>20210604</SyncDate>
<SyncTime>09115200</SyncTime>
<ModDate>20210604</ModDate>
<ModTime>9121200</ModTime>
<ArcGISstyle>FGDC CSDGM MetadataVerify - ISD GIS</ArcGISstyle>
<scaleRange>
<minScale>150000000</minScale>
<maxScale>5000</maxScale>
</scaleRange>
<ArcGISProfile>FGDC</ArcGISProfile>
</Esri>
<mdLang>
<languageCode value="eng"/>
<countryCode Sync="TRUE" value="USA"/>
</mdLang>
<mdChar>
<CharSetCd value="004"/>
</mdChar>
<mdHrLv>
<ScopeCd value="005"/>
</mdHrLv>
<mdContact>
<rpOrgName>Watershed Sciences, Inc. (WSI)</rpOrgName>
<rpCntInfo>
<cntPhone>
<voiceNum>503-505-5100</voiceNum>
<faxNum>503-546-6801</faxNum>
</cntPhone>
<cntAddress addressType="physical">
<delPoint>421 S.W. 6th Ave., Suite 800</delPoint>
<city>Portland</city>
<adminArea>OR</adminArea>
<postCode>97204</postCode>
<country>US</country>
</cntAddress>
</rpCntInfo>
<role>
<RoleCd value="007"/>
</role>
</mdContact>
<mdDateSt Sync="TRUE">20210604</mdDateSt>
<mdStanName>ArcGIS Metadata</mdStanName>
<mdStanVer>1.0</mdStanVer>
<distInfo>
<distributor>
<distorCont>
<rpOrgName>Sonoma County Agricultural Preservation and Open Space District</rpOrgName>
<rpCntInfo>
<cntPhone>
<voiceNum>(707) 565-7369</voiceNum>
</cntPhone>
<cntAddress addressType="both">
<delPoint>747 Mendocino Ave, Suite 100</delPoint>
<city>Santa Rosa</city>
<adminArea>CA</adminArea>
<postCode>95401</postCode>
<country>US</country>
</cntAddress>
</rpCntInfo>
<role>
<RoleCd value="005"/>
</role>
</distorCont>
</distributor>
</distInfo>
<dataIdInfo>
<idCitation>
<resTitle Sync="FALSE">Lidar_HydroFlat_BareEarth_DEM_2013</resTitle>
<date>
<pubDate>2014-02-19</pubDate>
</date>
<citRespParty>
<rpOrgName>Sonoma County Vegetation Mapping and LiDAR Program</rpOrgName>
<role>
<RoleCd value="006"/>
</role>
</citRespParty>
<presForm>
<PresFormCd value="005"/>
</presForm>
<presForm>
<fgdcGeoform>raster digital data</fgdcGeoform>
</presForm>
</idCitation>
<idAbs>&lt;div style='text-align:Left;'&gt;&lt;div&gt;&lt;div&gt;&lt;p&gt;&lt;span&gt;A bare earth digital elevation model (DEM) represents the earth's surface with all vegetation and human-made structures removed. The bare earth DEMs were derived from LiDAR data using triangulated irregular network (TIN) processing of the ground point returns. Hydro-flattened Bare Earth DEMs represent water bodies in a cartographically and aesthetically pleasing manner, and are not intended to accurately map water surface elevations. In a Hydro-flattened DEM, water surfaces are flat and level for lakes with a greater area than two acres, and gradated for rivers or other long impoundments (e.g., reservoirs) that are wider than 100 feet, and tidal areas. Any existing island larger than one acre was be delineated. Water surface edge elevations were at or below the immediately surrounding terrain. Each image corresponds to a 37,800-square-foot tile. Each pixel is 3 feet and represents an average elevation for that area. The specified coordinate system for this dataset is California State Plane Zone II (FIPS 0402), NAD83 (2011), with units in US Survey Feet for horizontal, and vertical units are NAVD88 (12A) US Survey Feet. The dataset encompasses a portion of Sonoma County. WSI collected the LiDAR and created this data set for the Sonoma County Vegetation Mapping and LiDAR Consortium.&lt;/span&gt;&lt;/p&gt;&lt;/div&gt;&lt;/div&gt;&lt;/div&gt;</idAbs>
<idPurp>The Sonoma County Vegetation Mapping and LiDAR Program (http://sonomavegmap.org) and the University of Maryland (under grant NNX13AP69G from NASA’s Carbon Monitoring System, Dr. Ralph Dubayah, PI) contracted LiDAR and orthophoto data collection for all of Sonoma County in late 2013. Also included in the data collection were two areas in Mendocino County - the Soda Spring Creek-Dry Creek Watershed and Lake Mendocino. This fine scale data will help provide an accurate, up-to-date inventory of the county’s landscape features, ecological communities and habitats. Project funders include: NASA, the University of Maryland, the Sonoma County Agricultural Preservation and Open Space District, the Sonoma County Water Agency, the California Department of Fish and Wildlife, the United States Geological Survey, the Sonoma County Information Systems Department, the Sonoma County Transportation and Public Works Department, the Nature Conservancy, and the City of Petaluma.</idPurp>
<idCredit>Sonoma County Vegetation Mapping and LiDAR Consortium, NASA, University of Maryland, Watershed Sciences, Inc., Tukman Geospatial LLC</idCredit>
<idStatus>
<ProgCd value="001"/>
</idStatus>
<resMaint>
<maintFreq>
<MaintFreqCd value="011"/>
</maintFreq>
</resMaint>
<placeKeys>
<keyword>Sonoma County, Lake Mendocino, Sonoma Lake Watershed</keyword>
</placeKeys>
<themeKeys>
<keyword>LiDAR, Light Detection And Ranging</keyword>
</themeKeys>
<searchKeys>
<keyword>LiDAR</keyword>
<keyword>Light Detection And Ranging</keyword>
<keyword>Sonoma County</keyword>
<keyword>Lake Mendocino</keyword>
<keyword>Sonoma Lake Watershed</keyword>
</searchKeys>
<resConst>
<LegConsts>
<useLimit>Data were provided by the University of Maryland and the Sonoma County Vegetation Mapping and LiDAR Program (http://sonomavegmap.org) under grant NNX13AP69G from NASA’s Carbon Monitoring System (Dr. Ralph Dubayah, PI). This data is available for unrestricted public use. However, users should acknowledge the source of the data in any reports, publications, or presentations where the data is used.</useLimit>
</LegConsts>
</resConst>
<resConst>
<Consts>
<useLimit>&lt;div style='text-align:Left;'&gt;&lt;div&gt;&lt;div&gt;&lt;p&gt;&lt;span&gt;Data were provided by the University of Maryland and the Sonoma County Vegetation Mapping and LiDAR Program (http://sonomavegmap.org) under grant NNX13AP69G from NASA’s Carbon Monitoring System (Dr. Ralph Dubayah, PI). This data is available for unrestricted public use. However, users should acknowledge the source of the data in any reports, publications, or presentations where the data is used.&lt;/span&gt;&lt;/p&gt;&lt;/div&gt;&lt;/div&gt;&lt;/div&gt;</useLimit>
</Consts>
</resConst>
<dataLang>
<languageCode value="eng"/>
<countryCode Sync="TRUE" value="USA"/>
</dataLang>
<dataExt>
<exDesc>Ground Condition - LiDAR: Leica ALS50 &amp; Leica ALS70</exDesc>
<tempEle>
<TempExtent>
<exTemp>
<TM_Period>
<tmBegin>2013-09-28</tmBegin>
<tmEnd>2013-11-26</tmEnd>
</TM_Period>
</exTemp>
</TempExtent>
</tempEle>
</dataExt>
<dataExt>
<geoEle>
<GeoBndBox>
<westBL>-123.238581</westBL>
<eastBL>-122.390681</eastBL>
<southBL>38.298129</southBL>
<northBL>38.511668</northBL>
</GeoBndBox>
</geoEle>
</dataExt>
<envirDesc Sync="TRUE"> Version 6.2 (Build 9200) ; Esri ArcGIS 10.7.1.11595</envirDesc>
<spatRpType>
<SpatRepTypCd Sync="TRUE" value="002"/>
</spatRpType>
<dataExt>
<geoEle>
<GeoBndBox esriExtentType="search">
<exTypeCode Sync="TRUE">1</exTypeCode>
<westBL Sync="TRUE">-123.565035</westBL>
<eastBL Sync="TRUE">-122.224632</eastBL>
<northBL Sync="TRUE">39.342444</northBL>
<southBL Sync="TRUE">38.086873</southBL>
</GeoBndBox>
</geoEle>
</dataExt>
</dataIdInfo>
<dqInfo>
<dqScope>
<scpLvl>
<ScopeCd value="005"/>
</scpLvl>
</dqScope>
<report type="DQConcConsis">
<measDesc>LiDAR flight lines have been examined to ensure that there was at least 60% sidelap, there are no gaps between flightlines, and overlapping flightlines have consistent elevation values. Shaded relief images have been visually inspected for data errors such as pits, border artifacts, gaps, and shifting. The data were examined at a 1:3000 scale.</measDesc>
</report>
<report type="DQCompOm">
<measDesc>LiDAR has been collected and processed for all areas within the project study Area. In some areas of heavy vegetation and forest cover, there may be relatively few ground points in the LiDAR data. Some elevation units have been interpolated across areas in the ground model where there are no elevation data (e.g., over water, over dense vegetation). TINing the points produces large triangles and hence the elevations may be less accurate within such areas. Some elevation units have been interpolated across areas in the ground model where there are no elevation data (e.g., over water, over dense vegetation).</measDesc>
</report>
<report dimension="horizontal" type="DQAbsExtPosAcc">
<measDesc>Relative Accuracy measures the divergence between points from different flightlines. Relative Accuracy median is 0.05 meters (0.17 feet) out of 106,255,665,985 laser points over 4,133 flightlines. For more information regarding the internal consistency between ground-classified points from different overlapping flightlines please see LiDAR data report.</measDesc>
</report>
<report dimension="vertical" type="DQAbsExtPosAcc">
<measDesc>The Fundamental Vertical Accuracy (FVA) of the data set was compiled to meet 0.03 meters (0.09 feet). Accuracy was assessed using 9,685 survey ground check points. These ground check points are distributed through out the project study area. See LiDAR data report.</measDesc>
<evalMethDesc>The FVA was tested using 851 independent ground control points (GCPs) located in open terrain. The GCPs were distributed throughout the project area. Elevations from the unclassified LiDAR surface were measured for the x,y location of each check point. Elevations interpolated from the LiDAR surface were then compared to the elevation values of the surveyed control. The Root-Mean-Square (RMSE) was computed to be 0.03 m (0.09 ft.). Using withheld ground checkpoints, vertical accuracy has been tested to meet 0.05 m (0.17 ft.) FVA at 95 Percent confidence level using RMSE(z) x 1.9600 as defined by the National Standards for Spatial Data Accuracy (NSSDA); assessed and reported using National Digital Elevation Program (NDEP)/ASRPS Guidelines.</evalMethDesc>
<measResult>
<QuanResult>
<quanVal>0.05 meters RMSEz at 95 percent Confidence Interval.</quanVal>
</QuanResult>
</measResult>
</report>
<dataLineage>
<dataSource>
<srcDesc>Breaklines were created by WSI for the Hydro-flattened Bare Earth raster dataset.</srcDesc>
<srcCitatn>
<resTitle>Hydro Breaklines</resTitle>
<resAltTitle>breaklines</resAltTitle>
<date>
<pubDate>2014-02-19</pubDate>
</date>
<citRespParty>
<rpOrgName>WSI</rpOrgName>
<role>
<RoleCd value="006"/>
</role>
</citRespParty>
</srcCitatn>
<srcExt>
<exDesc>Ground Condition - Hydro Breaklines</exDesc>
<tempEle>
<TempExtent>
<exTemp>
<TM_Period>
<tmBegin>2013-09-28</tmBegin>
<tmEnd>2013-11-26</tmEnd>
</TM_Period>
</exTemp>
</TempExtent>
</tempEle>
</srcExt>
</dataSource>
<prcStep>
<stepDesc>Acquisition. LiDAR data acquisition was started September 28, 2013 and was completed on November 26, 2013. The survey is utilizing a Leica ALS50 or ALS70 laser system mounted in a Piper Navajo PA-31-325 or Cessna Caravan 208B. Near nadir scan angles were used to increase penetration of vegetation to ground surfaces. Ground level GPS and aircraft IMU were collected during the flight.</stepDesc>
<stepDateTm>2014-02-19</stepDateTm>
</prcStep>
<prcStep>
<stepDesc>Hydro-Flattening. The bare-earth DEMs were created by triangulating all ground classified points and inserting 3-D breaklines by utilizing Terra-Solid’s TerraScan and TerraModeler software. Any ground points within one meter of the breaklines were reclassified to “ignored-ground” (ASPRS code: 10) before triangulation. The highest-hit DEMs were generated from “ground” and “default” classified points. In instances where “water” classified points had the highest elevation value, the water surface elevation from the bare-earth raster were used.</stepDesc>
<stepDateTm>2014-02-19</stepDateTm>
</prcStep>
<prcStep>
<stepDesc>LiDAR Data Processing. Flight lines and data were reviewed to ensure complete coverage of the study area and positional accuracy of the laser points. Laser point return coordinates were computed using ALS Post Processor software and IPAS Pro GPS/INS software, based on independent data from the LiDAR system, IMU, and aircraft. The raw LiDAR file was assembled into flight lines per return with each point having an associated x, y, and z coordinate. Visual inspection of swath to swath laser point consistencies within the study area were used to perform manual refinements of system alignment. Custom algorithms were designed to evaluate points between adjacent flight lines. Automated system alignment was computed based upon randomly selected swath to swath accuracy measurements that consider elevation, slope, and intensities. Specifically, refinement in the combination of system pitch, roll and yaw offset parameters optimize internal consistency. Noise (e.g., pits and birds) was filtered using ALS post-processing software, based on known elevation ranges and included the removal of any cycle slips. Using TerraScan and MicroStation, ground classifications utilized custom settings appropriate to the study area. The corrected and filtered return points were compared to the RTK ground survey points collected to verify the vertical and horizontal accuracies. Points were output as laser points, TINed and GRIDed surfaces.</stepDesc>
<stepDateTm>2014-02-19</stepDateTm>
</prcStep>
</dataLineage>
</dqInfo>
<spatRepInfo>
<Georect>
<numDims Sync="TRUE">2</numDims>
<cellGeo>
<CellGeoCd Sync="TRUE" value="002"/>
</cellGeo>
<tranParaAv Sync="TRUE">1</tranParaAv>
<chkPtAv Sync="TRUE">0</chkPtAv>
<cornerPts>
<pos Sync="TRUE">-13755196.748793 4591705.359411</pos>
</cornerPts>
<cornerPts>
<pos Sync="TRUE">-13755196.748793 4770843.078486</pos>
</cornerPts>
<cornerPts>
<pos Sync="TRUE">-13605983.743967 4770843.078486</pos>
</cornerPts>
<cornerPts>
<pos Sync="TRUE">-13605983.743967 4591705.359411</pos>
</cornerPts>
<centerPt>
<pos Sync="TRUE">-13680590.246380 4681274.218948</pos>
</centerPt>
<axisDimension type="002">
<dimSize Sync="TRUE">163181</dimSize>
<dimResol>
<value Sync="TRUE" uom="m">0.914402</value>
</dimResol>
</axisDimension>
<axisDimension type="001">
<dimSize Sync="TRUE">195907</dimSize>
<dimResol>
<value Sync="TRUE" uom="m">0.914402</value>
</dimResol>
</axisDimension>
<ptInPixel>
<PixOrientCd Sync="TRUE" value="001"/>
</ptInPixel>
</Georect>
</spatRepInfo>
<eainfo>
<overview>
<eaover>This raster data set represents ground surface and hydro-flattened water surface elevations derived from ground classified LiDAR point data.</eaover>
<eadetcit>Sonoma County Vegetation Mapping and LiDAR Program</eadetcit>
</overview>
</eainfo>
<refSysInfo>
<RefSystem>
<refSysID>
<identCode Sync="TRUE" code="3857"/>
<idCodeSpace Sync="TRUE">EPSG</idCodeSpace>
<idVersion Sync="TRUE">8.8(9.3.1.2)</idVersion>
</refSysID>
</RefSystem>
</refSysInfo>
<contInfo>
<ImgDesc>
<contentTyp>
<ContentTypCd Sync="TRUE" value="001"/>
</contentTyp>
<covDim>
<Band>
<dimDescrp Sync="TRUE">Band_1</dimDescrp>
<maxVal Sync="TRUE">4488.942871</maxVal>
<minVal Sync="TRUE">-4.597893</minVal>
<bitsPerVal Sync="TRUE">32</bitsPerVal>
<valUnit>
<UOM type="length"/>
</valUnit>
</Band>
</covDim>
</ImgDesc>
</contInfo>
</metadata>
