{ "currentVersion": 11.3, "serviceDescription": "
A bare earth digital elevation model (DEM) represents the earth's surface with all vegetation and human-made structures removed. The bare earth DEMs were derived from LiDAR data using triangulated irregular network (TIN) processing of the ground point returns. Hydro-flattened Bare Earth DEMs represent water bodies in a cartographically and aesthetically pleasing manner, and are not intended to accurately map water surface elevations. In a Hydro-flattened DEM, water surfaces are flat and level for lakes with a greater area than two acres, and gradated for rivers or other long impoundments (e.g., reservoirs) that are wider than 100 feet, and tidal areas. Any existing island larger than one acre was be delineated. Water surface edge elevations were at or below the immediately surrounding terrain. Each image corresponds to a 37,800-square-foot tile. Each pixel is 3 feet and represents an average elevation for that area. The specified coordinate system for this dataset is California State Plane Zone II (FIPS 0402), NAD83 (2011), with units in US Survey Feet for horizontal, and vertical units are NAVD88 (12A) US Survey Feet. The dataset encompasses a portion of Sonoma County. WSI collected the LiDAR and created this data set for the Sonoma County Vegetation Mapping and LiDAR Consortium.<\/span><\/p><\/div><\/div><\/div>",
"name": "Rasters/Lidar_HydroFlat_BareEarth_HS_2013",
"description": " A bare earth digital elevation model (DEM) represents the earth's surface with all vegetation and human-made structures removed. The bare earth DEMs were derived from LiDAR data using triangulated irregular network (TIN) processing of the ground point returns. Hydro-flattened Bare Earth DEMs represent water bodies in a cartographically and aesthetically pleasing manner, and are not intended to accurately map water surface elevations. In a Hydro-flattened DEM, water surfaces are flat and level for lakes with a greater area than two acres, and gradated for rivers or other long impoundments (e.g., reservoirs) that are wider than 100 feet, and tidal areas. Any existing island larger than one acre was be delineated. Water surface edge elevations were at or below the immediately surrounding terrain. Each image corresponds to a 37,800-square-foot tile. Each pixel is 3 feet and represents an average elevation for that area. The specified coordinate system for this dataset is California State Plane Zone II (FIPS 0402), NAD83 (2011), with units in US Survey Feet for horizontal, and vertical units are NAVD88 (12A) US Survey Feet. The dataset encompasses a portion of Sonoma County. WSI collected the LiDAR and created this data set for the Sonoma County Vegetation Mapping and LiDAR Consortium.<\/span><\/p><\/div><\/div><\/div>",
"extent": {
"xmin": 6119016.656045854,
"ymin": 1797201.8937079296,
"xmax": 6497017.16888843,
"ymax": 2250801.9213600755,
"spatialReference": {
"wkt2": "PROJCRS[\"NAD_1983_StatePlane_California_II_FIPS_0402_Feet_2011\",BASEGEOGCRS[\"GCS_NAD_1983_2011\",DATUM[\"D_NAD_1983_2011\",ELLIPSOID[\"GRS_1980\",6378137.0,298.257222101,LENGTHUNIT[\"Meter\",1.0]]],PRIMEM[\"Greenwich\",0.0,ANGLEUNIT[\"Degree\",0.0174532925199433]],CS[ellipsoidal,2],ANGLEUNIT[\"Degree\",0.0174532925199433]],CONVERSION[\"Lambert_Conformal_Conic\",METHOD[\"Lambert_Conformal_Conic\"],PARAMETER[\"false_easting\",6561666.666666666,LENGTHUNIT[\"Foot_US\",0.3048006096012192]],PARAMETER[\"false_northing\",1640416.666666667,LENGTHUNIT[\"Foot_US\",0.3048006096012192]],PARAMETER[\"central_meridian\",-122.0,ANGLEUNIT[\"Degree\",0.0174532925199433]],PARAMETER[\"standard_parallel_1\",38.33333333333334,ANGLEUNIT[\"Degree\",0.0174532925199433]],PARAMETER[\"standard_parallel_2\",39.83333333333334,ANGLEUNIT[\"Degree\",0.0174532925199433]],PARAMETER[\"latitude_of_origin\",37.66666666666666,ANGLEUNIT[\"Degree\",0.0174532925199433]]],CS[Cartesian,2],AXIS[\"Easting (X)\",east,ORDER[1]],AXIS[\"Northing (Y)\",north,ORDER[2]],LENGTHUNIT[\"Foot_US\",0.3048006096012192]]",
"wkt": "PROJCS[\"NAD_1983_StatePlane_California_II_FIPS_0402_Feet_2011\",GEOGCS[\"GCS_NAD_1983_2011\",DATUM[\"D_NAD_1983_2011\",SPHEROID[\"GRS_1980\",6378137.0,298.257222101]],PRIMEM[\"Greenwich\",0.0],UNIT[\"Degree\",0.0174532925199433]],PROJECTION[\"Lambert_Conformal_Conic\"],PARAMETER[\"false_easting\",6561666.666666666],PARAMETER[\"false_northing\",1640416.666666667],PARAMETER[\"central_meridian\",-122.0],PARAMETER[\"standard_parallel_1\",38.33333333333334],PARAMETER[\"standard_parallel_2\",39.83333333333334],PARAMETER[\"latitude_of_origin\",37.66666666666666],UNIT[\"Foot_US\",0.3048006096012192]]"
}
},
"initialExtent": {
"xmin": 6119016.656045854,
"ymin": 1797201.8937079296,
"xmax": 6497017.16888843,
"ymax": 2250801.9213600755,
"spatialReference": {
"wkt2": "PROJCRS[\"NAD_1983_StatePlane_California_II_FIPS_0402_Feet_2011\",BASEGEOGCRS[\"GCS_NAD_1983_2011\",DATUM[\"D_NAD_1983_2011\",ELLIPSOID[\"GRS_1980\",6378137.0,298.257222101,LENGTHUNIT[\"Meter\",1.0]]],PRIMEM[\"Greenwich\",0.0,ANGLEUNIT[\"Degree\",0.0174532925199433]],CS[ellipsoidal,2],ANGLEUNIT[\"Degree\",0.0174532925199433]],CONVERSION[\"Lambert_Conformal_Conic\",METHOD[\"Lambert_Conformal_Conic\"],PARAMETER[\"false_easting\",6561666.666666666,LENGTHUNIT[\"Foot_US\",0.3048006096012192]],PARAMETER[\"false_northing\",1640416.666666667,LENGTHUNIT[\"Foot_US\",0.3048006096012192]],PARAMETER[\"central_meridian\",-122.0,ANGLEUNIT[\"Degree\",0.0174532925199433]],PARAMETER[\"standard_parallel_1\",38.33333333333334,ANGLEUNIT[\"Degree\",0.0174532925199433]],PARAMETER[\"standard_parallel_2\",39.83333333333334,ANGLEUNIT[\"Degree\",0.0174532925199433]],PARAMETER[\"latitude_of_origin\",37.66666666666666,ANGLEUNIT[\"Degree\",0.0174532925199433]]],CS[Cartesian,2],AXIS[\"Easting (X)\",east,ORDER[1]],AXIS[\"Northing (Y)\",north,ORDER[2]],LENGTHUNIT[\"Foot_US\",0.3048006096012192]]",
"wkt": "PROJCS[\"NAD_1983_StatePlane_California_II_FIPS_0402_Feet_2011\",GEOGCS[\"GCS_NAD_1983_2011\",DATUM[\"D_NAD_1983_2011\",SPHEROID[\"GRS_1980\",6378137.0,298.257222101]],PRIMEM[\"Greenwich\",0.0],UNIT[\"Degree\",0.0174532925199433]],PROJECTION[\"Lambert_Conformal_Conic\"],PARAMETER[\"false_easting\",6561666.666666666],PARAMETER[\"false_northing\",1640416.666666667],PARAMETER[\"central_meridian\",-122.0],PARAMETER[\"standard_parallel_1\",38.33333333333334],PARAMETER[\"standard_parallel_2\",39.83333333333334],PARAMETER[\"latitude_of_origin\",37.66666666666666],UNIT[\"Foot_US\",0.3048006096012192]]"
}
},
"fullExtent": {
"xmin": 6119016.656045854,
"ymin": 1797201.8937079296,
"xmax": 6497017.16888843,
"ymax": 2250801.9213600755,
"spatialReference": {
"wkt2": "PROJCRS[\"NAD_1983_StatePlane_California_II_FIPS_0402_Feet_2011\",BASEGEOGCRS[\"GCS_NAD_1983_2011\",DATUM[\"D_NAD_1983_2011\",ELLIPSOID[\"GRS_1980\",6378137.0,298.257222101,LENGTHUNIT[\"Meter\",1.0]]],PRIMEM[\"Greenwich\",0.0,ANGLEUNIT[\"Degree\",0.0174532925199433]],CS[ellipsoidal,2],ANGLEUNIT[\"Degree\",0.0174532925199433]],CONVERSION[\"Lambert_Conformal_Conic\",METHOD[\"Lambert_Conformal_Conic\"],PARAMETER[\"false_easting\",6561666.666666666,LENGTHUNIT[\"Foot_US\",0.3048006096012192]],PARAMETER[\"false_northing\",1640416.666666667,LENGTHUNIT[\"Foot_US\",0.3048006096012192]],PARAMETER[\"central_meridian\",-122.0,ANGLEUNIT[\"Degree\",0.0174532925199433]],PARAMETER[\"standard_parallel_1\",38.33333333333334,ANGLEUNIT[\"Degree\",0.0174532925199433]],PARAMETER[\"standard_parallel_2\",39.83333333333334,ANGLEUNIT[\"Degree\",0.0174532925199433]],PARAMETER[\"latitude_of_origin\",37.66666666666666,ANGLEUNIT[\"Degree\",0.0174532925199433]]],CS[Cartesian,2],AXIS[\"Easting (X)\",east,ORDER[1]],AXIS[\"Northing (Y)\",north,ORDER[2]],LENGTHUNIT[\"Foot_US\",0.3048006096012192]]",
"wkt": "PROJCS[\"NAD_1983_StatePlane_California_II_FIPS_0402_Feet_2011\",GEOGCS[\"GCS_NAD_1983_2011\",DATUM[\"D_NAD_1983_2011\",SPHEROID[\"GRS_1980\",6378137.0,298.257222101]],PRIMEM[\"Greenwich\",0.0],UNIT[\"Degree\",0.0174532925199433]],PROJECTION[\"Lambert_Conformal_Conic\"],PARAMETER[\"false_easting\",6561666.666666666],PARAMETER[\"false_northing\",1640416.666666667],PARAMETER[\"central_meridian\",-122.0],PARAMETER[\"standard_parallel_1\",38.33333333333334],PARAMETER[\"standard_parallel_2\",39.83333333333334],PARAMETER[\"latitude_of_origin\",37.66666666666666],UNIT[\"Foot_US\",0.3048006096012192]]"
}
},
"sortableFields": "MinPS,MaxPS,LowPS,HighPS,CenterX,CenterY,ZOrder,Shape_Length,Shape_Area",
"bandCount": 3,
"pixelType": "U8",
"minValues": [],
"maxValues": [],
"meanValues": [],
"stdvValues": [],
"hasMultidimensions": false,
"pixelSizeX": 0.9795982430555547,
"pixelSizeY": 0.9795982430555555,
"meanPixelSize": 0.29858214164761654,
"datasetFormat": "AFR",
"uncompressedSize": 536032005093,
"blockWidth": 256,
"blockHeight": 256,
"compressionType": "None",
"bandNames": [
"Band_1",
"Band_2",
"Band_3"
],
"allowCopy": true,
"allowAnalysis": true,
"itemAccess": false,
"inspectionCapabilities": "",
"minPixelSize": 0,
"maxPixelSize": 0,
"copyrightText": "Sonoma County Vegetation Mapping and LiDAR Consortium, NASA, University of Maryland, Watershed Sciences, Inc., Tukman Geospatial LLC",
"serviceDataType": "esriImageServiceDataTypeRGB",
"serviceSourceType": "esriImageServiceSourceTypeDataset",
"objectIdField": "",
"fields": [],
"capabilities": "Catalog,Mensuration,Image,Metadata",
"defaultMosaicMethod": "Northwest",
"allowedMosaicMethods": "NorthWest,Center,LockRaster,ByAttribute,Nadir,Viewpoint,Seamline,None",
"sortField": "",
"sortValue": null,
"sortAscending": true,
"mosaicOperator": "First",
"maxDownloadSizeLimit": 2048,
"defaultCompressionQuality": 75,
"defaultResamplingMethod": "Bilinear",
"maxImageHeight": 4100,
"maxImageWidth": 15000,
"maxRecordCount": 1000,
"maxDownloadImageCount": 20,
"maxMosaicImageCount": 20,
"allowRasterFunction": true,
"rasterFunctionInfos": [
{
"name": "None",
"description": "",
"help": ""
}
],
"rasterTypeInfos": [
{
"name": "Raster Dataset",
"description": "Supports all ArcGIS Raster Datasets",
"help": ""
}
],
"mensurationCapabilities": "Basic",
"hasHistograms": false,
"hasColormap": false,
"hasRasterAttributeTable": false,
"minScale": 0,
"maxScale": 0,
"exportTilesAllowed": false,
"supportsStatistics": false,
"supportsAdvancedQueries": false,
"editFieldsInfo": null,
"ownershipBasedAccessControlForRasters": null,
"allowComputeTiePoints": false,
"useStandardizedQueries": true,
"advancedQueryCapabilities": {
"useStandardizedQueries": true,
"supportsStatistics": false,
"supportsOrderBy": false,
"supportsDistinct": false,
"supportsPagination": false
},
"spatialReference": {
"wkt2": "PROJCRS[\"NAD_1983_StatePlane_California_II_FIPS_0402_Feet_2011\",BASEGEOGCRS[\"GCS_NAD_1983_2011\",DATUM[\"D_NAD_1983_2011\",ELLIPSOID[\"GRS_1980\",6378137.0,298.257222101,LENGTHUNIT[\"Meter\",1.0]]],PRIMEM[\"Greenwich\",0.0,ANGLEUNIT[\"Degree\",0.0174532925199433]],CS[ellipsoidal,2],ANGLEUNIT[\"Degree\",0.0174532925199433]],CONVERSION[\"Lambert_Conformal_Conic\",METHOD[\"Lambert_Conformal_Conic\"],PARAMETER[\"false_easting\",6561666.666666666,LENGTHUNIT[\"Foot_US\",0.3048006096012192]],PARAMETER[\"false_northing\",1640416.666666667,LENGTHUNIT[\"Foot_US\",0.3048006096012192]],PARAMETER[\"central_meridian\",-122.0,ANGLEUNIT[\"Degree\",0.0174532925199433]],PARAMETER[\"standard_parallel_1\",38.33333333333334,ANGLEUNIT[\"Degree\",0.0174532925199433]],PARAMETER[\"standard_parallel_2\",39.83333333333334,ANGLEUNIT[\"Degree\",0.0174532925199433]],PARAMETER[\"latitude_of_origin\",37.66666666666666,ANGLEUNIT[\"Degree\",0.0174532925199433]]],CS[Cartesian,2],AXIS[\"Easting (X)\",east,ORDER[1]],AXIS[\"Northing (Y)\",north,ORDER[2]],LENGTHUNIT[\"Foot_US\",0.3048006096012192]]",
"wkt": "PROJCS[\"NAD_1983_StatePlane_California_II_FIPS_0402_Feet_2011\",GEOGCS[\"GCS_NAD_1983_2011\",DATUM[\"D_NAD_1983_2011\",SPHEROID[\"GRS_1980\",6378137.0,298.257222101]],PRIMEM[\"Greenwich\",0.0],UNIT[\"Degree\",0.0174532925199433]],PROJECTION[\"Lambert_Conformal_Conic\"],PARAMETER[\"false_easting\",6561666.666666666],PARAMETER[\"false_northing\",1640416.666666667],PARAMETER[\"central_meridian\",-122.0],PARAMETER[\"standard_parallel_1\",38.33333333333334],PARAMETER[\"standard_parallel_2\",39.83333333333334],PARAMETER[\"latitude_of_origin\",37.66666666666666],UNIT[\"Foot_US\",0.3048006096012192]]"
},
"resampling": false
}