<?xml version="1.0" encoding="UTF-8" standalone="no"?>
<metadata xml:lang="en">
<Esri>
<CreaDate>20200212</CreaDate>
<CreaTime>11374400</CreaTime>
<ArcGISFormat>1.0</ArcGISFormat>
<ArcGISstyle>FGDC CSDGM Metadata Abridged2</ArcGISstyle>
<SyncOnce>FALSE</SyncOnce>
<DataProperties>
<itemProps>
<itemName Sync="TRUE">Lidar_HydroFlat_BareEarth_HS_2013_WM</itemName>
<itemLocation>
<protocol Sync="TRUE">Local Area Network</protocol>
</itemLocation>
<nativeExtBox>
<westBL Sync="TRUE">-13755196.730571</westBL>
<eastBL Sync="TRUE">-13605983.888269</eastBL>
<southBL Sync="TRUE">4591705.376964</southBL>
<northBL Sync="TRUE">4770843.017249</northBL>
<exTypeCode Sync="TRUE">1</exTypeCode>
</nativeExtBox>
<imsContentType Sync="TRUE" export="False">002</imsContentType>
</itemProps>
<coordRef>
<type Sync="TRUE">Projected</type>
<geogcsn Sync="TRUE">GCS_WGS_1984</geogcsn>
<csUnits Sync="TRUE">Linear Unit: Meter (1.000000)</csUnits>
<projcsn Sync="TRUE">WGS_1984_Web_Mercator_Auxiliary_Sphere</projcsn>
<peXml Sync="TRUE">&lt;ProjectedCoordinateSystem xsi:type='typens:ProjectedCoordinateSystem' xmlns:xsi='http://www.w3.org/2001/XMLSchema-instance' xmlns:xs='http://www.w3.org/2001/XMLSchema' xmlns:typens='http://www.esri.com/schemas/ArcGIS/10.7'&gt;&lt;WKT&gt;PROJCS[&amp;quot;WGS_1984_Web_Mercator_Auxiliary_Sphere&amp;quot;,GEOGCS[&amp;quot;GCS_WGS_1984&amp;quot;,DATUM[&amp;quot;D_WGS_1984&amp;quot;,SPHEROID[&amp;quot;WGS_1984&amp;quot;,6378137.0,298.257223563]],PRIMEM[&amp;quot;Greenwich&amp;quot;,0.0],UNIT[&amp;quot;Degree&amp;quot;,0.0174532925199433]],PROJECTION[&amp;quot;Mercator_Auxiliary_Sphere&amp;quot;],PARAMETER[&amp;quot;False_Easting&amp;quot;,0.0],PARAMETER[&amp;quot;False_Northing&amp;quot;,0.0],PARAMETER[&amp;quot;Central_Meridian&amp;quot;,0.0],PARAMETER[&amp;quot;Standard_Parallel_1&amp;quot;,0.0],PARAMETER[&amp;quot;Auxiliary_Sphere_Type&amp;quot;,0.0],UNIT[&amp;quot;Meter&amp;quot;,1.0],AUTHORITY[&amp;quot;EPSG&amp;quot;,3857]]&lt;/WKT&gt;&lt;XOrigin&gt;-20037700&lt;/XOrigin&gt;&lt;YOrigin&gt;-30241100&lt;/YOrigin&gt;&lt;XYScale&gt;148923141.92838538&lt;/XYScale&gt;&lt;ZOrigin&gt;-100000&lt;/ZOrigin&gt;&lt;ZScale&gt;10000&lt;/ZScale&gt;&lt;MOrigin&gt;-100000&lt;/MOrigin&gt;&lt;MScale&gt;10000&lt;/MScale&gt;&lt;XYTolerance&gt;0.001&lt;/XYTolerance&gt;&lt;ZTolerance&gt;0.001&lt;/ZTolerance&gt;&lt;MTolerance&gt;0.001&lt;/MTolerance&gt;&lt;HighPrecision&gt;true&lt;/HighPrecision&gt;&lt;WKID&gt;102100&lt;/WKID&gt;&lt;LatestWKID&gt;3857&lt;/LatestWKID&gt;&lt;/ProjectedCoordinateSystem&gt;</peXml>
</coordRef>
<RasterProperties>
<General>
<PixelDepth Sync="TRUE">32</PixelDepth>
<HasColormap Sync="TRUE">FALSE</HasColormap>
<CompressionType Sync="TRUE">Mixed</CompressionType>
<NumBands Sync="TRUE">1</NumBands>
<Format Sync="TRUE">Cache/Mixed</Format>
<HasPyramids Sync="TRUE">TRUE</HasPyramids>
<SourceType Sync="TRUE">continuous</SourceType>
<PixelType Sync="TRUE">unsigned integer</PixelType>
<NoDataValue Sync="TRUE"/>
</General>
</RasterProperties>
</DataProperties>
<SyncDate>20201215</SyncDate>
<SyncTime>09174800</SyncTime>
<ModDate>20201215</ModDate>
<ModTime>9215400</ModTime>
<scaleRange>
<minScale>150000000</minScale>
<maxScale>5000</maxScale>
</scaleRange>
<ArcGISProfile>FGDC</ArcGISProfile>
</Esri>
<mdLang>
<languageCode value="eng"/>
<countryCode Sync="TRUE" value="USA"/>
</mdLang>
<mdChar>
<CharSetCd value="004"/>
</mdChar>
<mdHrLv>
<ScopeCd value="005"/>
</mdHrLv>
<mdContact>
<rpOrgName>WSI</rpOrgName>
<rpCntInfo>
<cntPhone>
<voiceNum>503-505-5100</voiceNum>
<faxNum>503-546-6801</faxNum>
</cntPhone>
<cntAddress addressType="physical">
<delPoint>421 SW 6th Ave, Suite 800</delPoint>
<city>Portland</city>
<adminArea>OR</adminArea>
<postCode>97204</postCode>
<country>US</country>
</cntAddress>
</rpCntInfo>
<role>
<RoleCd value="007"/>
</role>
</mdContact>
<mdDateSt Sync="TRUE">20201215</mdDateSt>
<mdStanName>ArcGIS Metadata</mdStanName>
<mdStanVer>1.0</mdStanVer>
<distInfo>
<distributor>
<distorCont>
<rpOrgName>Sonoma County Agricultural Preservation and Open Space District</rpOrgName>
<rpCntInfo>
<cntPhone>
<voiceNum>(707) 565-7369</voiceNum>
</cntPhone>
<cntAddress addressType="both">
<delPoint>747 Mendocino Ave, Suite 100</delPoint>
<city>Santa Rosa</city>
<adminArea>CA</adminArea>
<postCode>95401</postCode>
<country>US</country>
</cntAddress>
</rpCntInfo>
<role>
<RoleCd value="005"/>
</role>
</distorCont>
</distributor>
<distFormat>
<formatName Sync="TRUE">Raster Dataset</formatName>
</distFormat>
</distInfo>
<dataIdInfo>
<idCitation>
<resTitle Sync="TRUE">Lidar_HydroFlat_BareEarth_HS_2013_WM</resTitle>
<date>
<pubDate>2014-03-21</pubDate>
</date>
<citRespParty>
<rpOrgName>Sonoma County Vegetation Mapping and LiDAR Program</rpOrgName>
<role>
<RoleCd value="006"/>
</role>
</citRespParty>
<presForm>
<PresFormCd value="005"/>
</presForm>
<presForm>
<fgdcGeoform>remote-sensing image</fgdcGeoform>
</presForm>
</idCitation>
<idAbs>&lt;div style='text-align:Left;'&gt;&lt;p style='margin:0 0 11 0;'&gt;&lt;span&gt;The hillshade is a greyscale image showing topography in the landscape. In this case it is created from a LiDAR derived &lt;/span&gt;&lt;span&gt;hydro-flattened &lt;/span&gt;&lt;span&gt;bare earth digital elevation model illuminated by hypothetical light source shining from the north west. A &lt;/span&gt;&lt;span&gt;hydro flattened &lt;/span&gt;&lt;span&gt;bare earth digital elevation model (DEM) represents the earth's surface with all vegetation and human-made structures removed. In addition bodies of waters 2acres or larger have been smoothed.&lt;/span&gt;&lt;/p&gt;&lt;p style='margin:0 0 11 0;'&gt;&lt;span&gt;The DEM used to create this hillshade is described as a bare earth digital elevation model (DEM) representing the earth's surface with all vegetation and human-made structures removed. The bare earth DEMs were derived from LiDAR data using triangulated irregular network (TIN) processing of the ground point returns. Each image corresponds to a 37,800-square-foot tile. Each pixel is 3 feet and represents an average elevation for that area.&lt;/span&gt;&lt;/p&gt;&lt;/div&gt;</idAbs>
<idPurp>A high resolution LiDAR derived hillshade facilitates the visualization of the topography of a landscape at a variety of scales. This hillshade which was created from a LiDAR derived hydro-flattened bare earth digital elevation model shows the signal returns without any vegetation or human-made structures. In addition to that, bodies of water have been smoothed. This layer may be used on its own or in conjunction with other data.
The Sonoma County Vegetation Mapping and LiDAR Program (http://sonomavegmap.org) and the University of Maryland (under grant NNX13AP69G from NASA’s Carbon Monitoring System, Dr. Ralph Dubayah, PI) contracted LiDAR and orthophoto data collection for all of Sonoma County in late 2013. Also included in the data collection were two areas in Mendocino County - the Soda Spring Creek-Dry Creek Watershed and Lake Mendocino. This fine scale data will help provide an accurate, up-to-date inventory of the county’s landscape features, ecological communities and habitats. Project funders include: NASA, the University of Maryland, the Sonoma County Agricultural Preservation and Open Space District, the Sonoma County Water Agency, the California Department of Fish and Wildlife, the United States Geological Survey, the Sonoma County Information Systems Department, the Sonoma County Transportation and Public Works Department, the Nature Conservancy, and the City of Petaluma.</idPurp>
<idCredit>Sonoma County Vegetation Mapping and LiDAR Consortium, NASA, University of Maryland, Watershed Sciences, Inc., Tukman Geospatial LLC</idCredit>
<idStatus>
<ProgCd value="001"/>
</idStatus>
<resMaint>
<maintFreq>
<MaintFreqCd value="011"/>
</maintFreq>
</resMaint>
<placeKeys>
<keyword>Sonoma County</keyword>
<keyword>Mendocino Lake</keyword>
<keyword>Dry Creek</keyword>
</placeKeys>
<themeKeys>
<keyword>Sonoma County</keyword>
<keyword>WSI</keyword>
<keyword>Airborne Survey</keyword>
<keyword>Light Detection and Ranging</keyword>
<keyword>LiDAR Rectified Orthophotographs</keyword>
<keyword>Ortho</keyword>
<keyword>Digital Orthophoto</keyword>
<keyword>Orthophotography</keyword>
<keyword>high resolution color imagery</keyword>
<keyword>color infrared</keyword>
<keyword>CIR</keyword>
<keyword>NIR</keyword>
<keyword>near-infrared</keyword>
<keyword>aerial photographs</keyword>
</themeKeys>
<themeKeys>
<thesaName>
<resTitle>ISO 19115 Topic Categories</resTitle>
</thesaName>
<keyword>imageryBaseMapsEarthCover</keyword>
</themeKeys>
<searchKeys>
<keyword>imageryBaseMapsEarthCover</keyword>
<keyword>Sonoma County</keyword>
<keyword>Mendocino Lake</keyword>
<keyword>Dry Creek</keyword>
<keyword>Sonoma County</keyword>
<keyword>WSI</keyword>
<keyword>Airborne Survey</keyword>
<keyword>Light Detection and Ranging</keyword>
<keyword>LiDAR Rectified Orthophotographs</keyword>
<keyword>Ortho</keyword>
<keyword>Digital Orthophoto</keyword>
<keyword>Orthophotography</keyword>
<keyword>high resolution color imagery</keyword>
<keyword>color infrared</keyword>
<keyword>CIR</keyword>
<keyword>NIR</keyword>
<keyword>near-infrared</keyword>
<keyword>aerial photographs</keyword>
</searchKeys>
<resConst>
<LegConsts>
<useLimit>Data were provided by the University of Maryland and the Sonoma County Vegetation Mapping and LiDAR Program (http://sonomavegmap.org) under grant NNX13AP69G from NASA’s Carbon Monitoring System (Dr. Ralph Dubayah, PI). This data is available for unrestricted public use. However, users should acknowledge the source of the data in any reports, publications, or presentations where the data is used.</useLimit>
</LegConsts>
</resConst>
<resConst>
<Consts>
<useLimit>&lt;div style='text-align:Left;'&gt;&lt;div&gt;&lt;p&gt;&lt;span&gt;Data were provided by the University of Maryland and the Sonoma County Vegetation Mapping and LiDAR Program (http://sonomavegmap.org) under grant NNX13AP69G from NASA’s Carbon Monitoring System (Dr. Ralph Dubayah, PI). This data is available for unrestricted public use. However, users should acknowledge the source of the data in any reports, publications, or presentations where the data is used.&lt;/span&gt;&lt;/p&gt;&lt;/div&gt;&lt;/div&gt;</useLimit>
</Consts>
</resConst>
<dataLang>
<languageCode value="eng"/>
<countryCode Sync="TRUE" value="USA"/>
</dataLang>
<dataExt>
<geoEle>
<GeoBndBox>
<westBL>-123.548077</westBL>
<eastBL>-122.345272</eastBL>
<southBL>38.098597</southBL>
<northBL>39.246035</northBL>
</GeoBndBox>
</geoEle>
</dataExt>
<dataExt>
<exDesc>Ground Condition - LiDAR: Leica ALS50 &amp; Leica ALS70</exDesc>
<tempEle>
<TempExtent>
<exTemp>
<TM_Period>
<tmBegin>2013-10-01T00:00:00</tmBegin>
<tmEnd>2013-10-28T00:00:00</tmEnd>
</TM_Period>
</exTemp>
</TempExtent>
</tempEle>
</dataExt>
<envirDesc Sync="TRUE">Microsoft Windows 7 Version 6.1 (Build 7601) Service Pack 1; Esri ArcGIS 10.7.1.11595</envirDesc>
<spatRpType>
<SpatRepTypCd Sync="TRUE" value="002"/>
</spatRpType>
<dataExt>
<geoEle>
<GeoBndBox esriExtentType="search">
<exTypeCode Sync="TRUE">1</exTypeCode>
<westBL Sync="TRUE">-123.565035</westBL>
<eastBL Sync="TRUE">-122.224633</eastBL>
<northBL Sync="TRUE">39.342443</northBL>
<southBL Sync="TRUE">38.086873</southBL>
</GeoBndBox>
</geoEle>
</dataExt>
<dataChar>
<CharSetCd value="004"/>
</dataChar>
<tpCat>
<TopicCatCd value="010"/>
</tpCat>
</dataIdInfo>
<dqInfo>
<dqScope>
<scpLvl>
<ScopeCd value="005"/>
</scpLvl>
</dqScope>
<report type="DQConcConsis">
<measDesc>Flight lines have been examined to ensure that there was at least 60% sidelap, there are no gaps between flight lines, and overlapping flight lines have consistent elevation values. All orthophotographs have been processed and reviewed for contracted accuracy and completeness. Orthophoto mosaics were reviewed at a scale of 1:2000 and reviewed against the LiDAR intensities to ensure no seam artifacts or offsets.</measDesc>
</report>
<report type="DQCompOm">
<measDesc>Raw acquired images were radiometrically and geometrically corrected using the camera’s calibration files. The resulting radiometry is then manually edited by digitally adjusting output levels, exposure and intensity, atmospheric haze correction, and applying hotspot dodging. This ensures that each image has the appropriate tone, no pixels are clipped, and that each image frame is blended with its neighbors. Once radiometry has been edited, separate RGBI and Panchromatic images are blended together to form single pan-sharpened 4 band TIFF images. During the mosaicking stage, orthorectified frames are color balanced a second time using an automated global tilting method and in certain cases, further manual balancing. Despite these extensive radiometric blending techniques, occasional frame to frame radiometric discrepancy may exist within the final mosaics due to bi-directional solar reflectance, changing sun angle, or difficult atmospheric conditions.</measDesc>
</report>
<report dimension="horizontal" type="DQAbsExtPosAcc">
<measDesc>To assess the spatial accuracy of the orthophotographs, they were compared against check points identified from the LiDAR intensity images. The checkpoints were distributed evenly across the total acquired area, and were measured on surface features such as painted road lines and fixed high-contrast objects on the ground surface. Horizontal accuracy applies only to the portion of the swath that was orthorectified to the LiDAR-derived DEM. Outside of that, accuracy and radiometry at ortho seams are not guaranteed. The accuracy of the final mosaic was calculated in relation to the LiDAR-derived control points.</measDesc>
<evalMethDesc>The orthophoto horizontal accuracy is reported as the root-mean-square error (RMSE).</evalMethDesc>
<measResult>
<QuanResult>
<quanVal>0.27 meters</quanVal>
</QuanResult>
</measResult>
</report>
<dataLineage>
<prcStep>
<stepDesc>Acquisition. Orthophoto data acquisition was conducted from October 1 to October 28, 2013. The survey utilized a UltraCam Eagle 260 megapixel camera system mounted in a Cessna 208-B Grand Caravan.</stepDesc>
<stepDateTm>2013-10-28</stepDateTm>
</prcStep>
<prcStep>
<stepDesc>Processing. 1. Resolve GPS kinematic corrections for aircraft position data using kinematic aircraft GPS (collected at two hertz) and static ground GPS (one hertz) data collected over geodetic controls. 2. Develop a smoothed best estimate of trajectory (SBET) file that blends post-processed aircraft position with attitude data. Sensor heading, position, and attitude will be calculated throughout the survey. 3. Create an exterior orientation (EO) files for each photo image with omega, phi, and kappa. 4. Convert “Level 00” raw imagery into geometrically corrected “Level 02” image files. 5. Apply radiometric adjustments to “Level 02” image files to create “Level 03” Pan-sharpened tiffs. 6. Apply EO to photos, measure ground control points, and perform aerial triangulation. 7. Import DEM, orthorectify, and clip triangulated photos to specified area of interest. 8. Mosaic orthorectified imagery, blending seams between individual photos and correcting for radiometric differences between photos.</stepDesc>
<stepDateTm>2014-03-21</stepDateTm>
</prcStep>
</dataLineage>
</dqInfo>
<spatRepInfo>
<Georect>
<numDims Sync="TRUE">2</numDims>
<cellGeo>
<CellGeoCd Sync="TRUE" value="002"/>
</cellGeo>
<tranParaAv Sync="TRUE">1</tranParaAv>
<chkPtAv Sync="TRUE">0</chkPtAv>
<cornerPts>
<pos Sync="TRUE">-13755196.730571 4591705.376964</pos>
</cornerPts>
<cornerPts>
<pos Sync="TRUE">-13755196.730571 4770843.017249</pos>
</cornerPts>
<cornerPts>
<pos Sync="TRUE">-13605983.888269 4770843.017249</pos>
</cornerPts>
<cornerPts>
<pos Sync="TRUE">-13605983.888269 4591705.376964</pos>
</cornerPts>
<centerPt>
<pos Sync="TRUE">-13680590.309420 4681274.197106</pos>
</centerPt>
<axisDimension type="002">
<dimSize Sync="TRUE">499738</dimSize>
<dimResol>
<value Sync="TRUE" uom="m">0.298582</value>
</dimResol>
</axisDimension>
<axisDimension type="001">
<dimSize Sync="TRUE">599961</dimSize>
<dimResol>
<value Sync="TRUE" uom="m">0.298582</value>
</dimResol>
</axisDimension>
<ptInPixel>
<PixOrientCd Sync="TRUE" value="001"/>
</ptInPixel>
</Georect>
</spatRepInfo>
<eainfo>
<overview>
<eaover>This raster data set represents high resolution orthophotographs acquired during an aerial survey.</eaover>
<eadetcit>WSI</eadetcit>
</overview>
</eainfo>
<mdHrLvName Sync="TRUE">dataset</mdHrLvName>
<refSysInfo>
<RefSystem>
<refSysID>
<identCode Sync="TRUE" code="3857"/>
<idCodeSpace Sync="TRUE">EPSG</idCodeSpace>
<idVersion Sync="TRUE">8.8(9.3.1.2)</idVersion>
</refSysID>
</RefSystem>
</refSysInfo>
<contInfo>
<ImgDesc>
<contentTyp>
<ContentTypCd Sync="TRUE" value="001"/>
</contentTyp>
<covDim>
<Band>
<dimDescrp Sync="TRUE">Band_1</dimDescrp>
<bitsPerVal Sync="TRUE">32</bitsPerVal>
<valUnit>
<UOM type="length"/>
</valUnit>
</Band>
</covDim>
</ImgDesc>
</contInfo>
</metadata>
