<?xml version="1.0" encoding="UTF-8" standalone="no"?>
<metadata xml:lang="en">
<Esri>
<CreaDate>20250619</CreaDate>
<CreaTime>09130800</CreaTime>
<ArcGISFormat>1.0</ArcGISFormat>
<SyncOnce>FALSE</SyncOnce>
<DataProperties>
<lineage>
<Process Date="20250619" Time="091308" ToolSource="c:\program files (x86)\arcgis\desktop10.8\ArcToolbox\Toolboxes\Spatial Analyst Tools.tbx\Reclassify">Reclassify Slope_HYDROF2 Value "0.000054 5 1;5 10 2;10 15 3;15 20 4;20 25 5;25 30 6;30 40 7;40 50 8;50 2823.580322 9" C:\Users\mhansen\Documents\ArcGIS\Default.gdb\Reclass_Slop2 DATA</Process>
<Process Date="20250625" Time="105515" ToolSource="c:\program files\arcgis\pro\Resources\ArcToolbox\Toolboxes\Data Management Tools.tbx\Rename">Rename \\s-wgisadmimg\PublishingRasters\StatePlane\SlopePercentage\SlopePercentage_2013\SlopePercentage_2013.gdb\SlopeRcls2013 \\s-wgisadmimg\PublishingRasters\StatePlane\SlopePercentage\SlopePercentage_2013\SlopePercentage_2013.gdb\Lidar_Slope_Percent_Reclassified_2013 RasterDataset</Process>
</lineage>
<itemProps>
<imsContentType Sync="TRUE" export="False">002</imsContentType>
<itemName Sync="TRUE">Lidar_Slope_Percent_Reclassified_2013</itemName>
<nativeExtBox>
<westBL Sync="TRUE">6119016.999954</westBL>
<eastBL Sync="TRUE">6497016.999954</eastBL>
<southBL Sync="TRUE">1797202.000025</southBL>
<northBL Sync="TRUE">2250802.000025</northBL>
<exTypeCode Sync="TRUE">1</exTypeCode>
</nativeExtBox>
<itemLocation>
<linkage Sync="TRUE">file://\\s-wgisadmimg\PublishingRasters\StatePlane\SlopePercentage\SlopePercentage_2013\SlopePercentage_2013.gdb</linkage>
<protocol Sync="TRUE">Local Area Network</protocol>
</itemLocation>
</itemProps>
<coordRef>
<type Sync="TRUE">Projected</type>
<geogcsn Sync="TRUE">GCS_NAD_1983_2011</geogcsn>
<csUnits Sync="TRUE">Linear Unit: Foot_US (0.304801)</csUnits>
<projcsn Sync="TRUE">NAD_1983_StatePlane_California_II_FIPS_0402_Feet_2011</projcsn>
<peXml Sync="TRUE">&lt;ProjectedCoordinateSystem xsi:type='typens:ProjectedCoordinateSystem' xmlns:xsi='http://www.w3.org/2001/XMLSchema-instance' xmlns:xs='http://www.w3.org/2001/XMLSchema' xmlns:typens='http://www.esri.com/schemas/ArcGIS/3.4.0'&gt;&lt;WKT&gt;PROJCS[&amp;quot;NAD_1983_StatePlane_California_II_FIPS_0402_Feet_2011&amp;quot;,GEOGCS[&amp;quot;GCS_NAD_1983_2011&amp;quot;,DATUM[&amp;quot;D_NAD_1983_2011&amp;quot;,SPHEROID[&amp;quot;GRS_1980&amp;quot;,6378137.0,298.257222101]],PRIMEM[&amp;quot;Greenwich&amp;quot;,0.0],UNIT[&amp;quot;Degree&amp;quot;,0.0174532925199433]],PROJECTION[&amp;quot;Lambert_Conformal_Conic&amp;quot;],PARAMETER[&amp;quot;false_easting&amp;quot;,6561666.666666666],PARAMETER[&amp;quot;false_northing&amp;quot;,1640416.666666667],PARAMETER[&amp;quot;central_meridian&amp;quot;,-122.0],PARAMETER[&amp;quot;standard_parallel_1&amp;quot;,38.33333333333334],PARAMETER[&amp;quot;standard_parallel_2&amp;quot;,39.83333333333334],PARAMETER[&amp;quot;latitude_of_origin&amp;quot;,37.66666666666666],UNIT[&amp;quot;Foot_US&amp;quot;,0.3048006096012192]]&lt;/WKT&gt;&lt;XOrigin&gt;-115211800&lt;/XOrigin&gt;&lt;YOrigin&gt;-93821500&lt;/YOrigin&gt;&lt;XYScale&gt;36983428.057351544&lt;/XYScale&gt;&lt;ZOrigin&gt;-100000&lt;/ZOrigin&gt;&lt;ZScale&gt;10000&lt;/ZScale&gt;&lt;MOrigin&gt;-100000&lt;/MOrigin&gt;&lt;MScale&gt;10000&lt;/MScale&gt;&lt;XYTolerance&gt;0.0032808333333333331&lt;/XYTolerance&gt;&lt;ZTolerance&gt;0.001&lt;/ZTolerance&gt;&lt;MTolerance&gt;0.001&lt;/MTolerance&gt;&lt;HighPrecision&gt;true&lt;/HighPrecision&gt;&lt;/ProjectedCoordinateSystem&gt;</peXml>
</coordRef>
</DataProperties>
<scaleRange>
<minScale>50000</minScale>
<maxScale>5000</maxScale>
</scaleRange>
<SyncDate>20250625</SyncDate>
<SyncTime>11011000</SyncTime>
<ModDate>20250625</ModDate>
<ModTime>11011000</ModTime>
</Esri>
<mdLang>
<languageCode Sync="TRUE" value="eng"/>
<countryCode Sync="TRUE" value="USA"/>
</mdLang>
<mdChar>
<CharSetCd Sync="TRUE" value="004"/>
</mdChar>
<mdHrLv>
<ScopeCd Sync="TRUE" value="005"/>
</mdHrLv>
<mdHrLvName Sync="TRUE">dataset</mdHrLvName>
<mdDateSt Sync="TRUE">20250625</mdDateSt>
<distInfo>
<distFormat>
<formatName Sync="TRUE">File Geodatabase Raster Dataset</formatName>
</distFormat>
</distInfo>
<dataIdInfo>
<envirDesc Sync="TRUE">Microsoft Windows 10 Version 10.0 (Build 22631) ; Esri ArcGIS 13.4.0.55405</envirDesc>
<dataLang>
<languageCode Sync="TRUE" value="eng"/>
<countryCode Sync="TRUE" value="USA"/>
</dataLang>
<idCitation>
<resTitle Sync="FALSE">Lidar_Slope_Percent_Reclassified_2013</resTitle>
<presForm>
<PresFormCd Sync="TRUE" value="011"/>
</presForm>
<date>
<pubDate>2018-01-04T00:00:00</pubDate>
</date>
<citRespParty>
<editorSource>external</editorSource>
<editorDigest>1051abdf711ac857ec4ca272c0bfb14b</editorDigest>
<rpIndName>Information Systems Department GIS Manager</rpIndName>
<rpOrgName>County of Sonoma Sheriff's Department</rpOrgName>
<rpPosName>Project Manager</rpPosName>
<rpCntInfo>
<cntAddress addressType="physical">
<delPoint>2615 Paulin Dr</delPoint>
<city>Santa Rosa</city>
<adminArea>CA</adminArea>
<postCode>95403</postCode>
<eMailAdd>ISD-ServiceDesk@sonoma-county.org</eMailAdd>
<country>US</country>
</cntAddress>
<cntPhone>
<voiceNum tddtty="">(707)565-2030</voiceNum>
<faxNum>(707)565-3009</faxNum>
</cntPhone>
<cntHours>8:00 am to 5:00 pm. Monday - Friday</cntHours>
</rpCntInfo>
<editorSave>True</editorSave>
<displayName>Information Systems Department GIS Manager</displayName>
<role>
<RoleCd value="006"/>
</role>
</citRespParty>
</idCitation>
<spatRpType>
<SpatRepTypCd Sync="TRUE" value="002"/>
</spatRpType>
<dataExt>
<geoEle>
<GeoBndBox esriExtentType="search">
<exTypeCode Sync="TRUE">1</exTypeCode>
<westBL Sync="TRUE">-123.565031</westBL>
<eastBL Sync="TRUE">-122.224633</eastBL>
<northBL Sync="TRUE">39.342439</northBL>
<southBL Sync="TRUE">38.086871</southBL>
</GeoBndBox>
</geoEle>
<exDesc>County of Sonoma</exDesc>
<tempEle>
<TempExtent>
<exTemp>
<TM_Instant>
<tmPosition>2013-05-01T00:00:00</tmPosition>
</TM_Instant>
</exTemp>
</TempExtent>
</tempEle>
</dataExt>
<searchKeys>
<keyword>VESCO</keyword>
<keyword>slope</keyword>
<keyword>percent</keyword>
<keyword>level I</keyword>
<keyword>level II</keyword>
<keyword>level III</keyword>
<keyword>vineyard</keyword>
<keyword>orchard. reclassified.</keyword>
</searchKeys>
<idPurp>This is a reclassified slope percent raster that was reclassified into 9 different ranges. This data is primarily used in conjunction with other data to determine what VESCO (level I, II, III) regulations need to be applied to a given site. Average % slope and soils play a key roll in making that determination. On sites with highly erodible soils level one average percent slope is &amp;lt;10, level two 10 - &amp;lt;15, and level three is 15 - &amp;lt; 50. On sites with less erodible soils level one average percent slope is &amp;lt;15, Leve1 two is 15 - &amp;lt;30 and level three is 30 - &amp;lt;50.</idPurp>
<idAbs>&lt;div style='text-align:Left;'&gt;&lt;div&gt;&lt;div&gt;&lt;p&gt;&lt;span&gt;Percent slope derived from the Sonoma Veg Map LiDAR bare-earth DEM and reclassified into set intervals and 9 different categories from 0% to greater than 50%.&lt;/span&gt;&lt;/p&gt;&lt;/div&gt;&lt;/div&gt;&lt;/div&gt;</idAbs>
<idCredit>Sonoma Veg Map, County of Sonoma ISD-GIS</idCredit>
<dataChar>
<CharSetCd value="004"/>
</dataChar>
<idStatus>
<ProgCd value="001"/>
</idStatus>
<resMaint>
<maintFreq>
<MaintFreqCd value="011"/>
</maintFreq>
</resMaint>
<resConst>
<Consts>
<useLimit>&lt;div style='text-align:Left;'&gt;&lt;div&gt;&lt;div&gt;&lt;p&gt;&lt;span style='font-size:10pt'&gt;You are free to: Share - copy and redistribute the data in any medium or format. Adapt - You may make derivative works, transform, and build upon the data for any purpose, even commercial. The licensor cannot revoke these freedoms as long as you follow the license terms.&lt;/span&gt;&lt;/p&gt;&lt;p&gt;&lt;span style='font-size:10pt'&gt;License terms: Attribution - You must give appropriate credit (if supplied, you must provide the name of the creator and attribution parties, a copyright notice, a license notice, a disclaimer notice and a link to the material) and indicate if any changes were made. You may do so in any reasonable manner, but not in any way that suggests the licensor endorses you, your organization, or your use of the data. ShareAlike - if you modify, transform, or build on the data, you must distribute your contributions under the same license as the original.&lt;/span&gt;&lt;/p&gt;&lt;p&gt;&lt;span style='font-size:10pt'&gt;No additional Restrictions - You may not apply legal terms or technological measures that legally restrict others form doing anything the license permits.&lt;/span&gt;&lt;/p&gt;&lt;p&gt;&lt;span style='font-size:10pt'&gt;Notices: You do not have to comply with the license for elements of the material in the public domain or where your use is permitted by an applicable exception or limitation. No warranties are given. The license may not give you all of the permissions necessary for your intended use. For example, other rights such as publicity, privacy, or moral rights may limit how you use the data.&lt;/span&gt;&lt;/p&gt;&lt;/div&gt;&lt;/div&gt;&lt;/div&gt;</useLimit>
</Consts>
</resConst>
<idPoC>
<editorSource>external</editorSource>
<editorDigest>1051abdf711ac857ec4ca272c0bfb14b</editorDigest>
<rpIndName>Information Systems Department GIS Manager</rpIndName>
<rpOrgName>County of Sonoma Sheriff's Department</rpOrgName>
<rpPosName>Project Manager</rpPosName>
<rpCntInfo>
<cntAddress addressType="physical">
<delPoint>2615 Paulin Dr</delPoint>
<city>Santa Rosa</city>
<adminArea>CA</adminArea>
<postCode>95403</postCode>
<eMailAdd>ISD-ServiceDesk@sonoma-county.org</eMailAdd>
<country>US</country>
</cntAddress>
<cntPhone>
<voiceNum tddtty="">(707)565-2030</voiceNum>
<faxNum>(707)565-3009</faxNum>
</cntPhone>
<cntHours>8:00 am to 5:00 pm. Monday - Friday</cntHours>
</rpCntInfo>
<editorSave>True</editorSave>
<displayName>Information Systems Department GIS Manager</displayName>
<role>
<RoleCd value="006"/>
</role>
</idPoC>
<tpCat>
<TopicCatCd value="001"/>
</tpCat>
<tpCat>
<TopicCatCd value="006"/>
</tpCat>
</dataIdInfo>
<spatRepInfo>
<Georect>
<cellGeo>
<CellGeoCd Sync="TRUE" value="002"/>
</cellGeo>
<numDims Sync="TRUE">2</numDims>
<tranParaAv Sync="TRUE">1</tranParaAv>
<chkPtAv Sync="TRUE">0</chkPtAv>
<cornerPts>
<pos Sync="TRUE">6119016.999954 1797202.000025</pos>
</cornerPts>
<cornerPts>
<pos Sync="TRUE">6119016.999954 2250802.000025</pos>
</cornerPts>
<cornerPts>
<pos Sync="TRUE">6497016.999954 2250802.000025</pos>
</cornerPts>
<cornerPts>
<pos Sync="TRUE">6497016.999954 1797202.000025</pos>
</cornerPts>
<centerPt>
<pos Sync="TRUE">6308016.999954 2024002.000025</pos>
</centerPt>
<axisDimension type="002">
<dimSize Sync="TRUE">126000</dimSize>
<dimResol>
<value Sync="TRUE" uom="ftUS">3.000000</value>
</dimResol>
</axisDimension>
<axisDimension type="001">
<dimSize Sync="TRUE">151200</dimSize>
<dimResol>
<value Sync="TRUE" uom="ftUS">3.000000</value>
</dimResol>
</axisDimension>
<ptInPixel>
<PixOrientCd Sync="TRUE" value="001"/>
</ptInPixel>
</Georect>
</spatRepInfo>
<refSysInfo>
<RefSystem>
<refSysID>
<identCode Sync="TRUE" code="0"/>
</refSysID>
</RefSystem>
</refSysInfo>
<contInfo>
<ImgDesc>
<contentTyp>
<ContentTypCd Sync="TRUE" value="003"/>
</contentTyp>
<covDim>
<Band>
<dimDescrp Sync="TRUE">slopepct_2013</dimDescrp>
<maxVal Sync="TRUE">9.000000</maxVal>
<minVal Sync="TRUE">1.000000</minVal>
<bitsPerVal Sync="TRUE">4</bitsPerVal>
<valUnit>
<UOM gmlID="" type="length">
<unitSymbol>%[slope]</unitSymbol>
</UOM>
</valUnit>
</Band>
</covDim>
<trianInd>False</trianInd>
<radCalDatAv>False</radCalDatAv>
<camCalInAv>False</camCalInAv>
<filmDistInAv>False</filmDistInAv>
<lensDistInAv>False</lensDistInAv>
<attDesc>Slope Percent Reclassify</attDesc>
</ImgDesc>
</contInfo>
<eainfo>
<detailed Name="VAT_Lidar_Slope_Percent_Reclassified_2013">
<enttyp>
<enttypl Sync="TRUE">VAT_Lidar_Slope_Percent_Reclassified_2013</enttypl>
<enttypt Sync="FALSE">GRID</enttypt>
<enttypc Sync="TRUE">9</enttypc>
<enttypd>unsigned integer, 4bit reclassifed raster</enttypd>
<enttypds>County of Sonoma ISD-GIS</enttypds>
</enttyp>
<attr>
<attrlabl Sync="TRUE">OBJECTID</attrlabl>
<attalias Sync="TRUE">OBJECTID</attalias>
<attrtype Sync="TRUE">OID</attrtype>
<attwidth Sync="TRUE">4</attwidth>
<atprecis Sync="TRUE">0</atprecis>
<attscale Sync="TRUE">0</attscale>
<attrdef Sync="TRUE">Internal feature number.</attrdef>
<attrdefs Sync="TRUE">Esri</attrdefs>
<attrdomv>
<udom Sync="TRUE">Sequential unique whole numbers that are automatically generated.</udom>
</attrdomv>
</attr>
<attr>
<attrlabl Sync="TRUE">VALUE</attrlabl>
<attalias Sync="TRUE">Value</attalias>
<attrtype Sync="TRUE">Integer</attrtype>
<attwidth Sync="TRUE">4</attwidth>
<atprecis Sync="TRUE">0</atprecis>
<attscale Sync="TRUE">0</attscale>
<attrdef>The slope reclassified values.</attrdef>
<attrdefs>County of Sonoma ISD-GIS</attrdefs>
<attrdomv>
<edom>
<edomv>1</edomv>
<edomvd>Zero to 5% slopes</edomvd>
<edomvds>County of Sonoma ISD - GIS</edomvds>
</edom>
<edom>
<edomv>2</edomv>
<edomvd>&gt;5% slopes to 10% slopes</edomvd>
<edomvds>County of Sonoma ISD - GIS</edomvds>
</edom>
<edom>
<edomv>3</edomv>
<edomvd>&gt;10% slopes to 15% slopes</edomvd>
<edomvds>County of Sonoma ISD - GIS</edomvds>
</edom>
<edom>
<edomv>4</edomv>
<edomvd>&gt;15% slopes to 20% slopes</edomvd>
<edomvds>County of Sonoma ISD - GIS</edomvds>
</edom>
<edom>
<edomv>5</edomv>
<edomvd>&gt;20% slopes to 25% slopes</edomvd>
<edomvds>County of Sonoma ISD - GIS</edomvds>
</edom>
<edom>
<edomv>6</edomv>
<edomvd>&gt;25% slopes to 30% slopes</edomvd>
<edomvds>County of Sonoma ISD - GIS</edomvds>
</edom>
<edom>
<edomv>7</edomv>
<edomvd>&gt;30% slopes to 40% slopes</edomvd>
<edomvds>County of Sonoma ISD - GIS</edomvds>
</edom>
<edom>
<edomv>8</edomv>
<edomvd>&gt;40% slopes to 50% slopes</edomvd>
<edomvds>County of Sonoma ISD - GIS</edomvds>
</edom>
<edom>
<edomv>9</edomv>
<edomvd>&gt; 50% slopes</edomvd>
<edomvds>County of Sonoma ISD - GIS</edomvds>
</edom>
</attrdomv>
</attr>
<attr>
<attrlabl Sync="TRUE">COUNT</attrlabl>
<attalias Sync="TRUE">Count</attalias>
<attrtype Sync="TRUE">Double</attrtype>
<attwidth Sync="TRUE">8</attwidth>
<atprecis Sync="TRUE">0</atprecis>
<attscale Sync="TRUE">0</attscale>
<attrdef>A sum total of the number of cells included for each reclassified value.</attrdef>
<attrdefs>County of Sonoma ISD - GIS</attrdefs>
</attr>
</detailed>
</eainfo>
<spdoinfo>
<rastinfo>
<rasttype Sync="TRUE">Pixel</rasttype>
<rowcount Sync="TRUE">151200</rowcount>
<colcount Sync="TRUE">126000</colcount>
<rastxsz Sync="TRUE">3.000000</rastxsz>
<rastysz Sync="TRUE">3.000000</rastysz>
<rastbpp Sync="TRUE">16</rastbpp>
<vrtcount Sync="TRUE">1</vrtcount>
<rastorig Sync="TRUE">Upper Left</rastorig>
<rastcmap Sync="TRUE">FALSE</rastcmap>
<rastcomp Sync="TRUE">LZ77</rastcomp>
<rastband Sync="TRUE">1</rastband>
<rastdtyp Sync="TRUE">pixel codes</rastdtyp>
<rastifor Sync="TRUE">FGDBR</rastifor>
<rastplyr Sync="TRUE">TRUE</rastplyr>
</rastinfo>
</spdoinfo>
<spref>
<horizsys>
<planar>
<planci>
<plance Sync="TRUE">row and column</plance>
<coordrep>
<absres Sync="TRUE">3.000000</absres>
<ordres Sync="TRUE">3.000000</ordres>
</coordrep>
</planci>
</planar>
</horizsys>
</spref>
</metadata>
