<?xml version="1.0" encoding="UTF-8" standalone="no"?>
<metadata xml:lang="en">
<Esri>
<CreaDate>20200224</CreaDate>
<CreaTime>10402100</CreaTime>
<ArcGISFormat>1.0</ArcGISFormat>
<SyncOnce>FALSE</SyncOnce>
<DataProperties>
<itemProps>
<itemName Sync="TRUE">Ortho_SoCo_Merrick_2000_WM</itemName>
<itemLocation>
<protocol Sync="TRUE">Local Area Network</protocol>
</itemLocation>
<imsContentType Sync="TRUE" export="False">002</imsContentType>
<nativeExtBox>
<westBL Sync="TRUE">-13753662.018363</westBL>
<eastBL Sync="TRUE">-13619532.351528</eastBL>
<southBL Sync="TRUE">4592798.187602</southBL>
<northBL Sync="TRUE">4703518.715950</northBL>
<exTypeCode Sync="TRUE">1</exTypeCode>
</nativeExtBox>
</itemProps>
<coordRef>
<type Sync="TRUE">Projected</type>
<geogcsn Sync="TRUE">GCS_WGS_1984</geogcsn>
<csUnits Sync="TRUE">Linear Unit: Meter (1.000000)</csUnits>
<projcsn Sync="TRUE">WGS_1984_Web_Mercator_Auxiliary_Sphere</projcsn>
<peXml Sync="TRUE">&lt;ProjectedCoordinateSystem xsi:type='typens:ProjectedCoordinateSystem' xmlns:xsi='http://www.w3.org/2001/XMLSchema-instance' xmlns:xs='http://www.w3.org/2001/XMLSchema' xmlns:typens='http://www.esri.com/schemas/ArcGIS/10.7'&gt;&lt;WKT&gt;PROJCS[&amp;quot;WGS_1984_Web_Mercator_Auxiliary_Sphere&amp;quot;,GEOGCS[&amp;quot;GCS_WGS_1984&amp;quot;,DATUM[&amp;quot;D_WGS_1984&amp;quot;,SPHEROID[&amp;quot;WGS_1984&amp;quot;,6378137.0,298.257223563]],PRIMEM[&amp;quot;Greenwich&amp;quot;,0.0],UNIT[&amp;quot;Degree&amp;quot;,0.0174532925199433]],PROJECTION[&amp;quot;Mercator_Auxiliary_Sphere&amp;quot;],PARAMETER[&amp;quot;False_Easting&amp;quot;,0.0],PARAMETER[&amp;quot;False_Northing&amp;quot;,0.0],PARAMETER[&amp;quot;Central_Meridian&amp;quot;,0.0],PARAMETER[&amp;quot;Standard_Parallel_1&amp;quot;,0.0],PARAMETER[&amp;quot;Auxiliary_Sphere_Type&amp;quot;,0.0],UNIT[&amp;quot;Meter&amp;quot;,1.0],AUTHORITY[&amp;quot;EPSG&amp;quot;,3857]]&lt;/WKT&gt;&lt;XOrigin&gt;-20037700&lt;/XOrigin&gt;&lt;YOrigin&gt;-30241100&lt;/YOrigin&gt;&lt;XYScale&gt;148923141.92838538&lt;/XYScale&gt;&lt;ZOrigin&gt;-100000&lt;/ZOrigin&gt;&lt;ZScale&gt;10000&lt;/ZScale&gt;&lt;MOrigin&gt;-100000&lt;/MOrigin&gt;&lt;MScale&gt;10000&lt;/MScale&gt;&lt;XYTolerance&gt;0.001&lt;/XYTolerance&gt;&lt;ZTolerance&gt;0.001&lt;/ZTolerance&gt;&lt;MTolerance&gt;0.001&lt;/MTolerance&gt;&lt;HighPrecision&gt;true&lt;/HighPrecision&gt;&lt;WKID&gt;102100&lt;/WKID&gt;&lt;LatestWKID&gt;3857&lt;/LatestWKID&gt;&lt;/ProjectedCoordinateSystem&gt;</peXml>
</coordRef>
<RasterProperties>
<General>
<PixelDepth Sync="TRUE">32</PixelDepth>
<HasColormap Sync="TRUE">FALSE</HasColormap>
<CompressionType Sync="TRUE">Mixed</CompressionType>
<NumBands Sync="TRUE">1</NumBands>
<Format Sync="TRUE">Cache/Mixed</Format>
<HasPyramids Sync="TRUE">TRUE</HasPyramids>
<SourceType Sync="TRUE">continuous</SourceType>
<PixelType Sync="TRUE">unsigned integer</PixelType>
<NoDataValue Sync="TRUE"/>
</General>
</RasterProperties>
</DataProperties>
<SyncDate>20210604</SyncDate>
<SyncTime>09114400</SyncTime>
<ModDate>20210604</ModDate>
<ModTime>09114400</ModTime>
<scaleRange>
<minScale>500000</minScale>
<maxScale>5000</maxScale>
</scaleRange>
<ArcGISProfile>FGDC</ArcGISProfile>
</Esri>
<dataIdInfo>
<envirDesc Sync="TRUE"> Version 6.2 (Build 9200) ; Esri ArcGIS 10.7.1.11595</envirDesc>
<dataLang>
<languageCode Sync="TRUE" value="eng"/>
<countryCode Sync="TRUE" value="USA"/>
</dataLang>
<idCitation>
<resTitle Sync="TRUE">Ortho_SoCo_Merrick_2000_WM</resTitle>
<presForm>
<PresFormCd Sync="TRUE" value="005"/>
</presForm>
<date>
<createDate>2000-04-01T00:00:00</createDate>
<pubDate>2002-01-01T00:00:00</pubDate>
</date>
<citRespParty>
<editorSource>external</editorSource>
<editorDigest>1051abdf711ac857ec4ca272c0bfb14b</editorDigest>
<rpIndName>Information Systems Department GIS Manager</rpIndName>
<rpOrgName>County of Sonoma Sheriff's Department</rpOrgName>
<rpPosName>Project Manager</rpPosName>
<rpCntInfo>
<cntAddress addressType="physical">
<delPoint>2615 Paulin Dr</delPoint>
<city>Santa Rosa</city>
<adminArea>CA</adminArea>
<postCode>95403</postCode>
<eMailAdd>ISD-ServiceDesk@sonoma-county.org</eMailAdd>
<country>US</country>
</cntAddress>
<cntPhone>
<voiceNum tddtty="">(707)565-2030</voiceNum>
<faxNum>(707)565-3009</faxNum>
</cntPhone>
<cntHours>8:00 am to 5:00 pm. Monday - Friday</cntHours>
</rpCntInfo>
<editorSave>True</editorSave>
<displayName>Information Systems Department GIS Manager</displayName>
<role>
<RoleCd value="003"/>
</role>
</citRespParty>
<citRespParty>
<editorSource>external</editorSource>
<editorDigest>744ed2efe3ef14d1a3709dda56186797</editorDigest>
<rpIndName>Merrick &amp; Company</rpIndName>
<rpOrgName>Merrick</rpOrgName>
<rpCntInfo>
<cntAddress addressType="both">
<delPoint>5970 Greenwood Plaza</delPoint>
<city>Greenwood Village</city>
<adminArea>CO</adminArea>
<postCode>80111</postCode>
<country>US</country>
</cntAddress>
<cntPhone>
<voiceNum tddtty="">1(303)751-0741</voiceNum>
</cntPhone>
</rpCntInfo>
<editorSave>True</editorSave>
<displayName>Merrick &amp; Company</displayName>
<role>
<RoleCd value="006"/>
</role>
</citRespParty>
</idCitation>
<spatRpType>
<SpatRepTypCd Sync="TRUE" value="002"/>
</spatRpType>
<dataExt>
<geoEle>
<GeoBndBox esriExtentType="search">
<exTypeCode Sync="TRUE">1</exTypeCode>
<westBL Sync="TRUE">-123.551248</westBL>
<eastBL Sync="TRUE">-122.346341</eastBL>
<northBL Sync="TRUE">38.873157</northBL>
<southBL Sync="TRUE">38.094600</southBL>
</GeoBndBox>
</geoEle>
<exDesc>County of Sonoma</exDesc>
<tempEle>
<TempExtent>
<exTemp>
<TM_Period>
<tmBegin>2000-04-24T00:00:00</tmBegin>
<tmEnd>2000-05-26T00:00:00</tmEnd>
</TM_Period>
</exTemp>
</TempExtent>
</tempEle>
</dataExt>
<idPurp>Provide terrain corrected aerial photography for Countywide coverage.</idPurp>
<idAbs>&lt;div style='text-align:Left;'&gt;&lt;div&gt;&lt;div&gt;&lt;p&gt;&lt;span&gt;Orthophotography layer for Sonoma County&lt;/span&gt;&lt;/p&gt;&lt;/div&gt;&lt;/div&gt;&lt;/div&gt;</idAbs>
<idCredit>Flown by Merrick in April and May 2000 and processed 2001-2002. Project Number 50013734</idCredit>
<searchKeys>
<keyword>Aerial</keyword>
<keyword>photography</keyword>
<keyword>ortho</keyword>
<keyword>orthos</keyword>
<keyword>orthophotos</keyword>
<keyword>orthophotographs</keyword>
<keyword>orthophotography</keyword>
</searchKeys>
<resConst>
<Consts>
<useLimit>&lt;div style='text-align:Left;'&gt;&lt;div&gt;&lt;div&gt;&lt;p&gt;&lt;span&gt;This data is available for unrestricted public use. However, users should acknowledge the source of the data in any reports, publications, or presentations where the data is used. The data are not a survey-quality product and the end user assumes the risk of utilizing it. The County of Sonoma does not assume any liability for damages arising from errors, omissions, or use of this information. End users of the data are advised to be aware of the published accuracy, date, compilation methods, and cartographic format (as described in the accompanying metadata), and are advised to utilize these data appropriately." This disclaimer shall apply to any authorized or unauthorized transfer of all or parts of the GIS Database.&lt;/span&gt;&lt;/p&gt;&lt;/div&gt;&lt;/div&gt;&lt;/div&gt;</useLimit>
</Consts>
</resConst>
<dataChar>
<CharSetCd value="004"/>
</dataChar>
<resMaint>
<maintFreq>
<MaintFreqCd value="011"/>
</maintFreq>
</resMaint>
<idStatus>
<ProgCd value="001"/>
</idStatus>
<tpCat>
<TopicCatCd value="010"/>
</tpCat>
</dataIdInfo>
<mdLang>
<languageCode Sync="TRUE" value="eng"/>
<countryCode Sync="TRUE" value="USA"/>
</mdLang>
<mdChar>
<CharSetCd Sync="TRUE" value="004"/>
</mdChar>
<distInfo>
<distFormat>
<formatName Sync="TRUE">Raster Dataset</formatName>
</distFormat>
</distInfo>
<mdHrLv>
<ScopeCd Sync="TRUE" value="005"/>
</mdHrLv>
<mdHrLvName Sync="TRUE">dataset</mdHrLvName>
<refSysInfo>
<RefSystem>
<refSysID>
<identCode Sync="TRUE" code="3857"/>
<idCodeSpace Sync="TRUE">EPSG</idCodeSpace>
<idVersion Sync="TRUE">8.8(9.3.1.2)</idVersion>
</refSysID>
</RefSystem>
</refSysInfo>
<spatRepInfo>
<Georect>
<cellGeo>
<CellGeoCd Sync="TRUE" value="002"/>
</cellGeo>
<numDims Sync="TRUE">2</numDims>
<tranParaAv Sync="TRUE">1</tranParaAv>
<chkPtAv Sync="TRUE">0</chkPtAv>
<cornerPts>
<pos Sync="TRUE">-13753662.018363 4592798.187602</pos>
</cornerPts>
<cornerPts>
<pos Sync="TRUE">-13753662.018363 4703518.715950</pos>
</cornerPts>
<cornerPts>
<pos Sync="TRUE">-13619532.351528 4703518.715950</pos>
</cornerPts>
<cornerPts>
<pos Sync="TRUE">-13619532.351528 4592798.187602</pos>
</cornerPts>
<centerPt>
<pos Sync="TRUE">-13686597.184946 4648158.451776</pos>
</centerPt>
<axisDimension type="002">
<dimSize Sync="TRUE">449222</dimSize>
<dimResol>
<value Sync="TRUE" uom="m">0.298582</value>
</dimResol>
</axisDimension>
<axisDimension type="001">
<dimSize Sync="TRUE">370821</dimSize>
<dimResol>
<value Sync="TRUE" uom="m">0.298582</value>
</dimResol>
</axisDimension>
<ptInPixel>
<PixOrientCd Sync="TRUE" value="001"/>
</ptInPixel>
</Georect>
</spatRepInfo>
<contInfo>
<ImgDesc>
<contentTyp>
<ContentTypCd Sync="TRUE" value="001"/>
</contentTyp>
<covDim>
<Band>
<dimDescrp Sync="TRUE">Band_1</dimDescrp>
<bitsPerVal Sync="TRUE">32</bitsPerVal>
<valUnit>
<UOM gmlID="" type="length"/>
</valUnit>
</Band>
</covDim>
<trianInd>False</trianInd>
<radCalDatAv>False</radCalDatAv>
<camCalInAv>False</camCalInAv>
<filmDistInAv>False</filmDistInAv>
<lensDistInAv>False</lensDistInAv>
</ImgDesc>
</contInfo>
<mdDateSt Sync="TRUE">20210604</mdDateSt>
<mdMaint>
<maintFreq>
<MaintFreqCd value="011"/>
</maintFreq>
</mdMaint>
<myData>
<InEdit>N/A</InEdit>
<InMain>N/A</InMain>
<InRest>N/A</InRest>
<InPortal>N/A</InPortal>
<InAGO>N/A</InAGO>
<LastPublicationDateTag>Yes</LastPublicationDateTag>
<PreviousLayerName>N/A</PreviousLayerName>
<MetadataReview>No</MetadataReview>
<MetadataSource>N/A</MetadataSource>
</myData>
</metadata>
