<?xml version="1.0" encoding="UTF-8" standalone="no"?>
<metadata xml:lang="en">
<Esri>
<CreaDate>20201021</CreaDate>
<CreaTime>10590800</CreaTime>
<ArcGISFormat>1.0</ArcGISFormat>
<ArcGISstyle>FGDC CSDGM MetadataVerify - ISD GIS</ArcGISstyle>
<SyncOnce>FALSE</SyncOnce>
<DataProperties>
<itemProps>
<itemName Sync="TRUE">Ortho_SoCo_NAIP_2020</itemName>
<nativeExtBox>
<westBL Sync="TRUE">6112495.649000</westBL>
<eastBL Sync="TRUE">6475404.372000</eastBL>
<southBL Sync="TRUE">1783624.385500</southBL>
<northBL Sync="TRUE">2084574.571000</northBL>
<exTypeCode Sync="TRUE">1</exTypeCode>
</nativeExtBox>
<imsContentType export="False">
</imsContentType>
</itemProps>
<coordRef>
<type Sync="TRUE">Projected</type>
<geogcsn Sync="TRUE">GCS_NAD_1983_2011</geogcsn>
<csUnits Sync="TRUE">Linear Unit: Foot_US (0.304801)</csUnits>
<projcsn Sync="TRUE">NAD_1983_2011_StatePlane_California_II_FIPS_0402_Ft_US</projcsn>
<peXml Sync="TRUE">&lt;ProjectedCoordinateSystem xsi:type='typens:ProjectedCoordinateSystem' xmlns:xsi='http://www.w3.org/2001/XMLSchema-instance' xmlns:xs='http://www.w3.org/2001/XMLSchema' xmlns:typens='http://www.esri.com/schemas/ArcGIS/10.7'&gt;&lt;WKT&gt;PROJCS[&amp;quot;NAD_1983_2011_StatePlane_California_II_FIPS_0402_Ft_US&amp;quot;,GEOGCS[&amp;quot;GCS_NAD_1983_2011&amp;quot;,DATUM[&amp;quot;D_NAD_1983_2011&amp;quot;,SPHEROID[&amp;quot;GRS_1980&amp;quot;,6378137.0,298.257222101]],PRIMEM[&amp;quot;Greenwich&amp;quot;,0.0],UNIT[&amp;quot;Degree&amp;quot;,0.0174532925199433]],PROJECTION[&amp;quot;Lambert_Conformal_Conic&amp;quot;],PARAMETER[&amp;quot;False_Easting&amp;quot;,6561666.666666666],PARAMETER[&amp;quot;False_Northing&amp;quot;,1640416.666666667],PARAMETER[&amp;quot;Central_Meridian&amp;quot;,-122.0],PARAMETER[&amp;quot;Standard_Parallel_1&amp;quot;,38.33333333333334],PARAMETER[&amp;quot;Standard_Parallel_2&amp;quot;,39.83333333333334],PARAMETER[&amp;quot;Latitude_Of_Origin&amp;quot;,37.66666666666666],UNIT[&amp;quot;Foot_US&amp;quot;,0.3048006096012192],AUTHORITY[&amp;quot;EPSG&amp;quot;,6418]]&lt;/WKT&gt;&lt;XOrigin&gt;-115211800&lt;/XOrigin&gt;&lt;YOrigin&gt;-93821500&lt;/YOrigin&gt;&lt;XYScale&gt;36983428.057351544&lt;/XYScale&gt;&lt;ZOrigin&gt;-100000&lt;/ZOrigin&gt;&lt;ZScale&gt;10000&lt;/ZScale&gt;&lt;MOrigin&gt;-100000&lt;/MOrigin&gt;&lt;MScale&gt;10000&lt;/MScale&gt;&lt;XYTolerance&gt;0.0032808333333333331&lt;/XYTolerance&gt;&lt;ZTolerance&gt;0.001&lt;/ZTolerance&gt;&lt;MTolerance&gt;0.001&lt;/MTolerance&gt;&lt;HighPrecision&gt;true&lt;/HighPrecision&gt;&lt;WKID&gt;103004&lt;/WKID&gt;&lt;LatestWKID&gt;6418&lt;/LatestWKID&gt;&lt;/ProjectedCoordinateSystem&gt;</peXml>
</coordRef>
<RasterProperties>
<General>
<PixelDepth Sync="TRUE">8</PixelDepth>
<HasColormap Sync="TRUE">FALSE</HasColormap>
<CompressionType Sync="TRUE">None</CompressionType>
<NumBands Sync="TRUE">4</NumBands>
<Format Sync="TRUE">AMD</Format>
<HasPyramids Sync="TRUE">TRUE</HasPyramids>
<SourceType Sync="TRUE">continuous</SourceType>
<PixelType Sync="TRUE">unsigned integer</PixelType>
<NoDataValue Sync="TRUE">
</NoDataValue>
</General>
<Properties>
<MaxImageHeight Sync="TRUE">4100</MaxImageHeight>
<MaxImageWidth Sync="TRUE">15000</MaxImageWidth>
<MaxRecordCount Sync="TRUE">1000</MaxRecordCount>
<MaxDownloadImageCount Sync="TRUE">20</MaxDownloadImageCount>
<MaxDownloadSizeLimit Sync="TRUE">2048</MaxDownloadSizeLimit>
<MaxMosaicImageCount Sync="TRUE">20</MaxMosaicImageCount>
<DefaultCompressionQuality Sync="TRUE">75</DefaultCompressionQuality>
<DefaultCompressionTolerance Sync="TRUE">0.01</DefaultCompressionTolerance>
<BlendWidth Sync="TRUE">10</BlendWidth>
<ViewpointSpacingX Sync="TRUE">600</ViewpointSpacingX>
<ViewpointSpacingY Sync="TRUE">300</ViewpointSpacingY>
<AllowedItemMetadata Sync="TRUE">Basic</AllowedItemMetadata>
<DefaultResamplingMethod Sync="TRUE">1</DefaultResamplingMethod>
<AllowedMosaicMethods Sync="TRUE">NorthWest,Center,LockRaster,ByAttribute,Nadir,Viewpoint,Seamline,None</AllowedMosaicMethods>
<AllowedCompressions Sync="TRUE">None,JPEG,LZ77,LERC</AllowedCompressions>
<AllowedMensurationCapabilities Sync="TRUE">Basic</AllowedMensurationCapabilities>
<AvailableMensurationCapabilities Sync="TRUE">None,Basic,Base-Top Height,Top-Top Shadow Height,Base-Top Shadow Height,3D</AvailableMensurationCapabilities>
<ClipToBoundary Sync="TRUE">-1</ClipToBoundary>
<FootprintMayContainNoData Sync="TRUE">-1</FootprintMayContainNoData>
<CellSizeTolerance Sync="TRUE">0.8</CellSizeTolerance>
<MinimumPixelContribution Sync="TRUE">1</MinimumPixelContribution>
<AvailableMosaicMethods Sync="TRUE">NorthWest,Center,LockRaster,ByAttribute,Nadir,Viewpoint,Seamline,None</AvailableMosaicMethods>
<AvailableCompressionMethods Sync="TRUE">None,JPEG,LZ77,LERC</AvailableCompressionMethods>
<AvailableItemMetadataLevels Sync="TRUE">None,Basic,Full</AvailableItemMetadataLevels>
<BandDefinitionKeyword Sync="TRUE">NaturalColorRGBI</BandDefinitionKeyword>
<_docversion_ Sync="TRUE">10</_docversion_>
<AllowedFields Sync="TRUE">Name,MinPS,MaxPS,LowPS,HighPS,Tag,GroupName,ProductName,CenterX,CenterY,ZOrder,Shape_Length,Shape_Area</AllowedFields>
<ClipToFootprint Sync="TRUE">-1</ClipToFootprint>
<ApplyColorCorrection Sync="TRUE">0</ApplyColorCorrection>
<LowCellSize Sync="TRUE">1.9685</LowCellSize>
<HighCellSize Sync="TRUE">125.984</HighCellSize>
<MaxCellSize Sync="TRUE">1259.84</MaxCellSize>
</Properties>
<Functions Sync="TRUE">
<Function Description="Sets a new spatial reference and cell sizes" Name="Reproject Function">
<Arguments>
<Raster>MosaicFunction.OutputRaster</Raster>
<SpatialReference>
</SpatialReference>
<XCellsize>0</XCellsize>
<YCellsize>0</YCellsize>
<XOrigin>0</XOrigin>
<YOrigin>0</YOrigin>
</Arguments>
</Function>
<Function Description="Performs on-the-fly mosaic on a raster catalog." Name="Mosaic Function">
</Function>
</Functions>
</RasterProperties>
</DataProperties>
<SyncDate>20201219</SyncDate>
<SyncTime>06584100</SyncTime>
<ModDate>20201219</ModDate>
<ModTime>06584100</ModTime>
<scaleRange>
<minScale>500000</minScale>
<maxScale>5000</maxScale>
</scaleRange>
<ArcGISProfile>FGDC</ArcGISProfile>
</Esri>
<dataIdInfo>
<envirDesc Sync="TRUE"> Version 6.2 (Build 9200) ; Esri ArcGIS 10.7.1.11595</envirDesc>
<dataLang>
<languageCode Sync="TRUE" value="eng">
</languageCode>
<countryCode Sync="TRUE" value="USA">
</countryCode>
</dataLang>
<idCitation>
<resTitle Sync="TRUE">Ortho_SoCo_NAIP_2020</resTitle>
<presForm>
<PresFormCd Sync="TRUE" value="005">
</PresFormCd>
</presForm>
<date>
<createDate>2020-06-02T00:00:00</createDate>
<pubDate>2020-08-20T00:00:00</pubDate>
</date>
<citRespParty>
<rpIndName>USDA-Farm Production and Conservation Business </rpIndName>
<rpOrgName>USDA-FSA Aerial Photography Field Office</rpOrgName>
<rpPosName>Supervisor Customer Services Section</rpPosName>
<role>
<RoleCd value="001">
</RoleCd>
</role>
<rpCntInfo>
<cntAddress addressType="physical">
<delPoint>125 S. State St. Suite 6416</delPoint>
<city>Salt Lake City</city>
<adminArea>Utah</adminArea>
<postCode>84138</postCode>
<eMailAdd>apfo.sales@slc.usda.gov</eMailAdd>
<country>US</country>
</cntAddress>
</rpCntInfo>
</citRespParty>
</idCitation>
<spatRpType>
<SpatRepTypCd Sync="TRUE" value="002">
</SpatRepTypCd>
</spatRpType>
<dataExt>
<geoEle>
<GeoBndBox esriExtentType="search">
<exTypeCode Sync="TRUE">1</exTypeCode>
<westBL Sync="TRUE">-123.577880</westBL>
<eastBL Sync="TRUE">-122.299572</eastBL>
<northBL Sync="TRUE">38.885850</northBL>
<southBL Sync="TRUE">38.049290</southBL>
</GeoBndBox>
</geoEle>
</dataExt>
<idPurp>The NAIP imagery is typically available for distribution within 60 days of the end of a flying season and is intended to provide current information of agricultural conditions in support of USDA farm programs. For USDA Farm Service Agency, the 1 meter and 1/2 meter GSD product provides an ortho image base for Common Land Unit boundaries and other data sets. The NAIP imagery is generally acquired in projects covering full states in cooperation with state government and other federal agencies who use the imagery for a variety of purposes including land use planning and natural resource assessment. The NAIP is also used for disaster response often providing the most current pre-event imagery.</idPurp>
<idAbs>&lt;div style='text-align:Left;'&gt;&lt;div&gt;&lt;div&gt;&lt;p&gt;&lt;span&gt;This data set contains imagery from the National Agriculture Imagery Program (NAIP). The NAIP acquires digital ortho imagery during the agricultural growing seasons in the continental U.S. A primary goal of the NAIP program is to enable availability of ortho imagery within one year of acquisition. The NAIP provides 60 centimeter ground sample distance (GSD) ortho imagery rectified to a horizontal accuracy within +/- 4 meters of reference digital ortho quarter quads (DOQQ's) from the National Digital Ortho Program (NDOP) or from the National Agriculture Imagery Program (NAIP). The tiling format of NAIP imagery is based on a 3.75' x 3.75' quarter quadrangle with a 300 pixel buffer on all four sides. The NAIP imagery is formatted to the UTM coordinate system using the North American Datum of 1983 (NAD83). The NAIP imagery may contain as much as 10% cloud cover per tile. This file was generated by compressing NAIP imagery that cover the county extent. Two types of compression may be used for NAIP imagery: MrSID and JPEG 2000. The target value for the compression ratio is 40:1.&lt;/span&gt;&lt;/p&gt;&lt;/div&gt;&lt;/div&gt;&lt;/div&gt;</idAbs>
<idCredit>USDA-Farm Production and Conservation Business</idCredit>
<searchKeys>
<keyword>NAIP</keyword>
<keyword>Imagery</keyword>
<keyword>Aerial Photography</keyword>
<keyword>Orthophotography</keyword>
<keyword>2020</keyword>
</searchKeys>
<resConst>
<Consts>
<useLimit>&lt;div style='text-align:Left;'&gt;&lt;div&gt;&lt;div&gt;&lt;p&gt;&lt;span&gt;There are no limitations for access. Use Constraints: None, The USDA-Farm Production and Conservation Business Center asks to be credited in derived products. If defects are found in the NAIP imagery during the 1 year warranty period such as horizontal offsets, replacement imagery may be provided. Imagery containing defects that require the acquisition of new imagery, such as excessive cloud cover, specular reflectance, etc., will not be replaced within a NAIP project year. Distribution Liability: In no event shall the creators, custodians, or distributors of this information be liable for any damages arising out of its use (or the inability to use it).&lt;/span&gt;&lt;/p&gt;&lt;/div&gt;&lt;/div&gt;&lt;/div&gt;</useLimit>
</Consts>
</resConst>
<tpCat>
<TopicCatCd value="001">
</TopicCatCd>
</tpCat>
</dataIdInfo>
<mdLang>
<languageCode Sync="TRUE" value="eng">
</languageCode>
<countryCode Sync="TRUE" value="USA">
</countryCode>
</mdLang>
<refSysInfo>
<RefSystem>
<refSysID>
<identCode Sync="TRUE" code="6418">
</identCode>
<idCodeSpace Sync="TRUE">EPSG</idCodeSpace>
<idVersion Sync="TRUE">8.9.3(10.3.1)</idVersion>
</refSysID>
</RefSystem>
</refSysInfo>
<spatRepInfo>
<Georect>
<cellGeo>
<CellGeoCd Sync="TRUE" value="002">
</CellGeoCd>
</cellGeo>
<numDims Sync="TRUE">2</numDims>
<tranParaAv Sync="TRUE">1</tranParaAv>
<chkPtAv Sync="TRUE">0</chkPtAv>
<cornerPts>
<pos Sync="TRUE">6112495.649000 1783624.385500</pos>
</cornerPts>
<cornerPts>
<pos Sync="TRUE">6112495.649000 2084574.571000</pos>
</cornerPts>
<cornerPts>
<pos Sync="TRUE">6475404.372000 2084574.571000</pos>
</cornerPts>
<cornerPts>
<pos Sync="TRUE">6475404.372000 1783624.385500</pos>
</cornerPts>
<centerPt>
<pos Sync="TRUE">6293950.010500 1934099.478250</pos>
</centerPt>
<axisDimension type="002">
<dimSize Sync="TRUE">184358</dimSize>
<dimResol>
<value Sync="TRUE" uom="ftUS">1.968500</value>
</dimResol>
</axisDimension>
<axisDimension type="001">
<dimSize Sync="TRUE">152883</dimSize>
<dimResol>
<value Sync="TRUE" uom="ftUS">1.968500</value>
</dimResol>
</axisDimension>
<ptInPixel>
<PixOrientCd Sync="TRUE" value="001">
</PixOrientCd>
</ptInPixel>
</Georect>
</spatRepInfo>
<contInfo>
<ImgDesc>
<contentTyp>
<ContentTypCd Sync="TRUE" value="001">
</ContentTypCd>
</contentTyp>
<covDim>
<Band>
<dimDescrp Sync="TRUE">Red</dimDescrp>
<bitsPerVal Sync="TRUE">8</bitsPerVal>
<valUnit>
<UOM type="length">
</UOM>
</valUnit>
</Band>
<Band>
<dimDescrp Sync="TRUE">Green</dimDescrp>
<bitsPerVal Sync="TRUE">8</bitsPerVal>
<valUnit>
<UOM type="length">
</UOM>
</valUnit>
</Band>
<Band>
<dimDescrp Sync="TRUE">Blue</dimDescrp>
<bitsPerVal Sync="TRUE">8</bitsPerVal>
<valUnit>
<UOM type="length">
</UOM>
</valUnit>
</Band>
<Band>
<dimDescrp Sync="TRUE">Infrared</dimDescrp>
<bitsPerVal Sync="TRUE">8</bitsPerVal>
<valUnit>
<UOM type="length">
</UOM>
</valUnit>
</Band>
</covDim>
</ImgDesc>
</contInfo>
<mdDateSt Sync="TRUE">20201219</mdDateSt>
<mdHrLv>
<ScopeCd value="005">
</ScopeCd>
</mdHrLv>
<myData>
<InEdit>N/A</InEdit>
<InMain>N/A</InMain>
<InRest>N/A</InRest>
<InPortal>N/A</InPortal>
<InAGO>N/A</InAGO>
<LastPublicationDateTag>No</LastPublicationDateTag>
<PreviousLayerName>N/A</PreviousLayerName>
<MetadataReview>No</MetadataReview>
<MetadataSource>N/A</MetadataSource>
</myData>
</metadata>
