<?xml version="1.0" encoding="UTF-8" standalone="no"?>
<metadata xml:lang="en">
<Esri>
<CreaDate>20201215</CreaDate>
<CreaTime>12352300</CreaTime>
<ArcGISFormat>1.0</ArcGISFormat>
<ArcGISstyle>FGDC CSDGM MetadataVerify - ISD GIS</ArcGISstyle>
<SyncOnce>FALSE</SyncOnce>
<DataProperties>
<itemProps>
<itemName Sync="TRUE">Ortho_SoCo_Pictometry_2008</itemName>
<itemLocation>
<protocol Sync="TRUE">Local Area Network</protocol>
</itemLocation>
<nativeExtBox>
<westBL Sync="TRUE">6124470.079465</westBL>
<eastBL Sync="TRUE">6461542.977713</eastBL>
<southBL Sync="TRUE">1802859.073562</southBL>
<northBL Sync="TRUE">2075880.940687</northBL>
<exTypeCode Sync="TRUE">1</exTypeCode>
</nativeExtBox>
<imsContentType Sync="TRUE">002</imsContentType>
</itemProps>
<coordRef>
<type Sync="TRUE">Projected</type>
<geogcsn Sync="TRUE">GCS_North_American_1983</geogcsn>
<csUnits Sync="TRUE">Linear Unit: Foot_US (0.304801)</csUnits>
<projcsn Sync="TRUE">NAD_1983_StatePlane_California_II_FIPS_0402_Feet</projcsn>
<peXml Sync="TRUE">&lt;ProjectedCoordinateSystem xsi:type='typens:ProjectedCoordinateSystem' xmlns:xsi='http://www.w3.org/2001/XMLSchema-instance' xmlns:xs='http://www.w3.org/2001/XMLSchema' xmlns:typens='http://www.esri.com/schemas/ArcGIS/10.7'&gt;&lt;WKT&gt;PROJCS[&amp;quot;NAD_1983_StatePlane_California_II_FIPS_0402_Feet&amp;quot;,GEOGCS[&amp;quot;GCS_North_American_1983&amp;quot;,DATUM[&amp;quot;D_North_American_1983&amp;quot;,SPHEROID[&amp;quot;GRS_1980&amp;quot;,6378137.0,298.257222101]],PRIMEM[&amp;quot;Greenwich&amp;quot;,0.0],UNIT[&amp;quot;Degree&amp;quot;,0.0174532925199433]],PROJECTION[&amp;quot;Lambert_Conformal_Conic&amp;quot;],PARAMETER[&amp;quot;False_Easting&amp;quot;,6561666.666666666],PARAMETER[&amp;quot;False_Northing&amp;quot;,1640416.666666667],PARAMETER[&amp;quot;Central_Meridian&amp;quot;,-122.0],PARAMETER[&amp;quot;Standard_Parallel_1&amp;quot;,38.33333333333334],PARAMETER[&amp;quot;Standard_Parallel_2&amp;quot;,39.83333333333334],PARAMETER[&amp;quot;Latitude_Of_Origin&amp;quot;,37.66666666666666],UNIT[&amp;quot;Foot_US&amp;quot;,0.3048006096012192],AUTHORITY[&amp;quot;EPSG&amp;quot;,2226]]&lt;/WKT&gt;&lt;XOrigin&gt;-115211800&lt;/XOrigin&gt;&lt;YOrigin&gt;-93821500&lt;/YOrigin&gt;&lt;XYScale&gt;36983428.057351544&lt;/XYScale&gt;&lt;ZOrigin&gt;-100000&lt;/ZOrigin&gt;&lt;ZScale&gt;10000&lt;/ZScale&gt;&lt;MOrigin&gt;-100000&lt;/MOrigin&gt;&lt;MScale&gt;10000&lt;/MScale&gt;&lt;XYTolerance&gt;0.0032808333333333331&lt;/XYTolerance&gt;&lt;ZTolerance&gt;0.001&lt;/ZTolerance&gt;&lt;MTolerance&gt;0.001&lt;/MTolerance&gt;&lt;HighPrecision&gt;true&lt;/HighPrecision&gt;&lt;WKID&gt;102642&lt;/WKID&gt;&lt;LatestWKID&gt;2226&lt;/LatestWKID&gt;&lt;/ProjectedCoordinateSystem&gt;</peXml>
</coordRef>
<RasterProperties>
<General>
<PixelDepth Sync="TRUE">32</PixelDepth>
<HasColormap Sync="TRUE">FALSE</HasColormap>
<CompressionType Sync="TRUE">Mixed</CompressionType>
<NumBands Sync="TRUE">1</NumBands>
<Format Sync="TRUE">Cache/Mixed</Format>
<HasPyramids Sync="TRUE">TRUE</HasPyramids>
<SourceType Sync="TRUE">continuous</SourceType>
<PixelType Sync="TRUE">unsigned integer</PixelType>
<NoDataValue Sync="TRUE"/>
</General>
</RasterProperties>
</DataProperties>
<SyncDate>20201219</SyncDate>
<SyncTime>07015700</SyncTime>
<ModDate>20201219</ModDate>
<ModTime>07015700</ModTime>
<scaleRange>
<minScale>500000</minScale>
<maxScale>5000</maxScale>
</scaleRange>
<ArcGISProfile>FGDC</ArcGISProfile>
</Esri>
<mdChar>
<CharSetCd value="004"/>
</mdChar>
<dataIdInfo>
<idCitation>
<date>
<createDate>2008-11-06T00:00:00</createDate>
<pubDate>2009-01-16T00:00:00</pubDate>
</date>
<resTitle Sync="TRUE">Ortho_SoCo_Pictometry_2008</resTitle>
<presForm>
<PresFormCd Sync="TRUE" value="005"/>
</presForm>
<citRespParty>
<rpIndName>Eagleview (Pictometry)</rpIndName>
<rpOrgName>Eagleview</rpOrgName>
<role>
<RoleCd value="006"/>
</role>
<rpCntInfo>
<cntAddress addressType="both">
<delPoint>10900 NE 4th St</delPoint>
<city>Bellevue</city>
<adminArea>WA</adminArea>
<postCode>98004-5873</postCode>
</cntAddress>
<cntPhone>
<voiceNum tddtty="">1(855)984-6590</voiceNum>
</cntPhone>
</rpCntInfo>
</citRespParty>
</idCitation>
<idPurp>The dataset was created to serve as a 1:2400 scale map.</idPurp>
<idAbs>&lt;div style='text-align:Left;'&gt;&lt;div&gt;&lt;div&gt;&lt;p&gt;&lt;span&gt;The dataset consists of tiled orthogonal imagery produced from nadir images captured by Pictometry International during the period of November 6, 2008 thru January 16, 2009. Automatic aerial triangulation (AAT) was performed, culminating in a single block adjustment of 3718 source frames. The AAT process was supported by 21 ground control points surveyed by US Surveyors Inc. Portions of this image's triangulated frames were orthorectified to a LiDAR derived DEM created from the Spring 2009 LiDAR capture. Mosaicing was performed using an automatic seaming algorithm and supplemented by manual editing to correct seams through elevated features where possible. A global radiometric correction was applied to the source frames to minimize the appearance of radiometric seams.&lt;/span&gt;&lt;/p&gt;&lt;/div&gt;&lt;/div&gt;&lt;/div&gt;</idAbs>
<searchKeys>
<keyword>Digital Orthophotography</keyword>
</searchKeys>
<resConst>
<Consts>
<useLimit>&lt;div style='text-align:Left;'&gt;&lt;div&gt;&lt;div&gt;&lt;p&gt;&lt;span style='font-size:10pt'&gt;Permission Required - The user may only copy and redistribute the data in any medium or format with the permission of the author of the data. The licensor cannot revoke these permissions as long as you follow the license terms.&lt;/span&gt;&lt;/p&gt;&lt;p&gt;&lt;span style='font-size:10pt'&gt;License terms: Attribution - You must give appropriate credit (if supplied, you must provide the name of the creator and attribution parties, a copyright notice, a license notice, a disclaimer notice and a link to the material) and indicate if changes were made. You may do so in any reasonable manner, but not in any way that suggests the licensor endorses you, your organization, or your use of the data.&lt;/span&gt;&lt;/p&gt;&lt;p&gt;&lt;span style='font-size:10pt'&gt;No additional Restrictions - You may not apply legal terms or technological measures that legally restrict others form doing anything the license permits.&lt;/span&gt;&lt;/p&gt;&lt;p&gt;&lt;span style='font-size:10pt'&gt;Notices: You do not have to comply with the license for elements of the material in the public domain or where your use is permitted by an applicable exception or limitation. No warranties are given. The license may not give you all of the permissions necessary for your intended use. For example, other rights such as publicity, privacy, or moral rights may limit how you use the data.&lt;/span&gt;&lt;/p&gt;&lt;p&gt;&lt;span style='font-size:10pt'&gt;EXCEPT TO THE EXTENT REQUIRED BY APPLICABLE LAW, IN NO EVENT WILL LICENSOR BE LIABLE TO YOU ON ANY LEGAL THEORY FOR ANY SPECIAL, INCIDENTAL, CONSEQUENTIAL, PUNITIVE OR EXEMPLARY DAMAGES ARISING OUT OF THIS LICENSE OR THE USE OF THE DATA, EVEN IF LICENSOR HAS BEEN ADVISED OF THE POSSIBILITY OF SUCH DAMAGES.&lt;/span&gt;&lt;/p&gt;&lt;/div&gt;&lt;/div&gt;&lt;/div&gt;</useLimit>
</Consts>
</resConst>
<dataChar>
<CharSetCd value="004"/>
</dataChar>
<idCredit>County of Sonoma, Pictometry International Corp.</idCredit>
<resMaint>
<maintFreq>
<MaintFreqCd value="011"/>
</maintFreq>
</resMaint>
<envirDesc Sync="TRUE"> Version 6.2 (Build 9200) ; Esri ArcGIS 10.7.1.11595</envirDesc>
<dataLang>
<languageCode Sync="TRUE" value="eng"/>
<countryCode Sync="TRUE" value="USA"/>
</dataLang>
<spatRpType>
<SpatRepTypCd Sync="TRUE" value="002"/>
</spatRpType>
<dataExt>
<geoEle>
<GeoBndBox esriExtentType="search">
<exTypeCode Sync="TRUE">1</exTypeCode>
<westBL Sync="TRUE">-123.535308</westBL>
<eastBL Sync="TRUE">-122.347966</eastBL>
<northBL Sync="TRUE">38.861842</northBL>
<southBL Sync="TRUE">38.102654</southBL>
</GeoBndBox>
</geoEle>
<exDesc>County of Sonoma</exDesc>
<tempEle>
<TempExtent>
<exTemp>
<TM_Period>
<tmBegin>2008-11-06T00:00:00</tmBegin>
<tmEnd>2009-01-16T00:00:00</tmEnd>
</TM_Period>
</exTemp>
</TempExtent>
</tempEle>
</dataExt>
<idStatus>
<ProgCd value="001"/>
</idStatus>
<tpCat>
<TopicCatCd value="010"/>
</tpCat>
</dataIdInfo>
<mdMaint>
<maintFreq>
<MaintFreqCd value="011"/>
</maintFreq>
</mdMaint>
<spatRepInfo>
<Georect>
<axisDimension type="002">
<dimSize Sync="TRUE">344093</dimSize>
<dimResol>
<value Sync="TRUE" uom="ftUS">0.979598</value>
</dimResol>
</axisDimension>
<axisDimension type="001">
<dimSize Sync="TRUE">278708</dimSize>
<dimResol>
<value Sync="TRUE" uom="ftUS">0.979598</value>
</dimResol>
</axisDimension>
<cellGeo>
<CellGeoCd Sync="TRUE" value="002"/>
</cellGeo>
<numDims Sync="TRUE">2</numDims>
<tranParaAv Sync="TRUE">1</tranParaAv>
<chkPtAv Sync="TRUE">0</chkPtAv>
<cornerPts>
<pos Sync="TRUE">6124470.079465 1802859.073562</pos>
</cornerPts>
<cornerPts>
<pos Sync="TRUE">6124470.079465 2075880.940687</pos>
</cornerPts>
<cornerPts>
<pos Sync="TRUE">6461542.977713 2075880.940687</pos>
</cornerPts>
<cornerPts>
<pos Sync="TRUE">6461542.977713 1802859.073562</pos>
</cornerPts>
<centerPt>
<pos Sync="TRUE">6293006.528589 1939370.007124</pos>
</centerPt>
<ptInPixel>
<PixOrientCd Sync="TRUE" value="001"/>
</ptInPixel>
</Georect>
</spatRepInfo>
<contInfo>
<ImgDesc>
<covDim>
<Band>
<valUnit>
<UOM type="length"/>
</valUnit>
<dimDescrp Sync="TRUE">Band_1</dimDescrp>
<bitsPerVal Sync="TRUE">32</bitsPerVal>
</Band>
</covDim>
<trianInd>False</trianInd>
<radCalDatAv>False</radCalDatAv>
<camCalInAv>False</camCalInAv>
<filmDistInAv>False</filmDistInAv>
<lensDistInAv>False</lensDistInAv>
<contentTyp>
<ContentTypCd Sync="TRUE" value="001"/>
</contentTyp>
</ImgDesc>
</contInfo>
<eainfo>
<detailed Name="CASONO08_Ortho_Tiles">
<enttyp>
<enttypl Sync="TRUE">CASONO08_Ortho_Tiles</enttypl>
<enttypt Sync="TRUE">Feature Class</enttypt>
<enttypc Sync="TRUE">384</enttypc>
</enttyp>
<attr>
<attrlabl Sync="TRUE">FID</attrlabl>
<attalias Sync="TRUE">FID</attalias>
<attrtype Sync="TRUE">OID</attrtype>
<attwidth Sync="TRUE">4</attwidth>
<atprecis Sync="TRUE">0</atprecis>
<attscale Sync="TRUE">0</attscale>
<attrdef Sync="TRUE">Internal feature number.</attrdef>
<attrdefs Sync="TRUE">ESRI</attrdefs>
<attrdomv>
<udom Sync="TRUE">Sequential unique whole numbers that are automatically generated.</udom>
</attrdomv>
</attr>
<attr>
<attrlabl Sync="TRUE">Shape</attrlabl>
<attalias Sync="TRUE">Shape</attalias>
<attrtype Sync="TRUE">Geometry</attrtype>
<attwidth Sync="TRUE">0</attwidth>
<atprecis Sync="TRUE">0</atprecis>
<attscale Sync="TRUE">0</attscale>
<attrdef Sync="TRUE">Feature geometry.</attrdef>
<attrdefs Sync="TRUE">ESRI</attrdefs>
<attrdomv>
<udom Sync="TRUE">Coordinates defining the features.</udom>
</attrdomv>
</attr>
<attr>
<attrlabl Sync="TRUE">ImageName</attrlabl>
<attalias Sync="TRUE">ImageName</attalias>
<attrtype Sync="TRUE">String</attrtype>
<attwidth Sync="TRUE">44</attwidth>
<atprecis Sync="TRUE">0</atprecis>
<attscale Sync="TRUE">0</attscale>
</attr>
<attr>
<attrlabl Sync="TRUE">ImagePath</attrlabl>
<attalias Sync="TRUE">ImagePath</attalias>
<attrtype Sync="TRUE">String</attrtype>
<attwidth Sync="TRUE">255</attwidth>
<atprecis Sync="TRUE">0</atprecis>
<attscale Sync="TRUE">0</attscale>
</attr>
<attr>
<attrlabl Sync="TRUE">ImageExt</attrlabl>
<attalias Sync="TRUE">ImageExt</attalias>
<attrtype Sync="TRUE">String</attrtype>
<attwidth Sync="TRUE">3</attwidth>
<atprecis Sync="TRUE">0</atprecis>
<attscale Sync="TRUE">0</attscale>
</attr>
<attr>
<attrlabl Sync="TRUE">ShotLevel</attrlabl>
<attalias Sync="TRUE">ShotLevel</attalias>
<attrtype Sync="TRUE">String</attrtype>
<attwidth Sync="TRUE">1</attwidth>
<atprecis Sync="TRUE">0</atprecis>
<attscale Sync="TRUE">0</attscale>
</attr>
<attr>
<attrlabl Sync="TRUE">ShotType</attrlabl>
<attalias Sync="TRUE">ShotType</attalias>
<attrtype Sync="TRUE">String</attrtype>
<attwidth Sync="TRUE">2</attwidth>
<atprecis Sync="TRUE">0</atprecis>
<attscale Sync="TRUE">0</attscale>
</attr>
<attr>
<attrlabl Sync="TRUE">ShotOrient</attrlabl>
<attalias Sync="TRUE">ShotOrient</attalias>
<attrtype Sync="TRUE">String</attrtype>
<attwidth Sync="TRUE">2</attwidth>
<atprecis Sync="TRUE">0</atprecis>
<attscale Sync="TRUE">0</attscale>
</attr>
<attr>
<attrlabl Sync="TRUE">ShotDate</attrlabl>
<attalias Sync="TRUE">ShotDate</attalias>
<attrtype Sync="TRUE">String</attrtype>
<attwidth Sync="TRUE">20</attwidth>
<atprecis Sync="TRUE">0</atprecis>
<attscale Sync="TRUE">0</attscale>
</attr>
<attr>
<attrlabl Sync="TRUE">GSD</attrlabl>
<attalias Sync="TRUE">GSD</attalias>
<attrtype Sync="TRUE">Single</attrtype>
<attwidth Sync="TRUE">8</attwidth>
<atprecis Sync="TRUE">0</atprecis>
<attscale Sync="TRUE">0</attscale>
</attr>
<attr>
<attrlabl Sync="TRUE">ImageRows</attrlabl>
<attalias Sync="TRUE">ImageRows</attalias>
<attrtype Sync="TRUE">Integer</attrtype>
<attwidth Sync="TRUE">8</attwidth>
<atprecis Sync="TRUE">8</atprecis>
<attscale Sync="TRUE">0</attscale>
</attr>
<attr>
<attrlabl Sync="TRUE">ImageCols</attrlabl>
<attalias Sync="TRUE">ImageCols</attalias>
<attrtype Sync="TRUE">Integer</attrtype>
<attwidth Sync="TRUE">8</attwidth>
<atprecis Sync="TRUE">8</atprecis>
<attscale Sync="TRUE">0</attscale>
</attr>
<attr>
<attrlabl Sync="TRUE">ULx</attrlabl>
<attalias Sync="TRUE">ULx</attalias>
<attrtype Sync="TRUE">Double</attrtype>
<attwidth Sync="TRUE">16</attwidth>
<atprecis Sync="TRUE">0</atprecis>
<attscale Sync="TRUE">0</attscale>
</attr>
<attr>
<attrlabl Sync="TRUE">ULy</attrlabl>
<attalias Sync="TRUE">ULy</attalias>
<attrtype Sync="TRUE">Double</attrtype>
<attwidth Sync="TRUE">16</attwidth>
<atprecis Sync="TRUE">0</atprecis>
<attscale Sync="TRUE">0</attscale>
</attr>
<attr>
<attrlabl Sync="TRUE">URx</attrlabl>
<attalias Sync="TRUE">URx</attalias>
<attrtype Sync="TRUE">Double</attrtype>
<attwidth Sync="TRUE">16</attwidth>
<atprecis Sync="TRUE">0</atprecis>
<attscale Sync="TRUE">0</attscale>
</attr>
<attr>
<attrlabl Sync="TRUE">URy</attrlabl>
<attalias Sync="TRUE">URy</attalias>
<attrtype Sync="TRUE">Double</attrtype>
<attwidth Sync="TRUE">16</attwidth>
<atprecis Sync="TRUE">0</atprecis>
<attscale Sync="TRUE">0</attscale>
</attr>
<attr>
<attrlabl Sync="TRUE">LRx</attrlabl>
<attalias Sync="TRUE">LRx</attalias>
<attrtype Sync="TRUE">Double</attrtype>
<attwidth Sync="TRUE">16</attwidth>
<atprecis Sync="TRUE">0</atprecis>
<attscale Sync="TRUE">0</attscale>
</attr>
<attr>
<attrlabl Sync="TRUE">LRy</attrlabl>
<attalias Sync="TRUE">LRy</attalias>
<attrtype Sync="TRUE">Double</attrtype>
<attwidth Sync="TRUE">16</attwidth>
<atprecis Sync="TRUE">0</atprecis>
<attscale Sync="TRUE">0</attscale>
</attr>
<attr>
<attrlabl Sync="TRUE">LLx</attrlabl>
<attalias Sync="TRUE">LLx</attalias>
<attrtype Sync="TRUE">Double</attrtype>
<attwidth Sync="TRUE">16</attwidth>
<atprecis Sync="TRUE">0</atprecis>
<attscale Sync="TRUE">0</attscale>
</attr>
<attr>
<attrlabl Sync="TRUE">LLy</attrlabl>
<attalias Sync="TRUE">LLy</attalias>
<attrtype Sync="TRUE">Double</attrtype>
<attwidth Sync="TRUE">16</attwidth>
<atprecis Sync="TRUE">0</atprecis>
<attscale Sync="TRUE">0</attscale>
</attr>
<attr>
<attrlabl Sync="TRUE">Flags</attrlabl>
<attalias Sync="TRUE">Flags</attalias>
<attrtype Sync="TRUE">Integer</attrtype>
<attwidth Sync="TRUE">8</attwidth>
<atprecis Sync="TRUE">8</atprecis>
<attscale Sync="TRUE">0</attscale>
</attr>
<attr>
<attrlabl Sync="TRUE">CameraLat</attrlabl>
<attalias Sync="TRUE">CameraLat</attalias>
<attrtype Sync="TRUE">Double</attrtype>
<attwidth Sync="TRUE">16</attwidth>
<atprecis Sync="TRUE">0</atprecis>
<attscale Sync="TRUE">0</attscale>
</attr>
<attr>
<attrlabl Sync="TRUE">CameraLon</attrlabl>
<attalias Sync="TRUE">CameraLon</attalias>
<attrtype Sync="TRUE">Double</attrtype>
<attwidth Sync="TRUE">16</attwidth>
<atprecis Sync="TRUE">0</atprecis>
<attscale Sync="TRUE">0</attscale>
</attr>
<attr>
<attrlabl Sync="TRUE">Bearing</attrlabl>
<attalias Sync="TRUE">Bearing</attalias>
<attrtype Sync="TRUE">Double</attrtype>
<attwidth Sync="TRUE">16</attwidth>
<atprecis Sync="TRUE">0</atprecis>
<attscale Sync="TRUE">0</attscale>
</attr>
<attr>
<attrlabl Sync="TRUE">Roll</attrlabl>
<attalias Sync="TRUE">Roll</attalias>
<attrtype Sync="TRUE">Double</attrtype>
<attwidth Sync="TRUE">16</attwidth>
<atprecis Sync="TRUE">0</atprecis>
<attscale Sync="TRUE">0</attscale>
</attr>
<attr>
<attrlabl Sync="TRUE">Declin</attrlabl>
<attalias Sync="TRUE">Declin</attalias>
<attrtype Sync="TRUE">Double</attrtype>
<attwidth Sync="TRUE">16</attwidth>
<atprecis Sync="TRUE">0</atprecis>
<attscale Sync="TRUE">0</attscale>
</attr>
<attr>
<attrlabl Sync="TRUE">Alt</attrlabl>
<attalias Sync="TRUE">Alt</attalias>
<attrtype Sync="TRUE">Double</attrtype>
<attwidth Sync="TRUE">16</attwidth>
<atprecis Sync="TRUE">0</atprecis>
<attscale Sync="TRUE">0</attscale>
</attr>
<attr>
<attrlabl Sync="TRUE">Elevation</attrlabl>
<attalias Sync="TRUE">Elevation</attalias>
<attrtype Sync="TRUE">Double</attrtype>
<attwidth Sync="TRUE">16</attwidth>
<atprecis Sync="TRUE">0</atprecis>
<attscale Sync="TRUE">0</attscale>
</attr>
<attr>
<attrlabl Sync="TRUE">FPx</attrlabl>
<attalias Sync="TRUE">FPx</attalias>
<attrtype Sync="TRUE">Double</attrtype>
<attwidth Sync="TRUE">16</attwidth>
<atprecis Sync="TRUE">0</atprecis>
<attscale Sync="TRUE">0</attscale>
</attr>
<attr>
<attrlabl Sync="TRUE">FPy</attrlabl>
<attalias Sync="TRUE">FPy</attalias>
<attrtype Sync="TRUE">Double</attrtype>
<attwidth Sync="TRUE">16</attwidth>
<atprecis Sync="TRUE">0</atprecis>
<attscale Sync="TRUE">0</attscale>
</attr>
<attr>
<attrlabl Sync="TRUE">FocalLen</attrlabl>
<attalias Sync="TRUE">FocalLen</attalias>
<attrtype Sync="TRUE">Double</attrtype>
<attwidth Sync="TRUE">16</attwidth>
<atprecis Sync="TRUE">0</atprecis>
<attscale Sync="TRUE">0</attscale>
</attr>
<attr>
<attrlabl Sync="TRUE">K1</attrlabl>
<attalias Sync="TRUE">K1</attalias>
<attrtype Sync="TRUE">Double</attrtype>
<attwidth Sync="TRUE">16</attwidth>
<atprecis Sync="TRUE">0</atprecis>
<attscale Sync="TRUE">0</attscale>
</attr>
<attr>
<attrlabl Sync="TRUE">K2</attrlabl>
<attalias Sync="TRUE">K2</attalias>
<attrtype Sync="TRUE">Double</attrtype>
<attwidth Sync="TRUE">16</attwidth>
<atprecis Sync="TRUE">0</atprecis>
<attscale Sync="TRUE">0</attscale>
</attr>
<attr>
<attrlabl Sync="TRUE">K3</attrlabl>
<attalias Sync="TRUE">K3</attalias>
<attrtype Sync="TRUE">Double</attrtype>
<attwidth Sync="TRUE">16</attwidth>
<atprecis Sync="TRUE">0</atprecis>
<attscale Sync="TRUE">0</attscale>
</attr>
<attr>
<attrlabl Sync="TRUE">PPx</attrlabl>
<attalias Sync="TRUE">PPx</attalias>
<attrtype Sync="TRUE">Double</attrtype>
<attwidth Sync="TRUE">16</attwidth>
<atprecis Sync="TRUE">0</atprecis>
<attscale Sync="TRUE">0</attscale>
</attr>
<attr>
<attrlabl Sync="TRUE">PPy</attrlabl>
<attalias Sync="TRUE">PPy</attalias>
<attrtype Sync="TRUE">Double</attrtype>
<attwidth Sync="TRUE">16</attwidth>
<atprecis Sync="TRUE">0</atprecis>
<attscale Sync="TRUE">0</attscale>
</attr>
<attr>
<attrlabl Sync="TRUE">Camera</attrlabl>
<attalias Sync="TRUE">Camera</attalias>
<attrtype Sync="TRUE">String</attrtype>
<attwidth Sync="TRUE">16</attwidth>
<atprecis Sync="TRUE">0</atprecis>
<attscale Sync="TRUE">0</attscale>
</attr>
<attr>
<attrlabl Sync="TRUE">CameraX</attrlabl>
<attalias Sync="TRUE">CameraX</attalias>
<attrtype Sync="TRUE">Double</attrtype>
<attwidth Sync="TRUE">16</attwidth>
<atprecis Sync="TRUE">0</atprecis>
<attscale Sync="TRUE">0</attscale>
</attr>
<attr>
<attrlabl Sync="TRUE">CameraY</attrlabl>
<attalias Sync="TRUE">CameraY</attalias>
<attrtype Sync="TRUE">Double</attrtype>
<attwidth Sync="TRUE">16</attwidth>
<atprecis Sync="TRUE">0</atprecis>
<attscale Sync="TRUE">0</attscale>
</attr>
<attr>
<attrlabl Sync="TRUE">Omega</attrlabl>
<attalias Sync="TRUE">Omega</attalias>
<attrtype Sync="TRUE">Double</attrtype>
<attwidth Sync="TRUE">16</attwidth>
<atprecis Sync="TRUE">0</atprecis>
<attscale Sync="TRUE">0</attscale>
</attr>
<attr>
<attrlabl Sync="TRUE">Phi</attrlabl>
<attalias Sync="TRUE">Phi</attalias>
<attrtype Sync="TRUE">Double</attrtype>
<attwidth Sync="TRUE">16</attwidth>
<atprecis Sync="TRUE">0</atprecis>
<attscale Sync="TRUE">0</attscale>
</attr>
<attr>
<attrlabl Sync="TRUE">Kappa</attrlabl>
<attalias Sync="TRUE">Kappa</attalias>
<attrtype Sync="TRUE">Double</attrtype>
<attwidth Sync="TRUE">16</attwidth>
<atprecis Sync="TRUE">0</atprecis>
<attscale Sync="TRUE">0</attscale>
</attr>
<attr>
<attrlabl Sync="TRUE">BalancedFL</attrlabl>
<attalias Sync="TRUE">BalancedFL</attalias>
<attrtype Sync="TRUE">Double</attrtype>
<attwidth Sync="TRUE">16</attwidth>
<atprecis Sync="TRUE">0</atprecis>
<attscale Sync="TRUE">0</attscale>
</attr>
<attr>
<attrlabl Sync="TRUE">BalancedK0</attrlabl>
<attalias Sync="TRUE">BalancedK0</attalias>
<attrtype Sync="TRUE">Double</attrtype>
<attwidth Sync="TRUE">16</attwidth>
<atprecis Sync="TRUE">0</atprecis>
<attscale Sync="TRUE">0</attscale>
</attr>
<attr>
<attrlabl Sync="TRUE">BalancedK1</attrlabl>
<attalias Sync="TRUE">BalancedK1</attalias>
<attrtype Sync="TRUE">Double</attrtype>
<attwidth Sync="TRUE">16</attwidth>
<atprecis Sync="TRUE">0</atprecis>
<attscale Sync="TRUE">0</attscale>
</attr>
<attr>
<attrlabl Sync="TRUE">BalancedK2</attrlabl>
<attalias Sync="TRUE">BalancedK2</attalias>
<attrtype Sync="TRUE">Double</attrtype>
<attwidth Sync="TRUE">16</attwidth>
<atprecis Sync="TRUE">0</atprecis>
<attscale Sync="TRUE">0</attscale>
</attr>
<attr>
<attrlabl Sync="TRUE">BalancedK3</attrlabl>
<attalias Sync="TRUE">BalancedK3</attalias>
<attrtype Sync="TRUE">Double</attrtype>
<attwidth Sync="TRUE">16</attwidth>
<atprecis Sync="TRUE">0</atprecis>
<attscale Sync="TRUE">0</attscale>
</attr>
<attr>
<attrlabl Sync="TRUE">Project</attrlabl>
<attalias Sync="TRUE">Project</attalias>
<attrtype Sync="TRUE">String</attrtype>
<attwidth Sync="TRUE">36</attwidth>
<atprecis Sync="TRUE">0</atprecis>
<attscale Sync="TRUE">0</attscale>
</attr>
</detailed>
</eainfo>
<mdLang>
<languageCode Sync="TRUE" value="eng"/>
<countryCode Sync="TRUE" value="USA"/>
</mdLang>
<distInfo>
<distFormat>
<formatName Sync="TRUE">Raster Dataset</formatName>
</distFormat>
</distInfo>
<mdHrLv>
<ScopeCd Sync="TRUE" value="005"/>
</mdHrLv>
<mdHrLvName Sync="TRUE">dataset</mdHrLvName>
<refSysInfo>
<RefSystem>
<refSysID>
<identCode Sync="TRUE" code="2226"/>
<idCodeSpace Sync="TRUE">EPSG</idCodeSpace>
<idVersion Sync="TRUE">5.3(9.0.0)</idVersion>
</refSysID>
</RefSystem>
</refSysInfo>
<mdDateSt Sync="TRUE">20201219</mdDateSt>
</metadata>
