<?xml version="1.0" encoding="UTF-8" standalone="no"?>
<metadata xml:lang="en">
<Esri>
<CreaDate>20200226</CreaDate>
<CreaTime>09315200</CreaTime>
<ArcGISFormat>1.0</ArcGISFormat>
<ArcGISstyle>FGDC CSDGM Metadata Abridged2</ArcGISstyle>
<SyncOnce>FALSE</SyncOnce>
<DataProperties>
<itemProps>
<itemName Sync="TRUE">Ortho_SoCo_Pictometry_2008_WM</itemName>
<itemLocation>
<protocol Sync="TRUE">Local Area Network</protocol>
</itemLocation>
<nativeExtBox>
<westBL Sync="TRUE">-13751887.544695</westBL>
<eastBL Sync="TRUE">-13619712.993724</eastBL>
<southBL Sync="TRUE">4593937.577055</southBL>
<northBL Sync="TRUE">4701900.997907</northBL>
<exTypeCode Sync="TRUE">1</exTypeCode>
</nativeExtBox>
<imsContentType Sync="TRUE" export="False">002</imsContentType>
</itemProps>
<coordRef>
<type Sync="TRUE">Projected</type>
<geogcsn Sync="TRUE">GCS_WGS_1984</geogcsn>
<csUnits Sync="TRUE">Linear Unit: Meter (1.000000)</csUnits>
<projcsn Sync="TRUE">WGS_1984_Web_Mercator_Auxiliary_Sphere</projcsn>
<peXml Sync="TRUE">&lt;ProjectedCoordinateSystem xsi:type='typens:ProjectedCoordinateSystem' xmlns:xsi='http://www.w3.org/2001/XMLSchema-instance' xmlns:xs='http://www.w3.org/2001/XMLSchema' xmlns:typens='http://www.esri.com/schemas/ArcGIS/10.7'&gt;&lt;WKT&gt;PROJCS[&amp;quot;WGS_1984_Web_Mercator_Auxiliary_Sphere&amp;quot;,GEOGCS[&amp;quot;GCS_WGS_1984&amp;quot;,DATUM[&amp;quot;D_WGS_1984&amp;quot;,SPHEROID[&amp;quot;WGS_1984&amp;quot;,6378137.0,298.257223563]],PRIMEM[&amp;quot;Greenwich&amp;quot;,0.0],UNIT[&amp;quot;Degree&amp;quot;,0.0174532925199433]],PROJECTION[&amp;quot;Mercator_Auxiliary_Sphere&amp;quot;],PARAMETER[&amp;quot;False_Easting&amp;quot;,0.0],PARAMETER[&amp;quot;False_Northing&amp;quot;,0.0],PARAMETER[&amp;quot;Central_Meridian&amp;quot;,0.0],PARAMETER[&amp;quot;Standard_Parallel_1&amp;quot;,0.0],PARAMETER[&amp;quot;Auxiliary_Sphere_Type&amp;quot;,0.0],UNIT[&amp;quot;Meter&amp;quot;,1.0],AUTHORITY[&amp;quot;EPSG&amp;quot;,3857]]&lt;/WKT&gt;&lt;XOrigin&gt;-20037700&lt;/XOrigin&gt;&lt;YOrigin&gt;-30241100&lt;/YOrigin&gt;&lt;XYScale&gt;148923141.92838538&lt;/XYScale&gt;&lt;ZOrigin&gt;-100000&lt;/ZOrigin&gt;&lt;ZScale&gt;10000&lt;/ZScale&gt;&lt;MOrigin&gt;-100000&lt;/MOrigin&gt;&lt;MScale&gt;10000&lt;/MScale&gt;&lt;XYTolerance&gt;0.001&lt;/XYTolerance&gt;&lt;ZTolerance&gt;0.001&lt;/ZTolerance&gt;&lt;MTolerance&gt;0.001&lt;/MTolerance&gt;&lt;HighPrecision&gt;true&lt;/HighPrecision&gt;&lt;WKID&gt;102100&lt;/WKID&gt;&lt;LatestWKID&gt;3857&lt;/LatestWKID&gt;&lt;/ProjectedCoordinateSystem&gt;</peXml>
</coordRef>
<RasterProperties>
<General>
<PixelDepth Sync="TRUE">32</PixelDepth>
<HasColormap Sync="TRUE">FALSE</HasColormap>
<CompressionType Sync="TRUE">Mixed</CompressionType>
<NumBands Sync="TRUE">1</NumBands>
<Format Sync="TRUE">Cache/Mixed</Format>
<HasPyramids Sync="TRUE">TRUE</HasPyramids>
<SourceType Sync="TRUE">continuous</SourceType>
<PixelType Sync="TRUE">unsigned integer</PixelType>
<NoDataValue Sync="TRUE"/>
</General>
</RasterProperties>
</DataProperties>
<SyncDate>20210604</SyncDate>
<SyncTime>09114700</SyncTime>
<ModDate>20210604</ModDate>
<ModTime>09114700</ModTime>
<scaleRange>
<minScale>500000</minScale>
<maxScale>5000</maxScale>
</scaleRange>
<ArcGISProfile>FGDC</ArcGISProfile>
</Esri>
<eainfo>
<detailed Name="CASONO08_Ortho_Tiles">
<enttyp>
<enttypl Sync="TRUE">CASONO08_Ortho_Tiles</enttypl>
<enttypt Sync="TRUE">Feature Class</enttypt>
<enttypc Sync="TRUE">384</enttypc>
</enttyp>
<attr>
<attrlabl Sync="TRUE">FID</attrlabl>
<attalias Sync="TRUE">FID</attalias>
<attrtype Sync="TRUE">OID</attrtype>
<attwidth Sync="TRUE">4</attwidth>
<atprecis Sync="TRUE">0</atprecis>
<attscale Sync="TRUE">0</attscale>
<attrdef Sync="TRUE">Internal feature number.</attrdef>
<attrdefs Sync="TRUE">ESRI</attrdefs>
<attrdomv>
<udom Sync="TRUE">Sequential unique whole numbers that are automatically generated.</udom>
</attrdomv>
</attr>
<attr>
<attrlabl Sync="TRUE">Shape</attrlabl>
<attalias Sync="TRUE">Shape</attalias>
<attrtype Sync="TRUE">Geometry</attrtype>
<attwidth Sync="TRUE">0</attwidth>
<atprecis Sync="TRUE">0</atprecis>
<attscale Sync="TRUE">0</attscale>
<attrdef Sync="TRUE">Feature geometry.</attrdef>
<attrdefs Sync="TRUE">ESRI</attrdefs>
<attrdomv>
<udom Sync="TRUE">Coordinates defining the features.</udom>
</attrdomv>
</attr>
<attr>
<attrlabl Sync="TRUE">ImageName</attrlabl>
<attalias Sync="TRUE">ImageName</attalias>
<attrtype Sync="TRUE">String</attrtype>
<attwidth Sync="TRUE">44</attwidth>
<atprecis Sync="TRUE">0</atprecis>
<attscale Sync="TRUE">0</attscale>
</attr>
<attr>
<attrlabl Sync="TRUE">ImagePath</attrlabl>
<attalias Sync="TRUE">ImagePath</attalias>
<attrtype Sync="TRUE">String</attrtype>
<attwidth Sync="TRUE">255</attwidth>
<atprecis Sync="TRUE">0</atprecis>
<attscale Sync="TRUE">0</attscale>
</attr>
<attr>
<attrlabl Sync="TRUE">ImageExt</attrlabl>
<attalias Sync="TRUE">ImageExt</attalias>
<attrtype Sync="TRUE">String</attrtype>
<attwidth Sync="TRUE">3</attwidth>
<atprecis Sync="TRUE">0</atprecis>
<attscale Sync="TRUE">0</attscale>
</attr>
<attr>
<attrlabl Sync="TRUE">ShotLevel</attrlabl>
<attalias Sync="TRUE">ShotLevel</attalias>
<attrtype Sync="TRUE">String</attrtype>
<attwidth Sync="TRUE">1</attwidth>
<atprecis Sync="TRUE">0</atprecis>
<attscale Sync="TRUE">0</attscale>
</attr>
<attr>
<attrlabl Sync="TRUE">ShotType</attrlabl>
<attalias Sync="TRUE">ShotType</attalias>
<attrtype Sync="TRUE">String</attrtype>
<attwidth Sync="TRUE">2</attwidth>
<atprecis Sync="TRUE">0</atprecis>
<attscale Sync="TRUE">0</attscale>
</attr>
<attr>
<attrlabl Sync="TRUE">ShotOrient</attrlabl>
<attalias Sync="TRUE">ShotOrient</attalias>
<attrtype Sync="TRUE">String</attrtype>
<attwidth Sync="TRUE">2</attwidth>
<atprecis Sync="TRUE">0</atprecis>
<attscale Sync="TRUE">0</attscale>
</attr>
<attr>
<attrlabl Sync="TRUE">ShotDate</attrlabl>
<attalias Sync="TRUE">ShotDate</attalias>
<attrtype Sync="TRUE">String</attrtype>
<attwidth Sync="TRUE">20</attwidth>
<atprecis Sync="TRUE">0</atprecis>
<attscale Sync="TRUE">0</attscale>
</attr>
<attr>
<attrlabl Sync="TRUE">GSD</attrlabl>
<attalias Sync="TRUE">GSD</attalias>
<attrtype Sync="TRUE">Single</attrtype>
<attwidth Sync="TRUE">8</attwidth>
<atprecis Sync="TRUE">0</atprecis>
<attscale Sync="TRUE">0</attscale>
</attr>
<attr>
<attrlabl Sync="TRUE">ImageRows</attrlabl>
<attalias Sync="TRUE">ImageRows</attalias>
<attrtype Sync="TRUE">Integer</attrtype>
<attwidth Sync="TRUE">8</attwidth>
<atprecis Sync="TRUE">8</atprecis>
<attscale Sync="TRUE">0</attscale>
</attr>
<attr>
<attrlabl Sync="TRUE">ImageCols</attrlabl>
<attalias Sync="TRUE">ImageCols</attalias>
<attrtype Sync="TRUE">Integer</attrtype>
<attwidth Sync="TRUE">8</attwidth>
<atprecis Sync="TRUE">8</atprecis>
<attscale Sync="TRUE">0</attscale>
</attr>
<attr>
<attrlabl Sync="TRUE">ULx</attrlabl>
<attalias Sync="TRUE">ULx</attalias>
<attrtype Sync="TRUE">Double</attrtype>
<attwidth Sync="TRUE">16</attwidth>
<atprecis Sync="TRUE">0</atprecis>
<attscale Sync="TRUE">0</attscale>
</attr>
<attr>
<attrlabl Sync="TRUE">ULy</attrlabl>
<attalias Sync="TRUE">ULy</attalias>
<attrtype Sync="TRUE">Double</attrtype>
<attwidth Sync="TRUE">16</attwidth>
<atprecis Sync="TRUE">0</atprecis>
<attscale Sync="TRUE">0</attscale>
</attr>
<attr>
<attrlabl Sync="TRUE">URx</attrlabl>
<attalias Sync="TRUE">URx</attalias>
<attrtype Sync="TRUE">Double</attrtype>
<attwidth Sync="TRUE">16</attwidth>
<atprecis Sync="TRUE">0</atprecis>
<attscale Sync="TRUE">0</attscale>
</attr>
<attr>
<attrlabl Sync="TRUE">URy</attrlabl>
<attalias Sync="TRUE">URy</attalias>
<attrtype Sync="TRUE">Double</attrtype>
<attwidth Sync="TRUE">16</attwidth>
<atprecis Sync="TRUE">0</atprecis>
<attscale Sync="TRUE">0</attscale>
</attr>
<attr>
<attrlabl Sync="TRUE">LRx</attrlabl>
<attalias Sync="TRUE">LRx</attalias>
<attrtype Sync="TRUE">Double</attrtype>
<attwidth Sync="TRUE">16</attwidth>
<atprecis Sync="TRUE">0</atprecis>
<attscale Sync="TRUE">0</attscale>
</attr>
<attr>
<attrlabl Sync="TRUE">LRy</attrlabl>
<attalias Sync="TRUE">LRy</attalias>
<attrtype Sync="TRUE">Double</attrtype>
<attwidth Sync="TRUE">16</attwidth>
<atprecis Sync="TRUE">0</atprecis>
<attscale Sync="TRUE">0</attscale>
</attr>
<attr>
<attrlabl Sync="TRUE">LLx</attrlabl>
<attalias Sync="TRUE">LLx</attalias>
<attrtype Sync="TRUE">Double</attrtype>
<attwidth Sync="TRUE">16</attwidth>
<atprecis Sync="TRUE">0</atprecis>
<attscale Sync="TRUE">0</attscale>
</attr>
<attr>
<attrlabl Sync="TRUE">LLy</attrlabl>
<attalias Sync="TRUE">LLy</attalias>
<attrtype Sync="TRUE">Double</attrtype>
<attwidth Sync="TRUE">16</attwidth>
<atprecis Sync="TRUE">0</atprecis>
<attscale Sync="TRUE">0</attscale>
</attr>
<attr>
<attrlabl Sync="TRUE">Flags</attrlabl>
<attalias Sync="TRUE">Flags</attalias>
<attrtype Sync="TRUE">Integer</attrtype>
<attwidth Sync="TRUE">8</attwidth>
<atprecis Sync="TRUE">8</atprecis>
<attscale Sync="TRUE">0</attscale>
</attr>
<attr>
<attrlabl Sync="TRUE">CameraLat</attrlabl>
<attalias Sync="TRUE">CameraLat</attalias>
<attrtype Sync="TRUE">Double</attrtype>
<attwidth Sync="TRUE">16</attwidth>
<atprecis Sync="TRUE">0</atprecis>
<attscale Sync="TRUE">0</attscale>
</attr>
<attr>
<attrlabl Sync="TRUE">CameraLon</attrlabl>
<attalias Sync="TRUE">CameraLon</attalias>
<attrtype Sync="TRUE">Double</attrtype>
<attwidth Sync="TRUE">16</attwidth>
<atprecis Sync="TRUE">0</atprecis>
<attscale Sync="TRUE">0</attscale>
</attr>
<attr>
<attrlabl Sync="TRUE">Bearing</attrlabl>
<attalias Sync="TRUE">Bearing</attalias>
<attrtype Sync="TRUE">Double</attrtype>
<attwidth Sync="TRUE">16</attwidth>
<atprecis Sync="TRUE">0</atprecis>
<attscale Sync="TRUE">0</attscale>
</attr>
<attr>
<attrlabl Sync="TRUE">Roll</attrlabl>
<attalias Sync="TRUE">Roll</attalias>
<attrtype Sync="TRUE">Double</attrtype>
<attwidth Sync="TRUE">16</attwidth>
<atprecis Sync="TRUE">0</atprecis>
<attscale Sync="TRUE">0</attscale>
</attr>
<attr>
<attrlabl Sync="TRUE">Declin</attrlabl>
<attalias Sync="TRUE">Declin</attalias>
<attrtype Sync="TRUE">Double</attrtype>
<attwidth Sync="TRUE">16</attwidth>
<atprecis Sync="TRUE">0</atprecis>
<attscale Sync="TRUE">0</attscale>
</attr>
<attr>
<attrlabl Sync="TRUE">Alt</attrlabl>
<attalias Sync="TRUE">Alt</attalias>
<attrtype Sync="TRUE">Double</attrtype>
<attwidth Sync="TRUE">16</attwidth>
<atprecis Sync="TRUE">0</atprecis>
<attscale Sync="TRUE">0</attscale>
</attr>
<attr>
<attrlabl Sync="TRUE">Elevation</attrlabl>
<attalias Sync="TRUE">Elevation</attalias>
<attrtype Sync="TRUE">Double</attrtype>
<attwidth Sync="TRUE">16</attwidth>
<atprecis Sync="TRUE">0</atprecis>
<attscale Sync="TRUE">0</attscale>
</attr>
<attr>
<attrlabl Sync="TRUE">FPx</attrlabl>
<attalias Sync="TRUE">FPx</attalias>
<attrtype Sync="TRUE">Double</attrtype>
<attwidth Sync="TRUE">16</attwidth>
<atprecis Sync="TRUE">0</atprecis>
<attscale Sync="TRUE">0</attscale>
</attr>
<attr>
<attrlabl Sync="TRUE">FPy</attrlabl>
<attalias Sync="TRUE">FPy</attalias>
<attrtype Sync="TRUE">Double</attrtype>
<attwidth Sync="TRUE">16</attwidth>
<atprecis Sync="TRUE">0</atprecis>
<attscale Sync="TRUE">0</attscale>
</attr>
<attr>
<attrlabl Sync="TRUE">FocalLen</attrlabl>
<attalias Sync="TRUE">FocalLen</attalias>
<attrtype Sync="TRUE">Double</attrtype>
<attwidth Sync="TRUE">16</attwidth>
<atprecis Sync="TRUE">0</atprecis>
<attscale Sync="TRUE">0</attscale>
</attr>
<attr>
<attrlabl Sync="TRUE">K1</attrlabl>
<attalias Sync="TRUE">K1</attalias>
<attrtype Sync="TRUE">Double</attrtype>
<attwidth Sync="TRUE">16</attwidth>
<atprecis Sync="TRUE">0</atprecis>
<attscale Sync="TRUE">0</attscale>
</attr>
<attr>
<attrlabl Sync="TRUE">K2</attrlabl>
<attalias Sync="TRUE">K2</attalias>
<attrtype Sync="TRUE">Double</attrtype>
<attwidth Sync="TRUE">16</attwidth>
<atprecis Sync="TRUE">0</atprecis>
<attscale Sync="TRUE">0</attscale>
</attr>
<attr>
<attrlabl Sync="TRUE">K3</attrlabl>
<attalias Sync="TRUE">K3</attalias>
<attrtype Sync="TRUE">Double</attrtype>
<attwidth Sync="TRUE">16</attwidth>
<atprecis Sync="TRUE">0</atprecis>
<attscale Sync="TRUE">0</attscale>
</attr>
<attr>
<attrlabl Sync="TRUE">PPx</attrlabl>
<attalias Sync="TRUE">PPx</attalias>
<attrtype Sync="TRUE">Double</attrtype>
<attwidth Sync="TRUE">16</attwidth>
<atprecis Sync="TRUE">0</atprecis>
<attscale Sync="TRUE">0</attscale>
</attr>
<attr>
<attrlabl Sync="TRUE">PPy</attrlabl>
<attalias Sync="TRUE">PPy</attalias>
<attrtype Sync="TRUE">Double</attrtype>
<attwidth Sync="TRUE">16</attwidth>
<atprecis Sync="TRUE">0</atprecis>
<attscale Sync="TRUE">0</attscale>
</attr>
<attr>
<attrlabl Sync="TRUE">Camera</attrlabl>
<attalias Sync="TRUE">Camera</attalias>
<attrtype Sync="TRUE">String</attrtype>
<attwidth Sync="TRUE">16</attwidth>
<atprecis Sync="TRUE">0</atprecis>
<attscale Sync="TRUE">0</attscale>
</attr>
<attr>
<attrlabl Sync="TRUE">CameraX</attrlabl>
<attalias Sync="TRUE">CameraX</attalias>
<attrtype Sync="TRUE">Double</attrtype>
<attwidth Sync="TRUE">16</attwidth>
<atprecis Sync="TRUE">0</atprecis>
<attscale Sync="TRUE">0</attscale>
</attr>
<attr>
<attrlabl Sync="TRUE">CameraY</attrlabl>
<attalias Sync="TRUE">CameraY</attalias>
<attrtype Sync="TRUE">Double</attrtype>
<attwidth Sync="TRUE">16</attwidth>
<atprecis Sync="TRUE">0</atprecis>
<attscale Sync="TRUE">0</attscale>
</attr>
<attr>
<attrlabl Sync="TRUE">Omega</attrlabl>
<attalias Sync="TRUE">Omega</attalias>
<attrtype Sync="TRUE">Double</attrtype>
<attwidth Sync="TRUE">16</attwidth>
<atprecis Sync="TRUE">0</atprecis>
<attscale Sync="TRUE">0</attscale>
</attr>
<attr>
<attrlabl Sync="TRUE">Phi</attrlabl>
<attalias Sync="TRUE">Phi</attalias>
<attrtype Sync="TRUE">Double</attrtype>
<attwidth Sync="TRUE">16</attwidth>
<atprecis Sync="TRUE">0</atprecis>
<attscale Sync="TRUE">0</attscale>
</attr>
<attr>
<attrlabl Sync="TRUE">Kappa</attrlabl>
<attalias Sync="TRUE">Kappa</attalias>
<attrtype Sync="TRUE">Double</attrtype>
<attwidth Sync="TRUE">16</attwidth>
<atprecis Sync="TRUE">0</atprecis>
<attscale Sync="TRUE">0</attscale>
</attr>
<attr>
<attrlabl Sync="TRUE">BalancedFL</attrlabl>
<attalias Sync="TRUE">BalancedFL</attalias>
<attrtype Sync="TRUE">Double</attrtype>
<attwidth Sync="TRUE">16</attwidth>
<atprecis Sync="TRUE">0</atprecis>
<attscale Sync="TRUE">0</attscale>
</attr>
<attr>
<attrlabl Sync="TRUE">BalancedK0</attrlabl>
<attalias Sync="TRUE">BalancedK0</attalias>
<attrtype Sync="TRUE">Double</attrtype>
<attwidth Sync="TRUE">16</attwidth>
<atprecis Sync="TRUE">0</atprecis>
<attscale Sync="TRUE">0</attscale>
</attr>
<attr>
<attrlabl Sync="TRUE">BalancedK1</attrlabl>
<attalias Sync="TRUE">BalancedK1</attalias>
<attrtype Sync="TRUE">Double</attrtype>
<attwidth Sync="TRUE">16</attwidth>
<atprecis Sync="TRUE">0</atprecis>
<attscale Sync="TRUE">0</attscale>
</attr>
<attr>
<attrlabl Sync="TRUE">BalancedK2</attrlabl>
<attalias Sync="TRUE">BalancedK2</attalias>
<attrtype Sync="TRUE">Double</attrtype>
<attwidth Sync="TRUE">16</attwidth>
<atprecis Sync="TRUE">0</atprecis>
<attscale Sync="TRUE">0</attscale>
</attr>
<attr>
<attrlabl Sync="TRUE">BalancedK3</attrlabl>
<attalias Sync="TRUE">BalancedK3</attalias>
<attrtype Sync="TRUE">Double</attrtype>
<attwidth Sync="TRUE">16</attwidth>
<atprecis Sync="TRUE">0</atprecis>
<attscale Sync="TRUE">0</attscale>
</attr>
<attr>
<attrlabl Sync="TRUE">Project</attrlabl>
<attalias Sync="TRUE">Project</attalias>
<attrtype Sync="TRUE">String</attrtype>
<attwidth Sync="TRUE">36</attwidth>
<atprecis Sync="TRUE">0</atprecis>
<attscale Sync="TRUE">0</attscale>
</attr>
</detailed>
</eainfo>
<dataIdInfo>
<envirDesc Sync="TRUE"> Version 6.2 (Build 9200) ; Esri ArcGIS 10.7.1.11595</envirDesc>
<dataLang>
<languageCode Sync="TRUE" value="eng"/>
<countryCode Sync="TRUE" value="USA"/>
</dataLang>
<idCitation>
<resTitle Sync="TRUE">Ortho_SoCo_Pictometry_2008_WM</resTitle>
<presForm>
<PresFormCd Sync="TRUE" value="005"/>
</presForm>
<date>
<createDate>2008-11-06T00:00:00</createDate>
<pubDate>2009-01-16T00:00:00</pubDate>
</date>
</idCitation>
<spatRpType>
<SpatRepTypCd Sync="TRUE" value="002"/>
</spatRpType>
<dataExt>
<geoEle>
<GeoBndBox esriExtentType="search">
<exTypeCode Sync="TRUE">1</exTypeCode>
<westBL Sync="TRUE">-123.535308</westBL>
<eastBL Sync="TRUE">-122.347963</eastBL>
<northBL Sync="TRUE">38.861843</northBL>
<southBL Sync="TRUE">38.102654</southBL>
</GeoBndBox>
</geoEle>
</dataExt>
<idPurp>The dataset was created to serve as a 1:2400 scale map.</idPurp>
<idAbs>&lt;div style='text-align:Left;'&gt;&lt;div&gt;&lt;div&gt;&lt;p&gt;&lt;span&gt;The dataset consists of tiled orthogonal imagery produced from nadir images captured by Pictometry International during the period of November 6, 2008 thru January 16, 2009. Automatic aerial triangulation (AAT) was performed, culminating in a single block adjustment of 3718 source frames. The AAT process was supported by 21 ground control points surveyed by US Surveyors Inc. Portions of this image's triangulated frames were orthorectified to a LiDAR derived DEM created from the Spring 2009 LiDAR capture. Mosaicing was performed using an automatic seaming algorithm and supplemented by manual editing to correct seams through elevated features where possible. A global radiometric correction was applied to the source frames to minimize the appearance of radiometric seams.&lt;/span&gt;&lt;/p&gt;&lt;/div&gt;&lt;/div&gt;&lt;/div&gt;</idAbs>
<searchKeys>
<keyword>Digital Orthophotography</keyword>
</searchKeys>
<resConst>
<Consts>
<useLimit>&lt;div style='text-align:Left;'&gt;&lt;div&gt;&lt;div&gt;&lt;p&gt;&lt;span&gt;Use of this data is constrained by the license agreement between Pictometry International Corp and County of Sonoma, California.&lt;/span&gt;&lt;/p&gt;&lt;/div&gt;&lt;/div&gt;&lt;/div&gt;</useLimit>
</Consts>
</resConst>
<dataChar>
<CharSetCd value="004"/>
</dataChar>
<idCredit>County of Sonoma, Pictometry International Corp.</idCredit>
<resMaint>
<maintFreq>
<MaintFreqCd value="011"/>
</maintFreq>
</resMaint>
<tpCat>
<TopicCatCd value="010"/>
</tpCat>
</dataIdInfo>
<mdLang>
<languageCode Sync="TRUE" value="eng"/>
<countryCode Sync="TRUE" value="USA"/>
</mdLang>
<distInfo>
<distFormat>
<formatName Sync="TRUE">Raster Dataset</formatName>
</distFormat>
</distInfo>
<mdHrLv>
<ScopeCd Sync="TRUE" value="005"/>
</mdHrLv>
<mdHrLvName Sync="TRUE">dataset</mdHrLvName>
<refSysInfo>
<RefSystem>
<refSysID>
<identCode Sync="TRUE" code="3857"/>
<idCodeSpace Sync="TRUE">EPSG</idCodeSpace>
<idVersion Sync="TRUE">8.8(9.3.1.2)</idVersion>
</refSysID>
</RefSystem>
</refSysInfo>
<spatRepInfo>
<Georect>
<cellGeo>
<CellGeoCd Sync="TRUE" value="002"/>
</cellGeo>
<numDims Sync="TRUE">2</numDims>
<tranParaAv Sync="TRUE">1</tranParaAv>
<chkPtAv Sync="TRUE">0</chkPtAv>
<cornerPts>
<pos Sync="TRUE">-13751887.544695 4593937.577055</pos>
</cornerPts>
<cornerPts>
<pos Sync="TRUE">-13751887.544695 4701900.997907</pos>
</cornerPts>
<cornerPts>
<pos Sync="TRUE">-13619712.993724 4701900.997907</pos>
</cornerPts>
<cornerPts>
<pos Sync="TRUE">-13619712.993724 4593937.577055</pos>
</cornerPts>
<centerPt>
<pos Sync="TRUE">-13685800.269209 4647919.287481</pos>
</centerPt>
<axisDimension type="002">
<dimSize Sync="TRUE">442674</dimSize>
<dimResol>
<value Sync="TRUE" uom="m">0.298582</value>
</dimResol>
</axisDimension>
<axisDimension type="001">
<dimSize Sync="TRUE">361587</dimSize>
<dimResol>
<value Sync="TRUE" uom="m">0.298582</value>
</dimResol>
</axisDimension>
<ptInPixel>
<PixOrientCd Sync="TRUE" value="001"/>
</ptInPixel>
</Georect>
</spatRepInfo>
<contInfo>
<ImgDesc>
<contentTyp>
<ContentTypCd Sync="TRUE" value="001"/>
</contentTyp>
<covDim>
<Band>
<dimDescrp Sync="TRUE">Band_1</dimDescrp>
<bitsPerVal Sync="TRUE">32</bitsPerVal>
<valUnit>
<UOM gmlID="" type="length"/>
</valUnit>
</Band>
</covDim>
<trianInd>False</trianInd>
<radCalDatAv>False</radCalDatAv>
<camCalInAv>False</camCalInAv>
<filmDistInAv>False</filmDistInAv>
<lensDistInAv>False</lensDistInAv>
</ImgDesc>
</contInfo>
<mdDateSt Sync="TRUE">20210604</mdDateSt>
<mdChar>
<CharSetCd value="004"/>
</mdChar>
<mdMaint>
<maintFreq>
<MaintFreqCd value="011"/>
</maintFreq>
</mdMaint>
</metadata>
