{ "currentVersion": 11.3, "serviceDescription": "
The dataset consists of tiled orthogonal imagery produced from nadir images captured by Pictometry International during the period of November 6, 2008 thru January 16, 2009. Automatic aerial triangulation (AAT) was performed, culminating in a single block adjustment of 3718 source frames. The AAT process was supported by 21 ground control points surveyed by US Surveyors Inc. Portions of this image's triangulated frames were orthorectified to a LiDAR derived DEM created from the Spring 2009 LiDAR capture. Mosaicing was performed using an automatic seaming algorithm and supplemented by manual editing to correct seams through elevated features where possible. A global radiometric correction was applied to the source frames to minimize the appearance of radiometric seams.<\/span><\/p><\/div><\/div><\/div>",
"name": "Rasters/Ortho_SoCo_Pictometry_2008_WM",
"description": " The dataset consists of tiled orthogonal imagery produced from nadir images captured by Pictometry International during the period of November 6, 2008 thru January 16, 2009. Automatic aerial triangulation (AAT) was performed, culminating in a single block adjustment of 3718 source frames. The AAT process was supported by 21 ground control points surveyed by US Surveyors Inc. Portions of this image's triangulated frames were orthorectified to a LiDAR derived DEM created from the Spring 2009 LiDAR capture. Mosaicing was performed using an automatic seaming algorithm and supplemented by manual editing to correct seams through elevated features where possible. A global radiometric correction was applied to the source frames to minimize the appearance of radiometric seams.<\/span><\/p><\/div><\/div><\/div>",
"extent": {
"xmin": -1.3751887544695336E7,
"ymin": 4593937.577054789,
"xmax": -1.361971299372362E7,
"ymax": 4701900.997906726,
"spatialReference": {
"wkid": 102100,
"latestWkid": 3857
}
},
"initialExtent": {
"xmin": -1.3751887544695336E7,
"ymin": 4593937.577054789,
"xmax": -1.361971299372362E7,
"ymax": 4701900.997906726,
"spatialReference": {
"wkid": 102100,
"latestWkid": 3857
}
},
"fullExtent": {
"xmin": -1.3751887544695336E7,
"ymin": 4593937.577054789,
"xmax": -1.361971299372362E7,
"ymax": 4701900.997906726,
"spatialReference": {
"wkid": 102100,
"latestWkid": 3857
}
},
"sortableFields": "",
"bandCount": 3,
"pixelType": "U8",
"minValues": [],
"maxValues": [],
"meanValues": [],
"stdvValues": [],
"hasMultidimensions": false,
"pixelSizeX": 0.2985821416476157,
"pixelSizeY": 0.2985821416476161,
"meanPixelSize": 0.2985821416476159,
"datasetFormat": "AFR",
"uncompressedSize": 480195490914,
"blockWidth": 256,
"blockHeight": 256,
"compressionType": "None",
"bandNames": [
"Band_1",
"Band_2",
"Band_3"
],
"allowCopy": true,
"allowAnalysis": true,
"itemAccess": false,
"inspectionCapabilities": "",
"minPixelSize": 0,
"maxPixelSize": 0,
"copyrightText": "County of Sonoma, Pictometry International Corp.",
"serviceDataType": "esriImageServiceDataTypeRGB",
"serviceSourceType": "esriImageServiceSourceTypeDataset",
"objectIdField": "",
"fields": [],
"capabilities": "Mensuration,Image,Metadata",
"defaultMosaicMethod": "Center",
"allowedMosaicMethods": "",
"sortField": "",
"sortValue": null,
"sortAscending": true,
"mosaicOperator": "First",
"defaultCompressionQuality": 75,
"defaultResamplingMethod": "Bilinear",
"maxImageHeight": 4100,
"maxImageWidth": 15000,
"allowRasterFunction": true,
"rasterFunctionInfos": [
{
"name": "None",
"description": "",
"help": ""
}
],
"rasterTypeInfos": [
{
"name": "Raster Dataset",
"description": "Supports all ArcGIS Raster Datasets",
"help": ""
}
],
"mensurationCapabilities": "Basic",
"hasHistograms": false,
"hasColormap": false,
"hasRasterAttributeTable": false,
"minScale": 0,
"maxScale": 0,
"exportTilesAllowed": false,
"supportsStatistics": false,
"supportsAdvancedQueries": false,
"editFieldsInfo": null,
"ownershipBasedAccessControlForRasters": null,
"allowComputeTiePoints": false,
"useStandardizedQueries": true,
"advancedQueryCapabilities": {
"useStandardizedQueries": true,
"supportsStatistics": false,
"supportsOrderBy": false,
"supportsDistinct": false,
"supportsPagination": false
},
"spatialReference": {
"wkid": 102100,
"latestWkid": 3857
}
}