{ "currentVersion": 11.3, "serviceDescription": "
These data are LiDAR orthorectified aerial photographs (8-bit GeoTIFF format) within the Sonoma County Vegetation Mapping and LiDAR Program's project area. Imagery was collected in fall, 2013. The imagery coverage corresponds to the Sonoma County 2013 LiDAR survey data extent and encompasses approximately 1,047,999 acres. A GSD (Ground Sample Distance) resolution of 6 inches was used for each four-band color pixel. WSI recommends viewing the orthoimagery in ESRI ArcMap software using a raster catalog. For best results, stretch type should be set to 'None' and Gamma Stretch should not be applied (Layer Properties -> Symbology Tab). The specified coordinate system for this dataset is California State Plane Zone II (FIPS 0402), NAD83 (2011), with units in US Survey Feet.<\/span><\/p><\/div><\/div><\/div>",
"name": "Rasters/Ortho_SoCo_SonomaVeg_2013",
"description": " These data are LiDAR orthorectified aerial photographs (8-bit GeoTIFF format) within the Sonoma County Vegetation Mapping and LiDAR Program's project area. Imagery was collected in fall, 2013. The imagery coverage corresponds to the Sonoma County 2013 LiDAR survey data extent and encompasses approximately 1,047,999 acres. A GSD (Ground Sample Distance) resolution of 6 inches was used for each four-band color pixel. WSI recommends viewing the orthoimagery in ESRI ArcMap software using a raster catalog. For best results, stretch type should be set to 'None' and Gamma Stretch should not be applied (Layer Properties -> Symbology Tab). The specified coordinate system for this dataset is California State Plane Zone II (FIPS 0402), NAD83 (2011), with units in US Survey Feet.<\/span><\/p><\/div><\/div><\/div>",
"extent": {
"xmin": 6123217,
"ymin": 1801402,
"xmax": 6463417,
"ymax": 2217202,
"spatialReference": {
"wkt2": "PROJCRS[\"NAD_1983_StatePlane_California_II_FIPS_0402_Feet_2011\",BASEGEOGCRS[\"GCS_NAD_1983_2011\",DATUM[\"D_NAD_1983_2011\",ELLIPSOID[\"GRS_1980\",6378137.0,298.257222101,LENGTHUNIT[\"Meter\",1.0]]],PRIMEM[\"Greenwich\",0.0,ANGLEUNIT[\"Degree\",0.0174532925199433]],CS[ellipsoidal,2],ANGLEUNIT[\"Degree\",0.0174532925199433]],CONVERSION[\"Lambert_Conformal_Conic\",METHOD[\"Lambert_Conformal_Conic\"],PARAMETER[\"false_easting\",6561666.666666666,LENGTHUNIT[\"Foot_US\",0.3048006096012192]],PARAMETER[\"false_northing\",1640416.666666667,LENGTHUNIT[\"Foot_US\",0.3048006096012192]],PARAMETER[\"central_meridian\",-122.0,ANGLEUNIT[\"Degree\",0.0174532925199433]],PARAMETER[\"standard_parallel_1\",38.33333333333334,ANGLEUNIT[\"Degree\",0.0174532925199433]],PARAMETER[\"standard_parallel_2\",39.83333333333334,ANGLEUNIT[\"Degree\",0.0174532925199433]],PARAMETER[\"latitude_of_origin\",37.66666666666666,ANGLEUNIT[\"Degree\",0.0174532925199433]]],CS[Cartesian,2],AXIS[\"Easting (X)\",east,ORDER[1]],AXIS[\"Northing (Y)\",north,ORDER[2]],LENGTHUNIT[\"Foot_US\",0.3048006096012192]]",
"wkt": "PROJCS[\"NAD_1983_StatePlane_California_II_FIPS_0402_Feet_2011\",GEOGCS[\"GCS_NAD_1983_2011\",DATUM[\"D_NAD_1983_2011\",SPHEROID[\"GRS_1980\",6378137.0,298.257222101]],PRIMEM[\"Greenwich\",0.0],UNIT[\"Degree\",0.0174532925199433]],PROJECTION[\"Lambert_Conformal_Conic\"],PARAMETER[\"false_easting\",6561666.666666666],PARAMETER[\"false_northing\",1640416.666666667],PARAMETER[\"central_meridian\",-122.0],PARAMETER[\"standard_parallel_1\",38.33333333333334],PARAMETER[\"standard_parallel_2\",39.83333333333334],PARAMETER[\"latitude_of_origin\",37.66666666666666],UNIT[\"Foot_US\",0.3048006096012192]]"
}
},
"initialExtent": {
"xmin": 6123217,
"ymin": 1801402,
"xmax": 6463417,
"ymax": 2217202,
"spatialReference": {
"wkt2": "PROJCRS[\"NAD_1983_StatePlane_California_II_FIPS_0402_Feet_2011\",BASEGEOGCRS[\"GCS_NAD_1983_2011\",DATUM[\"D_NAD_1983_2011\",ELLIPSOID[\"GRS_1980\",6378137.0,298.257222101,LENGTHUNIT[\"Meter\",1.0]]],PRIMEM[\"Greenwich\",0.0,ANGLEUNIT[\"Degree\",0.0174532925199433]],CS[ellipsoidal,2],ANGLEUNIT[\"Degree\",0.0174532925199433]],CONVERSION[\"Lambert_Conformal_Conic\",METHOD[\"Lambert_Conformal_Conic\"],PARAMETER[\"false_easting\",6561666.666666666,LENGTHUNIT[\"Foot_US\",0.3048006096012192]],PARAMETER[\"false_northing\",1640416.666666667,LENGTHUNIT[\"Foot_US\",0.3048006096012192]],PARAMETER[\"central_meridian\",-122.0,ANGLEUNIT[\"Degree\",0.0174532925199433]],PARAMETER[\"standard_parallel_1\",38.33333333333334,ANGLEUNIT[\"Degree\",0.0174532925199433]],PARAMETER[\"standard_parallel_2\",39.83333333333334,ANGLEUNIT[\"Degree\",0.0174532925199433]],PARAMETER[\"latitude_of_origin\",37.66666666666666,ANGLEUNIT[\"Degree\",0.0174532925199433]]],CS[Cartesian,2],AXIS[\"Easting (X)\",east,ORDER[1]],AXIS[\"Northing (Y)\",north,ORDER[2]],LENGTHUNIT[\"Foot_US\",0.3048006096012192]]",
"wkt": "PROJCS[\"NAD_1983_StatePlane_California_II_FIPS_0402_Feet_2011\",GEOGCS[\"GCS_NAD_1983_2011\",DATUM[\"D_NAD_1983_2011\",SPHEROID[\"GRS_1980\",6378137.0,298.257222101]],PRIMEM[\"Greenwich\",0.0],UNIT[\"Degree\",0.0174532925199433]],PROJECTION[\"Lambert_Conformal_Conic\"],PARAMETER[\"false_easting\",6561666.666666666],PARAMETER[\"false_northing\",1640416.666666667],PARAMETER[\"central_meridian\",-122.0],PARAMETER[\"standard_parallel_1\",38.33333333333334],PARAMETER[\"standard_parallel_2\",39.83333333333334],PARAMETER[\"latitude_of_origin\",37.66666666666666],UNIT[\"Foot_US\",0.3048006096012192]]"
}
},
"fullExtent": {
"xmin": 6123217,
"ymin": 1801402,
"xmax": 6463417,
"ymax": 2217202,
"spatialReference": {
"wkt2": "PROJCRS[\"NAD_1983_StatePlane_California_II_FIPS_0402_Feet_2011\",BASEGEOGCRS[\"GCS_NAD_1983_2011\",DATUM[\"D_NAD_1983_2011\",ELLIPSOID[\"GRS_1980\",6378137.0,298.257222101,LENGTHUNIT[\"Meter\",1.0]]],PRIMEM[\"Greenwich\",0.0,ANGLEUNIT[\"Degree\",0.0174532925199433]],CS[ellipsoidal,2],ANGLEUNIT[\"Degree\",0.0174532925199433]],CONVERSION[\"Lambert_Conformal_Conic\",METHOD[\"Lambert_Conformal_Conic\"],PARAMETER[\"false_easting\",6561666.666666666,LENGTHUNIT[\"Foot_US\",0.3048006096012192]],PARAMETER[\"false_northing\",1640416.666666667,LENGTHUNIT[\"Foot_US\",0.3048006096012192]],PARAMETER[\"central_meridian\",-122.0,ANGLEUNIT[\"Degree\",0.0174532925199433]],PARAMETER[\"standard_parallel_1\",38.33333333333334,ANGLEUNIT[\"Degree\",0.0174532925199433]],PARAMETER[\"standard_parallel_2\",39.83333333333334,ANGLEUNIT[\"Degree\",0.0174532925199433]],PARAMETER[\"latitude_of_origin\",37.66666666666666,ANGLEUNIT[\"Degree\",0.0174532925199433]]],CS[Cartesian,2],AXIS[\"Easting (X)\",east,ORDER[1]],AXIS[\"Northing (Y)\",north,ORDER[2]],LENGTHUNIT[\"Foot_US\",0.3048006096012192]]",
"wkt": "PROJCS[\"NAD_1983_StatePlane_California_II_FIPS_0402_Feet_2011\",GEOGCS[\"GCS_NAD_1983_2011\",DATUM[\"D_NAD_1983_2011\",SPHEROID[\"GRS_1980\",6378137.0,298.257222101]],PRIMEM[\"Greenwich\",0.0],UNIT[\"Degree\",0.0174532925199433]],PROJECTION[\"Lambert_Conformal_Conic\"],PARAMETER[\"false_easting\",6561666.666666666],PARAMETER[\"false_northing\",1640416.666666667],PARAMETER[\"central_meridian\",-122.0],PARAMETER[\"standard_parallel_1\",38.33333333333334],PARAMETER[\"standard_parallel_2\",39.83333333333334],PARAMETER[\"latitude_of_origin\",37.66666666666666],UNIT[\"Foot_US\",0.3048006096012192]]"
}
},
"sortableFields": "MinPS,MaxPS,LowPS,HighPS,CenterX,CenterY,ZOrder,Shape_Length,Shape_Area",
"bandCount": 4,
"pixelType": "U8",
"minValues": [
2,
4,
2,
0
],
"maxValues": [
255,
255,
255,
255
],
"meanValues": [
82.26840621784613,
81.11153472835544,
62.95513543606829,
114.84564106599976
],
"stdvValues": [
49.096947151004635,
44.6249458861804,
43.379008349549316,
38.956868732513435
],
"hasMultidimensions": false,
"pixelSizeX": 0.5,
"pixelSizeY": 0.5,
"meanPixelSize": 0.15240030480060962,
"datasetFormat": "AMD",
"uncompressedSize": 2263282560000,
"blockWidth": 2048,
"blockHeight": 256,
"compressionType": "None",
"bandNames": [
"Red",
"Green",
"Blue",
"Infrared"
],
"allowCopy": true,
"allowAnalysis": true,
"itemAccess": false,
"inspectionCapabilities": "",
"minPixelSize": 0,
"maxPixelSize": 0,
"copyrightText": "Sonoma County Vegetation Mapping and LiDAR Consortium, NASA, University of Maryland, Watershed Sciences, Inc., Tukman Geospatial LLC",
"serviceDataType": "esriImageServiceDataTypeGeneric",
"serviceSourceType": "esriImageServiceSourceTypeMosaicDataset",
"objectIdField": "OBJECTID",
"fields": [
{
"name": "OBJECTID",
"type": "esriFieldTypeOID",
"alias": "OBJECTID",
"domain": null
},
{
"name": "Shape",
"type": "esriFieldTypeGeometry",
"alias": "Shape",
"domain": null
},
{
"name": "Name",
"type": "esriFieldTypeString",
"alias": "Name",
"domain": null,
"length": 200
},
{
"name": "MinPS",
"type": "esriFieldTypeDouble",
"alias": "MinPS",
"domain": null
},
{
"name": "MaxPS",
"type": "esriFieldTypeDouble",
"alias": "MaxPS",
"domain": null
},
{
"name": "LowPS",
"type": "esriFieldTypeDouble",
"alias": "LowPS",
"domain": null
},
{
"name": "HighPS",
"type": "esriFieldTypeDouble",
"alias": "HighPS",
"domain": null
},
{
"name": "Category",
"type": "esriFieldTypeInteger",
"alias": "Category",
"domain": {
"type": "codedValue",
"name": "MosaicCatalogItemCategoryDomain",
"description": "Catalog item categories.",
"codedValues": [
{
"name": "Unknown",
"code": 0
},
{
"name": "Primary",
"code": 1
},
{
"name": "Overview",
"code": 2
},
{
"name": "Unprocessed Overview",
"code": 3
},
{
"name": "Partial Overview",
"code": 4
},
{
"name": "Inactive",
"code": 5
},
{
"name": "Uploaded",
"code": 253
},
{
"name": "Incomplete",
"code": 254
},
{
"name": "Custom",
"code": 255
}
],
"mergePolicy": "esriMPTDefaultValue",
"splitPolicy": "esriSPTDefaultValue"
}
},
{
"name": "Tag",
"type": "esriFieldTypeString",
"alias": "Tag",
"domain": null,
"length": 100
},
{
"name": "GroupName",
"type": "esriFieldTypeString",
"alias": "GroupName",
"domain": null,
"length": 100
},
{
"name": "ProductName",
"type": "esriFieldTypeString",
"alias": "ProductName",
"domain": null,
"length": 100
},
{
"name": "CenterX",
"type": "esriFieldTypeDouble",
"alias": "CenterX",
"domain": null
},
{
"name": "CenterY",
"type": "esriFieldTypeDouble",
"alias": "CenterY",
"domain": null
},
{
"name": "ZOrder",
"type": "esriFieldTypeInteger",
"alias": "ZOrder",
"domain": null
},
{
"name": "Shape_Length",
"type": "esriFieldTypeDouble",
"alias": "Shape_Length",
"domain": null
},
{
"name": "Shape_Area",
"type": "esriFieldTypeDouble",
"alias": "Shape_Area",
"domain": null
}
],
"capabilities": "Catalog,Image,Metadata",
"defaultMosaicMethod": "Northwest",
"allowedMosaicMethods": "NorthWest,Center,LockRaster,ByAttribute,Nadir,Viewpoint,Seamline,None",
"sortField": "",
"sortValue": null,
"sortAscending": true,
"mosaicOperator": "First",
"maxDownloadSizeLimit": 2048,
"defaultCompressionQuality": 75,
"defaultResamplingMethod": "Bilinear",
"maxImageHeight": 4100,
"maxImageWidth": 15000,
"maxRecordCount": 1000,
"maxDownloadImageCount": 20,
"maxMosaicImageCount": 20,
"allowRasterFunction": true,
"rasterFunctionInfos": [
{
"name": "None",
"description": "",
"help": ""
}
],
"rasterTypeInfos": [
{
"name": "Raster Dataset",
"description": "Supports all ArcGIS Raster Datasets",
"help": ""
}
],
"mensurationCapabilities": "None",
"hasHistograms": true,
"hasColormap": false,
"hasRasterAttributeTable": false,
"minScale": 0,
"maxScale": 0,
"exportTilesAllowed": false,
"supportsStatistics": true,
"supportsAdvancedQueries": true,
"editFieldsInfo": null,
"ownershipBasedAccessControlForRasters": null,
"allowComputeTiePoints": false,
"useStandardizedQueries": true,
"advancedQueryCapabilities": {
"useStandardizedQueries": true,
"supportsStatistics": true,
"supportsOrderBy": true,
"supportsDistinct": true,
"supportsPagination": true
},
"spatialReference": {
"wkt2": "PROJCRS[\"NAD_1983_StatePlane_California_II_FIPS_0402_Feet_2011\",BASEGEOGCRS[\"GCS_NAD_1983_2011\",DATUM[\"D_NAD_1983_2011\",ELLIPSOID[\"GRS_1980\",6378137.0,298.257222101,LENGTHUNIT[\"Meter\",1.0]]],PRIMEM[\"Greenwich\",0.0,ANGLEUNIT[\"Degree\",0.0174532925199433]],CS[ellipsoidal,2],ANGLEUNIT[\"Degree\",0.0174532925199433]],CONVERSION[\"Lambert_Conformal_Conic\",METHOD[\"Lambert_Conformal_Conic\"],PARAMETER[\"false_easting\",6561666.666666666,LENGTHUNIT[\"Foot_US\",0.3048006096012192]],PARAMETER[\"false_northing\",1640416.666666667,LENGTHUNIT[\"Foot_US\",0.3048006096012192]],PARAMETER[\"central_meridian\",-122.0,ANGLEUNIT[\"Degree\",0.0174532925199433]],PARAMETER[\"standard_parallel_1\",38.33333333333334,ANGLEUNIT[\"Degree\",0.0174532925199433]],PARAMETER[\"standard_parallel_2\",39.83333333333334,ANGLEUNIT[\"Degree\",0.0174532925199433]],PARAMETER[\"latitude_of_origin\",37.66666666666666,ANGLEUNIT[\"Degree\",0.0174532925199433]]],CS[Cartesian,2],AXIS[\"Easting (X)\",east,ORDER[1]],AXIS[\"Northing (Y)\",north,ORDER[2]],LENGTHUNIT[\"Foot_US\",0.3048006096012192]]",
"wkt": "PROJCS[\"NAD_1983_StatePlane_California_II_FIPS_0402_Feet_2011\",GEOGCS[\"GCS_NAD_1983_2011\",DATUM[\"D_NAD_1983_2011\",SPHEROID[\"GRS_1980\",6378137.0,298.257222101]],PRIMEM[\"Greenwich\",0.0],UNIT[\"Degree\",0.0174532925199433]],PROJECTION[\"Lambert_Conformal_Conic\"],PARAMETER[\"false_easting\",6561666.666666666],PARAMETER[\"false_northing\",1640416.666666667],PARAMETER[\"central_meridian\",-122.0],PARAMETER[\"standard_parallel_1\",38.33333333333334],PARAMETER[\"standard_parallel_2\",39.83333333333334],PARAMETER[\"latitude_of_origin\",37.66666666666666],UNIT[\"Foot_US\",0.3048006096012192]]"
}
}