<?xml version="1.0" encoding="UTF-8" standalone="no"?>
<metadata xml:lang="en">
<Esri>
<CreaDate>20201215</CreaDate>
<CreaTime>11550000</CreaTime>
<ArcGISFormat>1.0</ArcGISFormat>
<ArcGISstyle>FGDC CSDGM MetadataVerify - ISD GIS</ArcGISstyle>
<SyncOnce>FALSE</SyncOnce>
<DataProperties>
<itemProps>
<itemName Sync="TRUE">SoCo_USGS_10M_DEM_1990</itemName>
<itemLocation>
<protocol Sync="TRUE">Local Area Network</protocol>
</itemLocation>
<imsContentType Sync="TRUE" export="False">002</imsContentType>
<nativeExtBox>
<westBL Sync="TRUE">-13763300.879582</westBL>
<eastBL Sync="TRUE">-13612030.806323</eastBL>
<southBL Sync="TRUE">4573972.070892</southBL>
<northBL Sync="TRUE">4713330.209610</northBL>
<exTypeCode Sync="TRUE">1</exTypeCode>
</nativeExtBox>
</itemProps>
<coordRef>
<type Sync="TRUE">Projected</type>
<geogcsn Sync="TRUE">GCS_WGS_1984</geogcsn>
<csUnits Sync="TRUE">Linear Unit: Meter (1.000000)</csUnits>
<projcsn Sync="TRUE">WGS_1984_Web_Mercator_Auxiliary_Sphere</projcsn>
<peXml Sync="TRUE">&lt;ProjectedCoordinateSystem xsi:type='typens:ProjectedCoordinateSystem' xmlns:xsi='http://www.w3.org/2001/XMLSchema-instance' xmlns:xs='http://www.w3.org/2001/XMLSchema' xmlns:typens='http://www.esri.com/schemas/ArcGIS/10.8'&gt;&lt;WKT&gt;PROJCS[&amp;quot;WGS_1984_Web_Mercator_Auxiliary_Sphere&amp;quot;,GEOGCS[&amp;quot;GCS_WGS_1984&amp;quot;,DATUM[&amp;quot;D_WGS_1984&amp;quot;,SPHEROID[&amp;quot;WGS_1984&amp;quot;,6378137.0,298.257223563]],PRIMEM[&amp;quot;Greenwich&amp;quot;,0.0],UNIT[&amp;quot;Degree&amp;quot;,0.0174532925199433]],PROJECTION[&amp;quot;Mercator_Auxiliary_Sphere&amp;quot;],PARAMETER[&amp;quot;False_Easting&amp;quot;,0.0],PARAMETER[&amp;quot;False_Northing&amp;quot;,0.0],PARAMETER[&amp;quot;Central_Meridian&amp;quot;,0.0],PARAMETER[&amp;quot;Standard_Parallel_1&amp;quot;,0.0],PARAMETER[&amp;quot;Auxiliary_Sphere_Type&amp;quot;,0.0],UNIT[&amp;quot;Meter&amp;quot;,1.0],AUTHORITY[&amp;quot;EPSG&amp;quot;,3857]]&lt;/WKT&gt;&lt;XOrigin&gt;-20037700&lt;/XOrigin&gt;&lt;YOrigin&gt;-30241100&lt;/YOrigin&gt;&lt;XYScale&gt;148923141.92838538&lt;/XYScale&gt;&lt;ZOrigin&gt;-100000&lt;/ZOrigin&gt;&lt;ZScale&gt;10000&lt;/ZScale&gt;&lt;MOrigin&gt;-100000&lt;/MOrigin&gt;&lt;MScale&gt;10000&lt;/MScale&gt;&lt;XYTolerance&gt;0.001&lt;/XYTolerance&gt;&lt;ZTolerance&gt;0.001&lt;/ZTolerance&gt;&lt;MTolerance&gt;0.001&lt;/MTolerance&gt;&lt;HighPrecision&gt;true&lt;/HighPrecision&gt;&lt;WKID&gt;102100&lt;/WKID&gt;&lt;LatestWKID&gt;3857&lt;/LatestWKID&gt;&lt;/ProjectedCoordinateSystem&gt;</peXml>
</coordRef>
<RasterProperties>
<General>
<PixelDepth Sync="TRUE">32</PixelDepth>
<HasColormap Sync="TRUE">FALSE</HasColormap>
<CompressionType Sync="TRUE">Mixed</CompressionType>
<NumBands Sync="TRUE">1</NumBands>
<Format Sync="TRUE">Cache/Mixed</Format>
<HasPyramids Sync="TRUE">TRUE</HasPyramids>
<SourceType Sync="TRUE">continuous</SourceType>
<PixelType Sync="TRUE">unsigned integer</PixelType>
<NoDataValue Sync="TRUE"/>
</General>
</RasterProperties>
</DataProperties>
<SyncDate>20230413</SyncDate>
<SyncTime>07461900</SyncTime>
<ModDate>20230413</ModDate>
<ModTime>07461900</ModTime>
<scaleRange>
<minScale>500000</minScale>
<maxScale>5000</maxScale>
</scaleRange>
<ArcGISProfile>FGDC</ArcGISProfile>
</Esri>
<dataIdInfo>
<envirDesc Sync="TRUE"> Version 6.2 (Build 9200) ; Esri ArcGIS 10.9.1.28388</envirDesc>
<dataLang>
<languageCode Sync="TRUE" value="eng"/>
<countryCode Sync="TRUE" value="USA"/>
</dataLang>
<idCitation>
<resTitle Sync="FALSE">SoCo_USGS_10M_DEM_1990</resTitle>
<presForm>
<PresFormCd Sync="TRUE" value="005"/>
</presForm>
<date>
<pubDate>2004-04-07T00:00:00</pubDate>
</date>
<citRespParty>
<rpIndName>National Cartography &amp; Geospatial Center</rpIndName>
<rpOrgName>Geospatial elevation data are utilized by the scientific and resource management communities for global change research, hydrologic modeling, soils mapping, resource monitoring, mapping, and visualization applications. </rpOrgName>
<rpPosName>Customer Services Representative</rpPosName>
<role>
<RoleCd value="005"/>
</role>
<rpCntInfo>
<cntAddress addressType="both">
<delPoint>501 Felix St, Bldg 23</delPoint>
<city>Fort Worth</city>
<adminArea>TX</adminArea>
<postCode>76115</postCode>
<country>US</country>
</cntAddress>
<cntPhone>
<voiceNum tddtty="">817-509-3400</voiceNum>
<faxNum>817-509-3469</faxNum>
</cntPhone>
</rpCntInfo>
</citRespParty>
<citRespParty>
<rpIndName>USGS EROS</rpIndName>
<rpOrgName>U.S Geological Survey (USGS), EROS Data Center</rpOrgName>
<role>
<RoleCd value="006"/>
</role>
<rpCntInfo>
<cntAddress addressType="physical">
<delPoint>47914 252nd St</delPoint>
<city>Sioux Falls</city>
<adminArea>SD</adminArea>
<postCode>57198</postCode>
</cntAddress>
<cntPhone>
<voiceNum tddtty="">(605)594-6511</voiceNum>
</cntPhone>
<cntHours>M-F 8am to 4pm</cntHours>
</rpCntInfo>
</citRespParty>
</idCitation>
<spatRpType>
<SpatRepTypCd Sync="TRUE" value="002"/>
</spatRpType>
<dataExt>
<geoEle>
<GeoBndBox esriExtentType="search">
<exTypeCode Sync="TRUE">1</exTypeCode>
<westBL Sync="TRUE">-123.637835</westBL>
<eastBL Sync="TRUE">-122.278953</eastBL>
<northBL Sync="TRUE">38.941743</northBL>
<southBL Sync="TRUE">37.961384</southBL>
</GeoBndBox>
</geoEle>
<exDesc>Area centered on Sonoma County</exDesc>
<tempEle>
<TempExtent>
<exTemp>
<TM_Instant>
<tmPosition>2000-01-03T00:00:00</tmPosition>
</TM_Instant>
</exTemp>
</TempExtent>
</tempEle>
</dataExt>
<idAbs>&lt;div style='text-align:Left;'&gt;&lt;div&gt;&lt;div&gt;&lt;p&gt;&lt;span style='font-size:10pt'&gt;The U.S. Geological Survey has developed a National Elevation Database (NED).The NED is a seamless mosaic of best-available elevation data. The 7.5-minute elevation data for the conterminous United States are the primary initial source data. In addition to the availability of complete 7.5-minute data, efficient processing methods were developed to filter production artifacts in the existing data, convert to a consistent datum, edge-match, fill slivers of missing data at quadrangle seams, recast the data to a consistent geographic projection and convert all elevation values to decimal meters as a consistent unit of measure. &lt;/span&gt;&lt;span /&gt;&lt;span /&gt;&lt;span /&gt;&lt;/p&gt;&lt;p&gt;&lt;span style='font-size:10pt'&gt;NED has a resolution of one-third arc-second (approximately 10 meters) for much of the conterminous United States, Hawaii and Puerto Rico in a NAD83 datum. There is a resolution of two arc-seconds for Alaska and the datum is NAD27. &lt;/span&gt;&lt;span /&gt;&lt;span /&gt;&lt;span /&gt;&lt;/p&gt;&lt;p&gt;&lt;span style='font-size:10pt'&gt;NED at 10 meters is created using the same methods outlined above with the source data being mostly the 10m DEMs. DEMs at 5 meters, 1/3 arc-second, and 1/9 arc-second maps are also used where available. In some cases, the 10m NED is resampled from LIDAR or created using aerial photography. &lt;/span&gt;&lt;span /&gt;&lt;span /&gt;&lt;span /&gt;&lt;/p&gt;&lt;p&gt;&lt;span style='font-size:10pt'&gt;One of the effects of the NED processing steps is a much-improved base of elevation data for calculating slope and hydrologic derivatives. Artifact removal greatly improves the quality of the slope, shaded-relief, and synthetic drainage information that can be derived from the elevation data. Geospatial elevation data are used by the scientific and resource management communities for global change research, hydrologic modeling, resource monitoring, mapping, and visualization applications. &lt;/span&gt;&lt;span /&gt;&lt;span /&gt;&lt;span /&gt;&lt;/p&gt;&lt;p&gt;&lt;span style='font-size:10pt'&gt;NRCS has elected to &lt;/span&gt;&lt;span style='font-style:italic;font-size:10pt'&gt;ONLY&lt;/span&gt;&lt;span style='font-size:10pt'&gt;serve NED 10 which is 10 meter or better and not NED 10 which was resampled from 30 meter. NRCS also serves the maps in a UTM projection. These two facts differentiate the maps from those served at &lt;/span&gt;&lt;a href='http://seamless.usgs.gov/'&gt;&lt;span style='font-size:10pt'&gt;http://seamless.usgs.gov/&lt;/span&gt;&lt;/a&gt;&lt;span style='font-size:10pt'&gt;. &lt;/span&gt;&lt;/p&gt;&lt;/div&gt;&lt;/div&gt;&lt;/div&gt;</idAbs>
<idPurp>Geospatial elevation data are utilized by the scientific and resource management communities for global change research, hydrologic modeling, soils mapping, resource monitoring, mapping, and visualization applications.</idPurp>
<idCredit>U.S. Department of Agriculture (USDA) Natural Resources Conservation Services, National Cartography &amp; Geospatial Center</idCredit>
<searchKeys>
<keyword>Earth Science</keyword>
<keyword>Land Surface</keyword>
<keyword>Topography</keyword>
<keyword>Landforms</keyword>
<keyword>Terrain Elevation</keyword>
<keyword>DEM</keyword>
<keyword>Digital Elevation Model</keyword>
<keyword>USGS</keyword>
<keyword>NRCS</keyword>
<keyword>NCGC.</keyword>
</searchKeys>
<dataChar>
<CharSetCd value="004"/>
</dataChar>
<idStatus>
<ProgCd value="004"/>
</idStatus>
<idPoC>
<rpIndName>National Cartography &amp; Geospatial Center</rpIndName>
<rpOrgName>Geospatial elevation data are utilized by the scientific and resource management communities for global change research, hydrologic modeling, soils mapping, resource monitoring, mapping, and visualization applications. </rpOrgName>
<rpPosName>Customer Services Representative</rpPosName>
<role>
<RoleCd value="005"/>
</role>
<rpCntInfo>
<cntAddress addressType="both">
<delPoint>501 Felix St, Bldg 23</delPoint>
<city>Fort Worth</city>
<adminArea>TX</adminArea>
<postCode>76115</postCode>
<country>US</country>
</cntAddress>
<cntPhone>
<voiceNum tddtty="">817-509-3400</voiceNum>
<faxNum>817-509-3469</faxNum>
</cntPhone>
</rpCntInfo>
<displayName>National Cartography &amp; Geospatial Center</displayName>
</idPoC>
<resMaint>
<maintFreq>
<MaintFreqCd value="009"/>
</maintFreq>
</resMaint>
<suppInfo>Horizontal units are in Feet, Vertical Units are in meters.</suppInfo>
<tpCat>
<TopicCatCd value="006"/>
</tpCat>
<tpCat>
<TopicCatCd value="007"/>
</tpCat>
<resConst>
<Consts>
<useLimit/>
</Consts>
</resConst>
</dataIdInfo>
<mdLang>
<languageCode Sync="TRUE" value="eng"/>
<countryCode Sync="TRUE" value="USA"/>
</mdLang>
<mdChar>
<CharSetCd Sync="TRUE" value="004"/>
</mdChar>
<distInfo>
<distFormat>
<formatName Sync="TRUE">Raster Dataset</formatName>
</distFormat>
</distInfo>
<mdHrLv>
<ScopeCd Sync="TRUE" value="005"/>
</mdHrLv>
<mdHrLvName Sync="TRUE">dataset</mdHrLvName>
<refSysInfo>
<RefSystem>
<refSysID>
<identCode Sync="TRUE" code="3857"/>
<idCodeSpace Sync="TRUE">EPSG</idCodeSpace>
<idVersion Sync="TRUE">6.18.3(9.3.1.2)</idVersion>
</refSysID>
</RefSystem>
</refSysInfo>
<spatRepInfo>
<Georect>
<cellGeo>
<CellGeoCd Sync="TRUE" value="002"/>
</cellGeo>
<numDims Sync="TRUE">2</numDims>
<tranParaAv Sync="TRUE">1</tranParaAv>
<chkPtAv Sync="TRUE">0</chkPtAv>
<cornerPts>
<pos Sync="TRUE">-13763300.879582 4573972.070892</pos>
</cornerPts>
<cornerPts>
<pos Sync="TRUE">-13763300.879582 4713330.209610</pos>
</cornerPts>
<cornerPts>
<pos Sync="TRUE">-13612030.806323 4713330.209610</pos>
</cornerPts>
<cornerPts>
<pos Sync="TRUE">-13612030.806323 4573972.070892</pos>
</cornerPts>
<centerPt>
<pos Sync="TRUE">-13687665.842952 4643651.140251</pos>
</centerPt>
<axisDimension type="002">
<dimSize Sync="TRUE">506628</dimSize>
<dimResol>
<value Sync="TRUE" uom="m">0.298582</value>
</dimResol>
</axisDimension>
<axisDimension type="001">
<dimSize Sync="TRUE">466733</dimSize>
<dimResol>
<value Sync="TRUE" uom="m">0.298582</value>
</dimResol>
</axisDimension>
<ptInPixel>
<PixOrientCd Sync="TRUE" value="001"/>
</ptInPixel>
</Georect>
</spatRepInfo>
<contInfo>
<ImgDesc>
<contentTyp>
<ContentTypCd Sync="TRUE" value="001"/>
</contentTyp>
<covDim>
<Band>
<dimDescrp Sync="TRUE">Band_1</dimDescrp>
<bitsPerVal Sync="TRUE">32</bitsPerVal>
<valUnit>
<UOM gmlID="" type="length"/>
</valUnit>
</Band>
</covDim>
<trianInd>False</trianInd>
<radCalDatAv>False</radCalDatAv>
<camCalInAv>False</camCalInAv>
<filmDistInAv>False</filmDistInAv>
<lensDistInAv>False</lensDistInAv>
</ImgDesc>
</contInfo>
<mdDateSt Sync="TRUE">20230413</mdDateSt>
<myData>
<InEdit>N/A</InEdit>
<InMain>N/A</InMain>
<InRest>N/A</InRest>
<InPortal>N/A</InPortal>
<InAGO>N/A</InAGO>
<LastPublicationDateTag>No</LastPublicationDateTag>
<PreviousLayerName>N/A</PreviousLayerName>
<MetadataReview>No</MetadataReview>
<MetadataSource>N/A</MetadataSource>
</myData>
</metadata>
