The U.S. Geological Survey has developed a National Elevation Database (NED).The NED is a seamless mosaic of best-available elevation data. The 7.5-minute elevation data for the conterminous United States are the primary initial source data. In addition to the availability of complete 7.5-minute data, efficient processing methods were developed to filter production artifacts in the existing data, convert to a consistent datum, edge-match, fill slivers of missing data at quadrangle seams, recast the data to a consistent geographic projection and convert all elevation values to decimal meters as a consistent unit of measure. <\/span><\/p>NED has a resolution of one-third arc-second (approximately 10 meters) for much of the conterminous United States, Hawaii and Puerto Rico in a NAD83 datum. There is a resolution of two arc-seconds for Alaska and the datum is NAD27. <\/span><\/p>NED at 10 meters is created using the same methods outlined above with the source data being mostly the 10m DEMs. DEMs at 5 meters, 1/3 arc-second, and 1/9 arc-second maps are also used where available. In some cases, the 10m NED is resampled from LIDAR or created using aerial photography. <\/span><\/p>One of the effects of the NED processing steps is a much-improved base of elevation data for calculating slope and hydrologic derivatives. Artifact removal greatly improves the quality of the slope, shaded-relief, and synthetic drainage information that can be derived from the elevation data. Geospatial elevation data are used by the scientific and resource management communities for global change research, hydrologic modeling, resource monitoring, mapping, and visualization applications. <\/span><\/p>NRCS has elected to <\/span>ONLY<\/span>serve NED 10 which is 10 meter or better and not NED 10 which was resampled from 30 meter. NRCS also serves the maps in a UTM projection. These two facts differentiate the maps from those served at <\/span>http://seamless.usgs.gov/<\/span><\/a>. <\/span><\/p><\/div><\/div><\/div>",
"name": "Rasters/SoCo_USGS_10M_DEM_1990",
"description": "",
"extent": {
"xmin": -1.3763299086003983E7,
"ymin": 4573972.662918261,
"xmax": -1.3612030207023634E7,
"ymax": 4713331.697428612,
"spatialReference": {
"wkid": 102100,
"latestWkid": 3857
}
},
"initialExtent": {
"xmin": -1.3763299086003983E7,
"ymin": 4573972.662918261,
"xmax": -1.3612030207023634E7,
"ymax": 4713331.697428612,
"spatialReference": {
"wkid": 102100,
"latestWkid": 3857
}
},
"fullExtent": {
"xmin": -1.3763299086003983E7,
"ymin": 4573972.662918261,
"xmax": -1.3612030207023634E7,
"ymax": 4713331.697428612,
"spatialReference": {
"wkid": 102100,
"latestWkid": 3857
}
},
"sortableFields": "",
"bandCount": 3,
"pixelType": "U8",
"minValues": [],
"maxValues": [],
"meanValues": [],
"stdvValues": [],
"hasMultidimensions": false,
"pixelSizeX": 4.777314267949398,
"pixelSizeY": 4.77731426794936,
"meanPixelSize": 4.777314267949379,
"datasetFormat": "AFR",
"uncompressedSize": 2771011632,
"blockWidth": 256,
"blockHeight": 256,
"compressionType": "None",
"bandNames": [
"Band_1",
"Band_2",
"Band_3"
],
"allowCopy": true,
"allowAnalysis": true,
"itemAccess": false,
"inspectionCapabilities": "",
"minPixelSize": 0,
"maxPixelSize": 0,
"copyrightText": "U.S. Department of Agriculture (USDA) Natural Resources Conservation Services, National Cartography & Geospatial Center",
"serviceDataType": "esriImageServiceDataTypeRGB",
"serviceSourceType": "esriImageServiceSourceTypeDataset",
"objectIdField": "",
"fields": [],
"capabilities": "Mensuration,Image,Metadata",
"defaultMosaicMethod": "Center",
"allowedMosaicMethods": "",
"sortField": "",
"sortValue": null,
"sortAscending": true,
"mosaicOperator": "First",
"defaultCompressionQuality": 75,
"defaultResamplingMethod": "Bilinear",
"maxImageHeight": 4100,
"maxImageWidth": 15000,
"allowRasterFunction": true,
"rasterFunctionInfos": [
{
"name": "None",
"description": "",
"help": ""
}
],
"rasterTypeInfos": [
{
"name": "Raster Dataset",
"description": "Supports all ArcGIS Raster Datasets",
"help": ""
}
],
"mensurationCapabilities": "Basic",
"hasHistograms": false,
"hasColormap": false,
"hasRasterAttributeTable": false,
"minScale": 0,
"maxScale": 0,
"exportTilesAllowed": false,
"supportsStatistics": false,
"supportsAdvancedQueries": false,
"editFieldsInfo": null,
"ownershipBasedAccessControlForRasters": null,
"allowComputeTiePoints": false,
"useStandardizedQueries": true,
"advancedQueryCapabilities": {
"useStandardizedQueries": true,
"supportsStatistics": false,
"supportsOrderBy": false,
"supportsDistinct": false,
"supportsPagination": false
},
"spatialReference": {
"wkid": 102100,
"latestWkid": 3857
},
"resampling": false
}