{
 "currentVersion": 11.3,
 "serviceDescription": " The hillshade is a greyscale image showing topography in the landscape. In this case it is created from a USGS 30 meter derived bare earth digital elevation model illuminated by hypothetical light source shining from the north west. A bare earth digital elevation model (DEM) represents the earth's surface with all vegetation and human-made structures removed.<\/span><\/p><\/div><\/div><\/div>",
 "name": "Rasters/SoCo_USGS_10M_DEM_HS_1990",
 "description": "",
 "extent": {
  "xmin": -1.3763299086003983E7,
  "ymin": 4573972.662918261,
  "xmax": -1.3612030207023634E7,
  "ymax": 4713331.697428612,
  "spatialReference": {
   "wkid": 102100,
   "latestWkid": 3857
  }
 },
 "initialExtent": {
  "xmin": -1.3763299086003983E7,
  "ymin": 4573972.662918261,
  "xmax": -1.3612030207023634E7,
  "ymax": 4713331.697428612,
  "spatialReference": {
   "wkid": 102100,
   "latestWkid": 3857
  }
 },
 "fullExtent": {
  "xmin": -1.3763299086003983E7,
  "ymin": 4573972.662918261,
  "xmax": -1.3612030207023634E7,
  "ymax": 4713331.697428612,
  "spatialReference": {
   "wkid": 102100,
   "latestWkid": 3857
  }
 },
 "sortableFields": "",
 "bandCount": 3,
 "pixelType": "U8",
 "minValues": [],
 "maxValues": [],
 "meanValues": [],
 "stdvValues": [],
 "hasMultidimensions": false,
 "pixelSizeX": 4.777314267949398,
 "pixelSizeY": 4.77731426794936,
 "meanPixelSize": 4.777314267949379,
 "datasetFormat": "AFR",
 "uncompressedSize": 2771011632,
 "blockWidth": 256,
 "blockHeight": 256,
 "compressionType": "None",
 "bandNames": [
  "Band_1",
  "Band_2",
  "Band_3"
 ],
 "allowCopy": true,
 "allowAnalysis": true,
 "itemAccess": false,
 "inspectionCapabilities": "",
 "minPixelSize": 0,
 "maxPixelSize": 0,
 "copyrightText": "County of Sonoma ISD GIS, U.S. Department of Agriculture (USDA) Natural Resources Conservation Services, National Cartography & Geospatial Center.",
 "serviceDataType": "esriImageServiceDataTypeRGB",
 "serviceSourceType": "esriImageServiceSourceTypeDataset",
 "objectIdField": "",
 "fields": [],
 "capabilities": "Mensuration,Image,Metadata",
 "defaultMosaicMethod": "Center",
 "allowedMosaicMethods": "",
 "sortField": "",
 "sortValue": null,
 "sortAscending": true,
 "mosaicOperator": "First",
 "defaultCompressionQuality": 75,
 "defaultResamplingMethod": "Bilinear",
 "maxImageHeight": 4100,
 "maxImageWidth": 15000,
 "allowRasterFunction": true,
 "rasterFunctionInfos": [
  {
   "name": "None",
   "description": "",
   "help": ""
  }
 ],
 "rasterTypeInfos": [
  {
   "name": "Raster Dataset",
   "description": "Supports all ArcGIS Raster Datasets",
   "help": ""
  }
 ],
 "mensurationCapabilities": "Basic",
 "hasHistograms": false,
 "hasColormap": false,
 "hasRasterAttributeTable": false,
 "minScale": 0,
 "maxScale": 0,
 "exportTilesAllowed": false,
 "supportsStatistics": false,
 "supportsAdvancedQueries": false,
 "editFieldsInfo": null,
 "ownershipBasedAccessControlForRasters": null,
 "allowComputeTiePoints": false,
 "useStandardizedQueries": true,
 "advancedQueryCapabilities": {
  "useStandardizedQueries": true,
  "supportsStatistics": false,
  "supportsOrderBy": false,
  "supportsDistinct": false,
  "supportsPagination": false
 },
 "spatialReference": {
  "wkid": 102100,
  "latestWkid": 3857
 },
 "resampling": false
}
