<?xml version="1.0" encoding="UTF-8" standalone="no"?>
<metadata xml:lang="en">
<Esri>
<CreaDate>20210323</CreaDate>
<CreaTime>07580100</CreaTime>
<ArcGISFormat>1.0</ArcGISFormat>
<ArcGISstyle>FGDC CSDGM MetadataVerify - ISD GIS</ArcGISstyle>
<SyncOnce>FALSE</SyncOnce>
<DataProperties>
<itemProps>
<itemName Sync="TRUE">TPW_Drone_Flight_20220518</itemName>
<imsContentType Sync="TRUE" export="False">002</imsContentType>
<itemLocation>
<protocol Sync="TRUE">Local Area Network</protocol>
</itemLocation>
<nativeExtBox>
<westBL Sync="TRUE">6353036.570270</westBL>
<eastBL Sync="TRUE">6355931.251270</eastBL>
<southBL Sync="TRUE">1930474.313110</southBL>
<northBL Sync="TRUE">1933885.275630</northBL>
<exTypeCode Sync="TRUE">1</exTypeCode>
</nativeExtBox>
</itemProps>
<coordRef>
<type Sync="TRUE">Projected</type>
<geogcsn Sync="TRUE">GCS_North_American_1983</geogcsn>
<csUnits Sync="TRUE">Linear Unit: Foot_US (0.304801)</csUnits>
<projcsn Sync="TRUE">NAD_1983_StatePlane_California_II_FIPS_0402_Feet</projcsn>
<peXml Sync="TRUE">&lt;ProjectedCoordinateSystem xsi:type='typens:ProjectedCoordinateSystem' xmlns:xsi='http://www.w3.org/2001/XMLSchema-instance' xmlns:xs='http://www.w3.org/2001/XMLSchema' xmlns:typens='http://www.esri.com/schemas/ArcGIS/10.7'&gt;&lt;WKT&gt;PROJCS[&amp;quot;NAD_1983_StatePlane_California_II_FIPS_0402_Feet&amp;quot;,GEOGCS[&amp;quot;GCS_North_American_1983&amp;quot;,DATUM[&amp;quot;D_North_American_1983&amp;quot;,SPHEROID[&amp;quot;GRS_1980&amp;quot;,6378137.0,298.257222101]],PRIMEM[&amp;quot;Greenwich&amp;quot;,0.0],UNIT[&amp;quot;Degree&amp;quot;,0.0174532925199433]],PROJECTION[&amp;quot;Lambert_Conformal_Conic&amp;quot;],PARAMETER[&amp;quot;False_Easting&amp;quot;,6561666.666666666],PARAMETER[&amp;quot;False_Northing&amp;quot;,1640416.666666667],PARAMETER[&amp;quot;Central_Meridian&amp;quot;,-122.0],PARAMETER[&amp;quot;Standard_Parallel_1&amp;quot;,38.33333333333334],PARAMETER[&amp;quot;Standard_Parallel_2&amp;quot;,39.83333333333334],PARAMETER[&amp;quot;Latitude_Of_Origin&amp;quot;,37.66666666666666],UNIT[&amp;quot;Foot_US&amp;quot;,0.3048006096012192],AUTHORITY[&amp;quot;EPSG&amp;quot;,2226]]&lt;/WKT&gt;&lt;XOrigin&gt;-115211800&lt;/XOrigin&gt;&lt;YOrigin&gt;-93821500&lt;/YOrigin&gt;&lt;XYScale&gt;36983428.057351544&lt;/XYScale&gt;&lt;ZOrigin&gt;-100000&lt;/ZOrigin&gt;&lt;ZScale&gt;10000&lt;/ZScale&gt;&lt;MOrigin&gt;-100000&lt;/MOrigin&gt;&lt;MScale&gt;10000&lt;/MScale&gt;&lt;XYTolerance&gt;0.0032808333333333331&lt;/XYTolerance&gt;&lt;ZTolerance&gt;0.001&lt;/ZTolerance&gt;&lt;MTolerance&gt;0.001&lt;/MTolerance&gt;&lt;HighPrecision&gt;true&lt;/HighPrecision&gt;&lt;WKID&gt;102642&lt;/WKID&gt;&lt;LatestWKID&gt;2226&lt;/LatestWKID&gt;&lt;/ProjectedCoordinateSystem&gt;</peXml>
</coordRef>
<RasterProperties>
<General>
<PixelDepth Sync="TRUE">8</PixelDepth>
<HasColormap Sync="TRUE">FALSE</HasColormap>
<CompressionType Sync="TRUE">None</CompressionType>
<NumBands Sync="TRUE">4</NumBands>
<Format Sync="TRUE">AMD</Format>
<HasPyramids Sync="TRUE">TRUE</HasPyramids>
<SourceType Sync="TRUE">continuous</SourceType>
<PixelType Sync="TRUE">unsigned integer</PixelType>
<NoDataValue Sync="TRUE"/>
</General>
<Properties>
<MaxImageHeight Sync="TRUE">4100</MaxImageHeight>
<MaxImageWidth Sync="TRUE">15000</MaxImageWidth>
<MaxRecordCount Sync="TRUE">1000</MaxRecordCount>
<MaxDownloadImageCount Sync="TRUE">20</MaxDownloadImageCount>
<MaxDownloadSizeLimit Sync="TRUE">2048</MaxDownloadSizeLimit>
<MaxMosaicImageCount Sync="TRUE">20</MaxMosaicImageCount>
<DefaultCompressionQuality Sync="TRUE">75</DefaultCompressionQuality>
<DefaultCompressionTolerance Sync="TRUE">0.01</DefaultCompressionTolerance>
<BlendWidth Sync="TRUE">10</BlendWidth>
<ViewpointSpacingX Sync="TRUE">600</ViewpointSpacingX>
<ViewpointSpacingY Sync="TRUE">300</ViewpointSpacingY>
<AllowedItemMetadata Sync="TRUE">Basic</AllowedItemMetadata>
<DefaultResamplingMethod Sync="TRUE">1</DefaultResamplingMethod>
<AllowedMosaicMethods Sync="TRUE">NorthWest,Center,LockRaster,ByAttribute,Nadir,Viewpoint,Seamline,None</AllowedMosaicMethods>
<AllowedCompressions Sync="TRUE">None,JPEG,LZ77,LERC</AllowedCompressions>
<AllowedMensurationCapabilities Sync="TRUE">None</AllowedMensurationCapabilities>
<AvailableMensurationCapabilities Sync="TRUE">None,Basic,Base-Top Height,Top-Top Shadow Height,Base-Top Shadow Height,3D</AvailableMensurationCapabilities>
<ClipToBoundary Sync="TRUE">-1</ClipToBoundary>
<FootprintMayContainNoData Sync="TRUE">-1</FootprintMayContainNoData>
<CellSizeTolerance Sync="TRUE">0.8</CellSizeTolerance>
<MinimumPixelContribution Sync="TRUE">1</MinimumPixelContribution>
<AvailableMosaicMethods Sync="TRUE">NorthWest,Center,LockRaster,ByAttribute,Nadir,Viewpoint,Seamline,None</AvailableMosaicMethods>
<AvailableCompressionMethods Sync="TRUE">None,JPEG,LZ77,LERC</AvailableCompressionMethods>
<AvailableItemMetadataLevels Sync="TRUE">None,Basic,Full</AvailableItemMetadataLevels>
<BandDefinitionKeyword Sync="TRUE">NaturalColorRGBI</BandDefinitionKeyword>
<_docversion_ Sync="TRUE">10</_docversion_>
<AllowedFields Sync="TRUE">Name,MinPS,MaxPS,LowPS,HighPS,Tag,GroupName,ProductName,CenterX,CenterY,ZOrder,Shape_Length,Shape_Area</AllowedFields>
<MaxCellSize Sync="TRUE">626.111999999908</MaxCellSize>
<LowCellSize Sync="TRUE">4.34799999999998E-02</LowCellSize>
<HighCellSize Sync="TRUE">12.5222399999982</HighCellSize>
<ApplyColorCorrection Sync="TRUE">0</ApplyColorCorrection>
</Properties>
<Functions Sync="TRUE">
<Function Description="Performs on-the-fly mosaic on a raster catalog." Name="Mosaic Function"/>
</Functions>
</RasterProperties>
</DataProperties>
<SyncDate>20221003</SyncDate>
<SyncTime>12172400</SyncTime>
<ModDate>20221003</ModDate>
<ModTime>12172400</ModTime>
<scaleRange>
<minScale>150000000</minScale>
<maxScale>5000</maxScale>
</scaleRange>
<ArcGISProfile>FGDC</ArcGISProfile>
</Esri>
<dataIdInfo>
<envirDesc Sync="TRUE"> Version 6.2 (Build 9200) ; Esri ArcGIS 10.7.1.11595</envirDesc>
<dataLang>
<languageCode Sync="TRUE" value="eng"/>
<countryCode Sync="TRUE" value="USA"/>
</dataLang>
<idCitation>
<resTitle Sync="FALSE">Sonoma_County_Complex</resTitle>
<presForm>
<PresFormCd Sync="TRUE" value="005"/>
</presForm>
<date>
<pubDate>2022-05-18T00:00:00</pubDate>
</date>
<citRespParty>
<rpIndName>Transportion &amp; Pubilc Works</rpIndName>
<rpOrgName>Transportion &amp; Pubilc Works</rpOrgName>
<role>
<RoleCd value="003"/>
</role>
<rpCntInfo>
<cntAddress addressType="">
<delPoint>2300 County Center Drive, Suite B100</delPoint>
<city>Santa Rosa</city>
<adminArea>CA</adminArea>
<postCode>95403</postCode>
<eMailAdd>tpw@sonoma-county.org</eMailAdd>
</cntAddress>
<cntPhone>
<voiceNum tddtty="">(707)565-2231</voiceNum>
</cntPhone>
<cntHours>M-F, 8-5</cntHours>
</rpCntInfo>
</citRespParty>
<citRespParty>
<rpIndName>Transportion &amp; Pubilc Works</rpIndName>
<rpOrgName>Transportion &amp; Pubilc Works</rpOrgName>
<role>
<RoleCd value="006"/>
</role>
<rpCntInfo>
<cntAddress addressType="">
<delPoint>2300 County Center Drive, Suite B100</delPoint>
<city>Santa Rosa</city>
<adminArea>CA</adminArea>
<postCode>95403</postCode>
<eMailAdd>Etpw@sonoma-county.org</eMailAdd>
</cntAddress>
<cntPhone>
<voiceNum tddtty="">(707)565-2231</voiceNum>
</cntPhone>
<cntHours>M-F, 8-5</cntHours>
<cntInstr>Email: tpw@sonoma-county.org</cntInstr>
</rpCntInfo>
<displayName>Transportion &amp; Pubilc Works</displayName>
</citRespParty>
<citRespParty>
<editorSource>external</editorSource>
<editorDigest>b3c0be9d7b43c57690dd6fda3c03e197</editorDigest>
<rpOrgName>County of Sonoma ISD GIS Central</rpOrgName>
<rpCntInfo>
<cntPhone>
<voiceNum tddtty="">(707)565-3819</voiceNum>
<faxNum>(707)565-3009</faxNum>
</cntPhone>
<cntAddress addressType="postal">
<delPoint>2615 Paulin Drive</delPoint>
<city>Santa Rosa</city>
<adminArea>CA</adminArea>
<postCode>95404</postCode>
<country>US</country>
<eMailAdd>gis@sonoma-county.org</eMailAdd>
</cntAddress>
<cntHours>M - F, 8 - 5</cntHours>
</rpCntInfo>
<editorSave>True</editorSave>
<displayName>County of Sonoma ISD GIS Central</displayName>
<role>
<RoleCd value="002"/>
</role>
</citRespParty>
<citRespParty>
<editorSource>external</editorSource>
<editorDigest>b3c0be9d7b43c57690dd6fda3c03e197</editorDigest>
<rpOrgName>County of Sonoma ISD GIS Central</rpOrgName>
<rpCntInfo>
<cntPhone>
<voiceNum tddtty="">(707)565-3819</voiceNum>
<faxNum>(707)565-3009</faxNum>
</cntPhone>
<cntAddress addressType="postal">
<delPoint>2615 Paulin Drive</delPoint>
<city>Santa Rosa</city>
<adminArea>CA</adminArea>
<postCode>95404</postCode>
<country>US</country>
<eMailAdd>gis@sonoma-county.org</eMailAdd>
</cntAddress>
<cntHours>M - F, 8 - 5</cntHours>
</rpCntInfo>
<editorSave>True</editorSave>
<displayName>County of Sonoma ISD GIS Central</displayName>
<role>
<RoleCd value="010"/>
</role>
</citRespParty>
</idCitation>
<spatRpType>
<SpatRepTypCd Sync="TRUE" value="002"/>
</spatRpType>
<dataChar>
<CharSetCd value="004"/>
</dataChar>
<resConst>
<Consts>
<useLimit>&lt;div style='text-align:Left;'&gt;&lt;p&gt;&lt;span&gt;The County of Sonoma (“County”) is the authoritative source for this data. Please contact the data owner if you have questions about permitted use.&lt;/span&gt;&lt;/p&gt;&lt;p&gt;&lt;span&gt;For more information regarding the contacts and use and limitations please refer to policy 9-2 Information Technology Use and Security Policy Manual (https://sonomacounty.ca.gov/CAO/Administrative-Policies/IT-Use-and-Security-Policy).&lt;/span&gt;&lt;/p&gt;&lt;p&gt;&lt;span&gt;You are free to: Share - copy and redistribute the data in any medium or format. The licensor cannot revoke these freedoms as long as you follow the license terms.&lt;/span&gt;&lt;/p&gt;&lt;p&gt;&lt;span&gt;License terms: Attribution - You must give appropriate credit (if supplied, you must provide the name of the creator and attribution parties, a copyright notice, a license notice, a disclaimer notice and a link to the material) and indicate if changes were made. You may do so in any reasonable manner, but not in any way that suggests the licensor endorses you, your organization, or your use of the data. NonCommercial - You may not use the material for commercial purposes. A commercial use is one primarily intended for commercial advantage or monetary compensation. NoDerivatives - If you remix, transform, or build upon the data, you may not distribute the modified data.&lt;/span&gt;&lt;/p&gt;&lt;p&gt;&lt;span&gt;No additional Restrictions - You may not apply legal terms or technological measures that legally restrict others form doing anything the license permits.&lt;/span&gt;&lt;/p&gt;&lt;p&gt;&lt;span&gt;Notices: You do not have to comply with the license for elements of the material in the public domain or where your use is permitted by an applicable exception or limitation. No warranties are given. The license may not give you all of the permissions necessary for your intended use. For example, other rights such as publicity, privacy, or moral rights may limit how you use the data.&lt;/span&gt;&lt;/p&gt;&lt;p&gt;&lt;span&gt;EXCEPT TO THE EXTENT REQUIRED BY APPLICABLE LAW, IN NO EVENT WILL LICENSOR BE LIABLE TO YOU ON ANY LEGAL THEORY FOR ANY SPECIAL, INCIDENTAL, CONSEQUENTIAL, PUNITIVE OR EXEMPLARY DAMAGES ARISING OUT OF THIS LICENSE OR THE USE OF THE DATA, EVEN IF LICENSOR HAS BEEN ADVISED OF THE POSSIBILITY OF SUCH DAMAGES.&lt;/span&gt;&lt;/p&gt;&lt;p&gt;&lt;span&gt;The above is an easily understandable summary of and not a substitute for the license and disclaimer for the Attribution-NonCommercial-NoDerivs 3.0 Unported (CC BY-NC-ND 3.0) the full text is available at creativecommons.org.&lt;/span&gt;&lt;/p&gt;&lt;p&gt;&lt;span&gt;https://creativecommons.org/licenses/by-nc-nd/3.0/&lt;/span&gt;&lt;/p&gt;&lt;/div&gt;</useLimit>
</Consts>
</resConst>
<dataExt>
<geoEle>
<GeoBndBox esriExtentType="search">
<exTypeCode Sync="TRUE">1</exTypeCode>
<westBL Sync="TRUE">-122.728704</westBL>
<eastBL Sync="TRUE">-122.718500</eastBL>
<northBL Sync="TRUE">38.470237</northBL>
<southBL Sync="TRUE">38.460807</southBL>
</GeoBndBox>
</geoEle>
</dataExt>
<idPurp>TPW Drone Flight of 05/18/2022 of the County of Sonoma Complex</idPurp>
<idAbs>&lt;div style='text-align:Left;'&gt;&lt;div&gt;&lt;div&gt;&lt;p&gt;&lt;span&gt;TPW Drone Flight of 05/18/2022 of the County of Sonoma Complex&lt;/span&gt;&lt;/p&gt;&lt;p&gt;&lt;span&gt;For further details on flight request PDF: 160518-Project-2022-05-17T16_56_15.434Z_report.pdf&lt;/span&gt;&lt;/p&gt;&lt;p&gt;&lt;span /&gt;&lt;/p&gt;&lt;p&gt;&lt;/div&gt;&lt;/div&gt;&lt;/div&gt;&lt;/p&gt;</idAbs>
<idCredit>County of Sonoma Transportation &amp; Pubilc Works Department</idCredit>
<searchKeys>
<keyword>Drone</keyword>
<keyword>Ortho</keyword>
<keyword>TPW</keyword>
</searchKeys>
</dataIdInfo>
<mdLang>
<languageCode Sync="TRUE" value="eng"/>
<countryCode Sync="TRUE" value="USA"/>
</mdLang>
<mdChar>
<CharSetCd Sync="TRUE" value="004"/>
</mdChar>
<distInfo>
<distFormat>
<formatName Sync="TRUE">Raster Dataset</formatName>
</distFormat>
</distInfo>
<mdHrLv>
<ScopeCd Sync="TRUE" value="005"/>
</mdHrLv>
<mdHrLvName Sync="TRUE">dataset</mdHrLvName>
<refSysInfo>
<RefSystem>
<refSysID>
<identCode Sync="TRUE" code="2226"/>
<idCodeSpace Sync="TRUE">EPSG</idCodeSpace>
<idVersion Sync="TRUE">5.3(9.0.0)</idVersion>
</refSysID>
</RefSystem>
</refSysInfo>
<spatRepInfo>
<VectSpatRep>
<geometObjs Name="GIS_EDIT.MD.SYS_SOCO_NOT_WO_PERM_TMPLT">
<geoObjTyp>
<GeoObjTypCd Sync="TRUE" value="002"/>
</geoObjTyp>
<geoObjCnt Sync="TRUE">0</geoObjCnt>
</geometObjs>
<topLvl>
<TopoLevCd Sync="TRUE" value="001"/>
</topLvl>
</VectSpatRep>
<Georect>
<cellGeo>
<CellGeoCd Sync="TRUE" value="002"/>
</cellGeo>
<numDims Sync="TRUE">2</numDims>
<tranParaAv Sync="TRUE">1</tranParaAv>
<chkPtAv Sync="TRUE">0</chkPtAv>
<cornerPts>
<pos Sync="TRUE">6353036.570270 1930474.313110</pos>
</cornerPts>
<cornerPts>
<pos Sync="TRUE">6353036.570270 1933885.275630</pos>
</cornerPts>
<cornerPts>
<pos Sync="TRUE">6355931.251270 1933885.275630</pos>
</cornerPts>
<cornerPts>
<pos Sync="TRUE">6355931.251270 1930474.313110</pos>
</cornerPts>
<centerPt>
<pos Sync="TRUE">6354483.910770 1932179.794370</pos>
</centerPt>
<axisDimension type="002">
<dimSize Sync="TRUE">66575</dimSize>
<dimResol>
<value Sync="TRUE" uom="ftUS">0.043480</value>
</dimResol>
</axisDimension>
<axisDimension type="001">
<dimSize Sync="TRUE">78449</dimSize>
<dimResol>
<value Sync="TRUE" uom="ftUS">0.043480</value>
</dimResol>
</axisDimension>
<ptInPixel>
<PixOrientCd Sync="TRUE" value="001"/>
</ptInPixel>
</Georect>
</spatRepInfo>
<spdoinfo>
<ptvctinf>
<esriterm Name="GIS_EDIT.MD.SYS_SOCO_NOT_WO_PERM_TMPLT">
<efeatyp Sync="TRUE">Simple</efeatyp>
<efeageom Sync="TRUE" code="4"/>
<esritopo Sync="TRUE">FALSE</esritopo>
<efeacnt Sync="TRUE">0</efeacnt>
<spindex Sync="TRUE">TRUE</spindex>
<linrefer Sync="TRUE">FALSE</linrefer>
</esriterm>
</ptvctinf>
</spdoinfo>
<eainfo>
<detailed Name="GIS_EDIT.MD.SYS_SOCO_NOT_WO_PERM_TMPLT">
<enttyp>
<enttypl Sync="TRUE">GIS_EDIT.MD.SYS_SOCO_NOT_WO_PERM_TMPLT</enttypl>
<enttypt Sync="TRUE">Feature Class</enttypt>
<enttypc Sync="TRUE">0</enttypc>
</enttyp>
<attr>
<attrlabl Sync="TRUE">OBJECTID</attrlabl>
<attalias Sync="TRUE">OBJECTID</attalias>
<attrtype Sync="TRUE">OID</attrtype>
<attwidth Sync="TRUE">4</attwidth>
<atprecis Sync="TRUE">10</atprecis>
<attscale Sync="TRUE">0</attscale>
<attrdef Sync="TRUE">Internal feature number.</attrdef>
<attrdefs Sync="TRUE">Esri</attrdefs>
<attrdomv>
<udom Sync="TRUE">Sequential unique whole numbers that are automatically generated.</udom>
</attrdomv>
</attr>
<attr>
<attrlabl Sync="TRUE">SHAPE</attrlabl>
<attalias Sync="TRUE">SHAPE</attalias>
<attrtype Sync="TRUE">Geometry</attrtype>
<attwidth Sync="TRUE">4</attwidth>
<atprecis Sync="TRUE">0</atprecis>
<attscale Sync="TRUE">0</attscale>
<attrdef Sync="TRUE">Feature geometry.</attrdef>
<attrdefs Sync="TRUE">Esri</attrdefs>
<attrdomv>
<udom Sync="TRUE">Coordinates defining the features.</udom>
</attrdomv>
</attr>
<attr>
<attrlabl Sync="TRUE">SHAPE.STArea()</attrlabl>
<attalias Sync="TRUE">SHAPE.STArea()</attalias>
<attrtype Sync="TRUE">Double</attrtype>
<attwidth Sync="TRUE">0</attwidth>
<atprecis Sync="TRUE">0</atprecis>
<attscale Sync="TRUE">0</attscale>
</attr>
<attr>
<attrlabl Sync="TRUE">SHAPE.STLength()</attrlabl>
<attalias Sync="TRUE">SHAPE.STLength()</attalias>
<attrtype Sync="TRUE">Double</attrtype>
<attwidth Sync="TRUE">0</attwidth>
<atprecis Sync="TRUE">0</atprecis>
<attscale Sync="TRUE">0</attscale>
</attr>
</detailed>
</eainfo>
<mdDateSt Sync="TRUE">20221003</mdDateSt>
<contInfo>
<ImgDesc>
<contentTyp>
<ContentTypCd Sync="TRUE" value="001"/>
</contentTyp>
<covDim>
<Band>
<dimDescrp Sync="TRUE">Red</dimDescrp>
<bitsPerVal Sync="TRUE">8</bitsPerVal>
<valUnit>
<UOM type="length"/>
</valUnit>
<maxVal Sync="TRUE">255.000000</maxVal>
<minVal Sync="TRUE">0.000000</minVal>
</Band>
<Band>
<dimDescrp Sync="TRUE">Green</dimDescrp>
<bitsPerVal Sync="TRUE">8</bitsPerVal>
<valUnit>
<UOM type="length"/>
</valUnit>
<maxVal Sync="TRUE">255.000000</maxVal>
<minVal Sync="TRUE">0.000000</minVal>
</Band>
<Band>
<dimDescrp Sync="TRUE">Blue</dimDescrp>
<bitsPerVal Sync="TRUE">8</bitsPerVal>
<valUnit>
<UOM type="length"/>
</valUnit>
<maxVal Sync="TRUE">255.000000</maxVal>
<minVal Sync="TRUE">0.000000</minVal>
</Band>
<Band>
<dimDescrp Sync="TRUE">Infrared</dimDescrp>
<bitsPerVal Sync="TRUE">8</bitsPerVal>
<valUnit>
<UOM type="length"/>
</valUnit>
<maxVal Sync="TRUE">255.000000</maxVal>
<minVal Sync="TRUE">0.000000</minVal>
</Band>
</covDim>
</ImgDesc>
</contInfo>
<mdContact>
<editorSource>external</editorSource>
<editorDigest>f91cc68d88966abff24dcef0d799b1a5</editorDigest>
<rpIndName>Transportion &amp; Pubilc Works</rpIndName>
<rpOrgName>Transportion &amp; Pubilc Works</rpOrgName>
<rpCntInfo>
<cntAddress addressType="">
<delPoint>2300 County Center Drive, Suite B100</delPoint>
<city>Santa Rosa</city>
<adminArea>CA</adminArea>
<postCode>95403</postCode>
<eMailAdd>tpw@sonoma-county.org</eMailAdd>
</cntAddress>
<cntPhone>
<voiceNum tddtty="">(707)565-2231</voiceNum>
</cntPhone>
<cntHours>M-F, 8-5</cntHours>
</rpCntInfo>
<editorSave>True</editorSave>
<displayName>Transportion &amp; Pubilc Works</displayName>
<role>
<RoleCd value="003"/>
</role>
</mdContact>
</metadata>
