<?xml version="1.0" encoding="UTF-8" standalone="no"?>
<metadata xml:lang="en">
<Esri>
<CreaDate>20201215</CreaDate>
<CreaTime>11495000</CreaTime>
<ArcGISFormat>1.0</ArcGISFormat>
<ArcGISstyle>FGDC CSDGM MetadataVerify - ISD GIS</ArcGISstyle>
<SyncOnce>FALSE</SyncOnce>
<DataProperties>
<itemProps>
<itemName Sync="TRUE">Topo_SoCo_USGS_DRG</itemName>
<itemLocation>
<protocol Sync="TRUE">Local Area Network</protocol>
</itemLocation>
<imsContentType Sync="TRUE" export="False">002</imsContentType>
<nativeExtBox>
<westBL Sync="TRUE">-314724.323682</westBL>
<eastBL Sync="TRUE">-196737.500335</eastBL>
<southBL Sync="TRUE">788.191452</southBL>
<northBL Sync="TRUE">101445.307298</northBL>
<exTypeCode Sync="TRUE">1</exTypeCode>
</nativeExtBox>
</itemProps>
<coordRef>
<type Sync="TRUE">Projected</type>
<geogcsn Sync="TRUE">GCS_North_American_1983</geogcsn>
<csUnits Sync="TRUE">Linear Unit: Meters (1.000000)</csUnits>
<projcsn Sync="TRUE">Custom</projcsn>
<peXml Sync="TRUE">&lt;ProjectedCoordinateSystem xsi:type='typens:ProjectedCoordinateSystem' xmlns:xsi='http://www.w3.org/2001/XMLSchema-instance' xmlns:xs='http://www.w3.org/2001/XMLSchema' xmlns:typens='http://www.esri.com/schemas/ArcGIS/10.7'&gt;&lt;WKT&gt;PROJCS[&amp;quot;Custom&amp;quot;,GEOGCS[&amp;quot;GCS_North_American_1983&amp;quot;,DATUM[&amp;quot;D_North_American_1983&amp;quot;,SPHEROID[&amp;quot;GRS_1980&amp;quot;,6378137.0,298.257222101]],PRIMEM[&amp;quot;Greenwich&amp;quot;,0.0],UNIT[&amp;quot;Degree&amp;quot;,0.0174532925199433]],PROJECTION[&amp;quot;Albers&amp;quot;],PARAMETER[&amp;quot;false_easting&amp;quot;,0.0],PARAMETER[&amp;quot;false_northing&amp;quot;,-4000000.0],PARAMETER[&amp;quot;central_meridian&amp;quot;,-120.0],PARAMETER[&amp;quot;standard_parallel_1&amp;quot;,34.0],PARAMETER[&amp;quot;standard_parallel_2&amp;quot;,40.5],PARAMETER[&amp;quot;latitude_of_origin&amp;quot;,0.0],UNIT[&amp;quot;Meters&amp;quot;,1.0]]&lt;/WKT&gt;&lt;XOrigin&gt;-16909700&lt;/XOrigin&gt;&lt;YOrigin&gt;-8597000&lt;/YOrigin&gt;&lt;XYScale&gt;266332319.7555542&lt;/XYScale&gt;&lt;ZOrigin&gt;-100000&lt;/ZOrigin&gt;&lt;ZScale&gt;10000&lt;/ZScale&gt;&lt;MOrigin&gt;-100000&lt;/MOrigin&gt;&lt;MScale&gt;10000&lt;/MScale&gt;&lt;XYTolerance&gt;0.001&lt;/XYTolerance&gt;&lt;ZTolerance&gt;0.001&lt;/ZTolerance&gt;&lt;MTolerance&gt;0.001&lt;/MTolerance&gt;&lt;HighPrecision&gt;true&lt;/HighPrecision&gt;&lt;/ProjectedCoordinateSystem&gt;</peXml>
</coordRef>
<RasterProperties>
<General>
<PixelDepth Sync="TRUE">32</PixelDepth>
<HasColormap Sync="TRUE">FALSE</HasColormap>
<CompressionType Sync="TRUE">Mixed</CompressionType>
<NumBands Sync="TRUE">1</NumBands>
<Format Sync="TRUE">Cache/Mixed</Format>
<HasPyramids Sync="TRUE">TRUE</HasPyramids>
<SourceType Sync="TRUE">continuous</SourceType>
<PixelType Sync="TRUE">unsigned integer</PixelType>
<NoDataValue Sync="TRUE"/>
</General>
</RasterProperties>
</DataProperties>
<SyncDate>20210104</SyncDate>
<SyncTime>13450300</SyncTime>
<ModDate>20210104</ModDate>
<ModTime>13450300</ModTime>
<scaleRange>
<minScale>500000</minScale>
<maxScale>50000</maxScale>
</scaleRange>
<ArcGISProfile>FGDC</ArcGISProfile>
</Esri>
<dataIdInfo>
<envirDesc Sync="TRUE">Microsoft Windows 7 Version 6.1 (Build 7601) Service Pack 1; Esri ArcGIS 10.7.1.11595</envirDesc>
<dataLang>
<languageCode Sync="TRUE" value="eng"/>
<countryCode Sync="TRUE" value="USA"/>
</dataLang>
<idCitation>
<resTitle Sync="FALSE">Topo_SoCo_USGS_DRG</resTitle>
<presForm>
<PresFormCd Sync="TRUE" value="005"/>
</presForm>
<date>
<pubDate>2006-01-02T00:00:00</pubDate>
</date>
<citRespParty>
<rpIndName>US Geological Survey</rpIndName>
<rpOrgName>US Geological Survey</rpOrgName>
<role>
<RoleCd value="006"/>
</role>
<rpCntInfo>
<cntAddress addressType="physical">
<delPoint>12201 Sunrise Valley Dr</delPoint>
<city>Reston</city>
<adminArea>Virginia</adminArea>
<postCode>20192</postCode>
<country>US</country>
</cntAddress>
<cntPhone>
<voiceNum tddtty="">1-888-ASK-USGS (1-888-275-8747)</voiceNum>
</cntPhone>
<cntHours>MTWTHF 8am to 4pm</cntHours>
<cntInstr>Monday through Friday 8:00 AM to 4:00 PM Eastern Time Zone USA
Please visit: https://www.usgs.gov/ask/ to contact us</cntInstr>
</rpCntInfo>
</citRespParty>
</idCitation>
<spatRpType>
<SpatRepTypCd Sync="TRUE" value="002"/>
</spatRpType>
<dataExt>
<geoEle>
<GeoBndBox esriExtentType="search">
<exTypeCode Sync="TRUE">1</exTypeCode>
<westBL Sync="TRUE">-123.632083</westBL>
<eastBL Sync="TRUE">-122.243637</eastBL>
<northBL Sync="TRUE">38.907774</northBL>
<southBL Sync="TRUE">37.969876</southBL>
</GeoBndBox>
</geoEle>
<exDesc>County of Sonoma</exDesc>
<tempEle>
<TempExtent>
<exTemp>
<TM_Period>
<tmBegin>1954-01-01T00:00:00</tmBegin>
<tmEnd>2019-01-01T00:00:00</tmEnd>
</TM_Period>
</exTemp>
</TempExtent>
</tempEle>
</dataExt>
<idAbs>&lt;div style='text-align:Left;'&gt;&lt;div&gt;&lt;div&gt;&lt;p&gt;&lt;span style='font-size:9pt'&gt;The USGS was entrusted with the responsibility for mapping the country in 1879 and has been the primary civilian mapping agency of the United States ever since. The best known USGS maps are the 1:24,000-scale topographic maps, also known as 7.5-minute quadrangles. From approximately 1947 to 1992, more than 55,000 7.5-minute maps were made to cover the 48 conterminous states. Similar maps at varying scales were produced during the same time period for Alaska, Hawaii, and US Territories. The 7.5-minute series was declared complete in 1992, and at that time was the only uniform map series that covered the United States in considerable detail.&lt;/span&gt;&lt;/p&gt;&lt;p&gt;&lt;span style='font-size:9pt'&gt;Map revision continued, though in decreasing quantities, through the 1990s. The last printed USGS topographic maps were published in 2006.&lt;/span&gt;&lt;/p&gt;&lt;p&gt;&lt;span style='font-size:9pt'&gt;In 2009, a new USGS quadrangle topographic map series was defined. Named “US Topo,” these maps are modeled on the 7.5-minute series, but are derived from GIS data. At about the same time, a separate project was started to scan the entire historic library of traditional topographic maps.&lt;/span&gt;&lt;/p&gt;&lt;p&gt;&lt;span style='font-size:9pt'&gt;Today, USGS topographic quadrangle maps are divided into two product types:&lt;/span&gt;&lt;/p&gt;&lt;p&gt;&lt;span style='font-size:9pt'&gt;1. &lt;/span&gt;&lt;a href='/core-science-systems/national-geospatial-program/us-topo-maps-america?qt-science_support_page_related_con=0'&gt;&lt;span style='font-size:9pt'&gt;US Topo&lt;/span&gt;&lt;/a&gt;&lt;span style='font-size:9pt'&gt; is the current topographic map series. These are modeled on the legacy 7.5-minute maps, but are mass-produced from GIS databases and published as digital documents. &lt;/span&gt;&lt;/p&gt;&lt;p&gt;&lt;span style='font-size:9pt'&gt;2. The &lt;/span&gt;&lt;a href='/core-science-systems/ngp/topo-maps/historical-topographic-map-collection?qt-science_support_page_related_con=0'&gt;&lt;span style='font-size:9pt'&gt;Historical Topographic Map Collection (HTMC)&lt;/span&gt;&lt;/a&gt;&lt;span style='font-size:9pt'&gt;is a set of scanned images of USGS topographic quadrangle maps originally published as paper documents in the period 1884-2006.&lt;/span&gt;&lt;/p&gt;&lt;p&gt;&lt;span style='font-size:9pt'&gt;Both US Topo and HTMC maps can be downloaded free of charge through &lt;/span&gt;&lt;a href='/faqs/how-do-i-find-and-download-topographic-maps?qt-news_science_products=3'&gt;&lt;span style='font-size:9pt'&gt;several USGS interfaces&lt;/span&gt;&lt;/a&gt;&lt;span style='font-size:9pt'&gt;.&lt;/span&gt;&lt;/p&gt;&lt;p&gt;&lt;span style='font-size:9pt'&gt;This dataset is best described by item 2.&lt;/span&gt;&lt;/p&gt;&lt;p&gt;&lt;span /&gt;&lt;/p&gt;&lt;/div&gt;&lt;/div&gt;&lt;/div&gt;</idAbs>
<idPurp>The USGS Historical Quadrangle Scanning Project (HQSP) is scanning all scales and all editions of topographic maps published by the U.S. Geological Survey...</idPurp>
<idCredit>U.S. Geological Survey</idCredit>
<searchKeys>
<keyword>Annapolis</keyword>
<keyword>Arched Rock</keyword>
<keyword>Asti</keyword>
<keyword>Big Foot Mountain</keyword>
<keyword>Bodega Head</keyword>
<keyword>Calistoga</keyword>
<keyword>Camp Meeker</keyword>
<keyword>Cazadero</keyword>
<keyword>Cloverdale</keyword>
<keyword>Cotati</keyword>
<keyword>Cuttings Wharf</keyword>
<keyword>Detert Reservoir</keyword>
<keyword>Duncans Mills</keyword>
<keyword>Fort Ross</keyword>
<keyword>Geyserville</keyword>
<keyword>Glen Ellen</keyword>
<keyword>Gualala</keyword>
<keyword>Gube Mountain</keyword>
<keyword>Guerneville</keyword>
<keyword>Healdsburg</keyword>
<keyword>Jimtown</keyword>
<keyword>Kenwood</keyword>
<keyword>Mare Island</keyword>
<keyword>Mark West Springs</keyword>
<keyword>McGuire Ridge</keyword>
<keyword>Mount Saint Helena</keyword>
<keyword>Novato</keyword>
<keyword>Petaluma</keyword>
<keyword>Petaluma Point</keyword>
<keyword>Petaluma River</keyword>
<keyword>Plantation</keyword>
<keyword>Plantation OE W</keyword>
<keyword>Point Reyes NE</keyword>
<keyword>Rutherford</keyword>
<keyword>Santa Rosa</keyword>
<keyword>Sears Point</keyword>
<keyword>Sebastopol</keyword>
<keyword>Sonoma</keyword>
<keyword>Stewarts Point</keyword>
<keyword>Stewarts Point OE W</keyword>
<keyword>The Geysers</keyword>
<keyword>Tombs Creek</keyword>
<keyword>Two Rock</keyword>
<keyword>Valley Ford</keyword>
<keyword>Warm Springs Dam</keyword>
<keyword>Whispering Pines. Sonoma County</keyword>
<keyword>USGS</keyword>
<keyword>7.5 Minute Quadrangle</keyword>
<keyword>Topographic</keyword>
<keyword>Contours.</keyword>
</searchKeys>
<dataChar>
<CharSetCd value="004"/>
</dataChar>
<suppInfo>The digital GeoPDF version of the historical map was georeferenced with a methodology that preserves, but does not exceed, the accuracy of the original map. The historical map product was compiled to meet National Map Accuracy Standards (NMAS) of the era when the map was originally published.&lt;/</suppInfo>
<idStatus>
<ProgCd value="001"/>
</idStatus>
<idPoC>
<rpIndName>US Geological Survey</rpIndName>
<rpOrgName>US Geological Survey</rpOrgName>
<role>
<RoleCd value="006"/>
</role>
<rpCntInfo>
<cntAddress addressType="physical">
<delPoint>12201 Sunrise Valley Dr</delPoint>
<city>Reston</city>
<adminArea>Virginia</adminArea>
<postCode>20192</postCode>
<country>US</country>
</cntAddress>
<cntPhone>
<voiceNum tddtty="">1-888-ASK-USGS (1-888-275-8747)</voiceNum>
</cntPhone>
<cntHours>MTWTHF 8am to 4pm</cntHours>
<cntInstr>Monday through Friday 8:00 AM to 4:00 PM Eastern Time Zone USA
Please visit: https://www.usgs.gov/ask/ to contact us</cntInstr>
</rpCntInfo>
<displayName>US Geological Survey</displayName>
</idPoC>
<resMaint>
<maintFreq>
<MaintFreqCd value="011"/>
</maintFreq>
<maintCont>
<rpIndName>US Geological Survey</rpIndName>
<rpOrgName>US Geological Survey</rpOrgName>
<role>
<RoleCd value="006"/>
</role>
<rpCntInfo>
<cntAddress addressType="physical">
<delPoint>12201 Sunrise Valley Dr</delPoint>
<city>Reston</city>
<adminArea>Virginia</adminArea>
<postCode>20192</postCode>
<country>US</country>
</cntAddress>
<cntPhone>
<voiceNum tddtty="">1-888-ASK-USGS (1-888-275-8747)</voiceNum>
</cntPhone>
<cntHours>MTWTHF 8am to 4pm</cntHours>
<cntInstr>Monday through Friday 8:00 AM to 4:00 PM Eastern Time Zone USA
Please visit: https://www.usgs.gov/ask/ to contact us</cntInstr>
</rpCntInfo>
<editorSave>False</editorSave>
<displayName>US Geological Survey</displayName>
</maintCont>
</resMaint>
<resConst>
<Consts>
<useLimit>&lt;div style='text-align:Left;'&gt;&lt;div&gt;&lt;div&gt;&lt;p&gt;&lt;span&gt;None. However, users should be aware that temporal changes may have occurred since this map was originally produced and that some parts of this data may no longer represent actual surface conditions. Users should not use this data for critical applications without a full awareness of its limitations.&lt;/span&gt;&lt;/p&gt;&lt;/div&gt;&lt;/div&gt;&lt;/div&gt;</useLimit>
</Consts>
</resConst>
</dataIdInfo>
<mdLang>
<languageCode Sync="TRUE" value="eng"/>
<countryCode Sync="TRUE" value="USA"/>
</mdLang>
<mdChar>
<CharSetCd Sync="TRUE" value="004"/>
</mdChar>
<distInfo>
<distFormat>
<formatName Sync="TRUE">Raster Dataset</formatName>
</distFormat>
</distInfo>
<mdHrLv>
<ScopeCd Sync="TRUE" value="005"/>
</mdHrLv>
<mdHrLvName Sync="TRUE">dataset</mdHrLvName>
<refSysInfo>
<RefSystem>
<refSysID>
<identCode Sync="TRUE" code="0"/>
</refSysID>
</RefSystem>
</refSysInfo>
<spatRepInfo>
<Georect>
<cellGeo>
<CellGeoCd Sync="TRUE" value="002"/>
</cellGeo>
<numDims Sync="TRUE">2</numDims>
<tranParaAv Sync="TRUE">1</tranParaAv>
<chkPtAv Sync="TRUE">0</chkPtAv>
<cornerPts>
<pos Sync="TRUE">-314724.323682 788.191452</pos>
</cornerPts>
<cornerPts>
<pos Sync="TRUE">-314724.323682 101445.307298</pos>
</cornerPts>
<cornerPts>
<pos Sync="TRUE">-196737.500335 101445.307298</pos>
</cornerPts>
<cornerPts>
<pos Sync="TRUE">-196737.500335 788.191452</pos>
</cornerPts>
<centerPt>
<pos Sync="TRUE">-255730.912008 51116.749375</pos>
</centerPt>
<axisDimension type="002">
<dimSize Sync="TRUE">395157</dimSize>
<dimResol>
<value Sync="TRUE" uom="m">0.298582</value>
</dimResol>
</axisDimension>
<axisDimension type="001">
<dimSize Sync="TRUE">337117</dimSize>
<dimResol>
<value Sync="TRUE" uom="m">0.298582</value>
</dimResol>
</axisDimension>
<ptInPixel>
<PixOrientCd Sync="TRUE" value="001"/>
</ptInPixel>
</Georect>
</spatRepInfo>
<contInfo>
<ImgDesc>
<contentTyp>
<ContentTypCd Sync="TRUE" value="001"/>
</contentTyp>
<covDim>
<Band>
<dimDescrp Sync="TRUE">Band_1</dimDescrp>
<bitsPerVal Sync="TRUE">32</bitsPerVal>
<valUnit>
<UOM type="length"/>
</valUnit>
</Band>
</covDim>
</ImgDesc>
</contInfo>
<mdDateSt Sync="TRUE">20210104</mdDateSt>
<myData>
<InEdit>N/A</InEdit>
<InMain>N/A</InMain>
<InRest>N/A</InRest>
<InPortal>N/A</InPortal>
<InAGO>N/A</InAGO>
<LastPublicationDateTag>No</LastPublicationDateTag>
<PreviousLayerName>N/A</PreviousLayerName>
<MetadataReview>No</MetadataReview>
<MetadataSource>N/A</MetadataSource>
</myData>
</metadata>
