<?xml version="1.0" encoding="UTF-8" standalone="no"?>
<metadata xml:lang="en">
<Esri>
<CreaDate>20200305</CreaDate>
<CreaTime>17013500</CreaTime>
<ArcGISFormat>1.0</ArcGISFormat>
<ArcGISstyle>FGDC CSDGM Metadata</ArcGISstyle>
<SyncOnce>FALSE</SyncOnce>
<DataProperties>
<itemProps>
<itemName Sync="TRUE">USGS_Landslide_Relative_Slope_Stability_1980_WM</itemName>
<itemLocation>
<protocol Sync="TRUE">Local Area Network</protocol>
</itemLocation>
<imsContentType Sync="TRUE" export="False">002</imsContentType>
<nativeExtBox>
<westBL Sync="TRUE">-13752990.206630</westBL>
<eastBL Sync="TRUE">-13619636.256158</eastBL>
<southBL Sync="TRUE">4587524.323420</southBL>
<northBL Sync="TRUE">4701377.277051</northBL>
<exTypeCode Sync="TRUE">1</exTypeCode>
</nativeExtBox>
</itemProps>
<coordRef>
<type Sync="TRUE">Projected</type>
<geogcsn Sync="TRUE">GCS_WGS_1984</geogcsn>
<csUnits Sync="TRUE">Linear Unit: Meter (1.000000)</csUnits>
<projcsn Sync="TRUE">WGS_1984_Web_Mercator_Auxiliary_Sphere</projcsn>
<peXml Sync="TRUE">&lt;ProjectedCoordinateSystem xsi:type='typens:ProjectedCoordinateSystem' xmlns:xsi='http://www.w3.org/2001/XMLSchema-instance' xmlns:xs='http://www.w3.org/2001/XMLSchema' xmlns:typens='http://www.esri.com/schemas/ArcGIS/10.7'&gt;&lt;WKT&gt;PROJCS[&amp;quot;WGS_1984_Web_Mercator_Auxiliary_Sphere&amp;quot;,GEOGCS[&amp;quot;GCS_WGS_1984&amp;quot;,DATUM[&amp;quot;D_WGS_1984&amp;quot;,SPHEROID[&amp;quot;WGS_1984&amp;quot;,6378137.0,298.257223563]],PRIMEM[&amp;quot;Greenwich&amp;quot;,0.0],UNIT[&amp;quot;Degree&amp;quot;,0.0174532925199433]],PROJECTION[&amp;quot;Mercator_Auxiliary_Sphere&amp;quot;],PARAMETER[&amp;quot;False_Easting&amp;quot;,0.0],PARAMETER[&amp;quot;False_Northing&amp;quot;,0.0],PARAMETER[&amp;quot;Central_Meridian&amp;quot;,0.0],PARAMETER[&amp;quot;Standard_Parallel_1&amp;quot;,0.0],PARAMETER[&amp;quot;Auxiliary_Sphere_Type&amp;quot;,0.0],UNIT[&amp;quot;Meter&amp;quot;,1.0],AUTHORITY[&amp;quot;EPSG&amp;quot;,3857]]&lt;/WKT&gt;&lt;XOrigin&gt;-20037700&lt;/XOrigin&gt;&lt;YOrigin&gt;-30241100&lt;/YOrigin&gt;&lt;XYScale&gt;148923141.92838538&lt;/XYScale&gt;&lt;ZOrigin&gt;-100000&lt;/ZOrigin&gt;&lt;ZScale&gt;10000&lt;/ZScale&gt;&lt;MOrigin&gt;-100000&lt;/MOrigin&gt;&lt;MScale&gt;10000&lt;/MScale&gt;&lt;XYTolerance&gt;0.001&lt;/XYTolerance&gt;&lt;ZTolerance&gt;0.001&lt;/ZTolerance&gt;&lt;MTolerance&gt;0.001&lt;/MTolerance&gt;&lt;HighPrecision&gt;true&lt;/HighPrecision&gt;&lt;WKID&gt;102100&lt;/WKID&gt;&lt;LatestWKID&gt;3857&lt;/LatestWKID&gt;&lt;/ProjectedCoordinateSystem&gt;</peXml>
</coordRef>
<RasterProperties>
<General>
<PixelDepth Sync="TRUE">32</PixelDepth>
<HasColormap Sync="TRUE">FALSE</HasColormap>
<CompressionType Sync="TRUE">Mixed</CompressionType>
<NumBands Sync="TRUE">1</NumBands>
<Format Sync="TRUE">Cache/Mixed</Format>
<HasPyramids Sync="TRUE">TRUE</HasPyramids>
<SourceType Sync="TRUE">continuous</SourceType>
<PixelType Sync="TRUE">unsigned integer</PixelType>
<NoDataValue Sync="TRUE"/>
</General>
</RasterProperties>
</DataProperties>
<SyncDate>20201215</SyncDate>
<SyncTime>11330700</SyncTime>
<ModDate>20201215</ModDate>
<ModTime>11331800</ModTime>
<scaleRange>
<minScale>500000</minScale>
<maxScale>50000</maxScale>
</scaleRange>
<ArcGISProfile>FGDC</ArcGISProfile>
</Esri>
<dataIdInfo>
<envirDesc Sync="TRUE">Microsoft Windows 7 Version 6.1 (Build 7601) Service Pack 1; Esri ArcGIS 10.7.1.11595</envirDesc>
<dataLang>
<languageCode Sync="TRUE" value="eng"/>
<countryCode Sync="TRUE" value="USA"/>
</dataLang>
<idCitation>
<resTitle Sync="TRUE">USGS_Landslide_Relative_Slope_Stability_1980_WM</resTitle>
<presForm>
<PresFormCd Sync="TRUE" value="005"/>
</presForm>
<date>
<createDate>1974-01-01T00:00:00</createDate>
<pubDate>1980-01-01T00:00:00</pubDate>
</date>
</idCitation>
<spatRpType>
<SpatRepTypCd Sync="TRUE" value="002"/>
</spatRpType>
<dataExt>
<geoEle>
<GeoBndBox esriExtentType="search">
<exTypeCode Sync="TRUE">1</exTypeCode>
<westBL Sync="TRUE">-123.545213</westBL>
<eastBL Sync="TRUE">-122.347274</eastBL>
<northBL Sync="TRUE">38.858179</northBL>
<southBL Sync="TRUE">38.057305</southBL>
</GeoBndBox>
</geoEle>
<exDesc>Sonoma County</exDesc>
<tempEle>
<TempExtent>
<exTemp>
<TM_Period>
<tmBegin>1973-01-01T00:00:00</tmBegin>
<tmEnd>1974-01-01T00:00:00</tmEnd>
</TM_Period>
</exTemp>
</TempExtent>
</tempEle>
</dataExt>
<idPurp>Data is for the purpose of regional planning and for the assessment of studies that are required for land use and development planning. Geologic and soil reports are required for land development plans and designs.</idPurp>
<idAbs>&lt;div style='text-align:Left;'&gt;&lt;div&gt;&lt;div&gt;&lt;p&gt;&lt;span&gt;Landslides and relative slope stability - Sonoma County. Compiled by Charles F. Armstrong. Original map scale 1: 62,500, contour interval 200 feet. The base map used is an enlargement from a 1:125,000-scale published map.&lt;/span&gt;&lt;/p&gt;&lt;/div&gt;&lt;/div&gt;&lt;/div&gt;</idAbs>
<idCredit>Huffman, M.E., 1972, modified by Armstrong, C.F., 1974.Huffman, M.E., 1972, and Morton, D. M., unpublished.Huffman, M.E., 1973, and Morton. D. M., unpublished.Huffman, M.E., 1973, modified by Armstrong, C.F., 1974.Armstrong, C.F., aerial photo interpretation, 1974.Morton, D.M., unpublished, modified by Armstrong, C.F., 1974.Morton, D.M., unpublished, modified by Armstrong, C.F., 1974.Wentworth, C.W. 9 (a), unpublished, modified by Armstrong, C.F., 1974.Armstrong, C.F., aerial photo interpretation, 1974, and Sims, J.D., et al, 1973.Armstrong, C.F., aerial photo interpretation, 1974, and Fox, K.F. Jr., et al, 1973.Huffman, M.E., 1971, and Fox, K.F. Jr., et al, 1973, modified by Armstrong, C.F., 1974.Dwyer, M.J., 1974.Frenaye, T., unpublished, modified by Armstrong, C.F., 1974.</idCredit>
<searchKeys>
<keyword>Slope</keyword>
<keyword>Stability</keyword>
<keyword>Sonoma County</keyword>
<keyword>Geology</keyword>
</searchKeys>
<dataChar>
<CharSetCd value="004"/>
</dataChar>
<idStatus>
<ProgCd value="001"/>
</idStatus>
<resMaint>
<maintFreq>
<MaintFreqCd value="012"/>
</maintFreq>
</resMaint>
<resConst>
<Consts>
<useLimit>&lt;div style='text-align:Left;'&gt;&lt;div&gt;&lt;p&gt;&lt;span&gt;None. However, users should be aware that temporal changes may have occurred since this map was originally produced and that some parts of this data may no longer represent actual surface conditions. Users should not use this data for critical applications without a full awareness of its limitations.&lt;/span&gt;&lt;/p&gt;&lt;/div&gt;&lt;/div&gt;</useLimit>
</Consts>
</resConst>
</dataIdInfo>
<mdLang>
<languageCode Sync="TRUE" value="eng"/>
<countryCode Sync="TRUE" value="USA"/>
</mdLang>
<mdChar>
<CharSetCd Sync="TRUE" value="004"/>
</mdChar>
<distInfo>
<distFormat>
<formatName Sync="TRUE">Raster Dataset</formatName>
</distFormat>
</distInfo>
<mdHrLv>
<ScopeCd Sync="TRUE" value="005"/>
</mdHrLv>
<mdHrLvName Sync="TRUE">dataset</mdHrLvName>
<refSysInfo>
<RefSystem>
<refSysID>
<identCode Sync="TRUE" code="3857"/>
<idCodeSpace Sync="TRUE">EPSG</idCodeSpace>
<idVersion Sync="TRUE">8.8(9.3.1.2)</idVersion>
</refSysID>
</RefSystem>
</refSysInfo>
<spatRepInfo>
<Georect>
<cellGeo>
<CellGeoCd Sync="TRUE" value="002"/>
</cellGeo>
<numDims Sync="TRUE">2</numDims>
<tranParaAv Sync="TRUE">1</tranParaAv>
<chkPtAv Sync="TRUE">0</chkPtAv>
<cornerPts>
<pos Sync="TRUE">-13752990.206630 4587524.323420</pos>
</cornerPts>
<cornerPts>
<pos Sync="TRUE">-13752990.206630 4701377.277051</pos>
</cornerPts>
<cornerPts>
<pos Sync="TRUE">-13619636.256158 4701377.277051</pos>
</cornerPts>
<cornerPts>
<pos Sync="TRUE">-13619636.256158 4587524.323420</pos>
</cornerPts>
<centerPt>
<pos Sync="TRUE">-13686313.231394 4644450.800235</pos>
</centerPt>
<axisDimension type="002">
<dimSize Sync="TRUE">13957</dimSize>
<dimResol>
<value Sync="TRUE" uom="m">9.554629</value>
</dimResol>
</axisDimension>
<axisDimension type="001">
<dimSize Sync="TRUE">11916</dimSize>
<dimResol>
<value Sync="TRUE" uom="m">9.554629</value>
</dimResol>
</axisDimension>
<ptInPixel>
<PixOrientCd Sync="TRUE" value="001"/>
</ptInPixel>
</Georect>
</spatRepInfo>
<contInfo>
<ImgDesc>
<contentTyp>
<ContentTypCd Sync="TRUE" value="001"/>
</contentTyp>
<covDim>
<Band>
<dimDescrp Sync="TRUE">Band_1</dimDescrp>
<bitsPerVal Sync="TRUE">32</bitsPerVal>
<valUnit>
<UOM gmlID="" type="length"/>
</valUnit>
</Band>
</covDim>
<trianInd>False</trianInd>
<radCalDatAv>False</radCalDatAv>
<camCalInAv>False</camCalInAv>
<filmDistInAv>False</filmDistInAv>
<lensDistInAv>False</lensDistInAv>
</ImgDesc>
</contInfo>
<mdDateSt Sync="TRUE">20201215</mdDateSt>
<eainfo>
<detailed>
<enttyp>
<enttypl>C</enttypl>
<enttypd>Areas of relatively unstable rock and soil units, on slopes greater than 15%, containing abundant landslides.</enttypd>
<enttypds>Landslide and Relative Slope Stability</enttypds>
<enttypt>Landslide</enttypt>
</enttyp>
</detailed>
<detailed>
<enttyp>
<enttypl>B</enttypl>
<enttypd>Areas of relatively stable rock and soil units, on slopes greater than 15%, containing few landslides</enttypd>
<enttypds>Landslide and Relative Slope Stability</enttypds>
<enttypt>Landslide</enttypt>
</enttyp>
</detailed>
<detailed>
<enttyp>
<enttypl>Bf</enttypl>
<enttypd>Locally level areas within hilly terrain; may be underlain or bounded by unstabel or potentially unstable rock materials.</enttypd>
<enttypds>Landslide and Relative Slope Stability</enttypds>
<enttypt>Landslide</enttypt>
</enttyp>
</detailed>
<detailed>
<enttyp>
<enttypl>A</enttypl>
<enttypd>Area of greatest relative stability due to low slope inclination - dominatly less than 15%.</enttypd>
<enttypds>Landslide and Relative Slope Stability</enttypds>
<enttypt>Landslide</enttypt>
</enttyp>
</detailed>
<detailed>
<enttyp>
<enttypl>?</enttypl>
<enttypt>Landslide Symbol</enttypt>
<enttypd>Possible Landslide</enttypd>
<enttypds>Landslide and Relative Slope Stability</enttypds>
</enttyp>
</detailed>
</eainfo>
</metadata>
