{
 "currentVersion": 11.3,
 "serviceDescription": " Landslides and relative slope stability - Sonoma County. Compiled by Charles F. Armstrong. Original map scale 1: 62,500, contour interval 200 feet. The base map used is an enlargement from a 1:125,000-scale published map.<\/span><\/p><\/div><\/div><\/div>",
 "name": "Rasters/USGS_Landslide_Relative_Slope_Stability_1980_WM",
 "description": "",
 "extent": {
  "xmin": -1.3752990206630064E7,
  "ymin": 4587524.323420038,
  "xmax": -1.3619636256158218E7,
  "ymax": 4701377.277050655,
  "spatialReference": {
   "wkid": 102100,
   "latestWkid": 3857
  }
 },
 "initialExtent": {
  "xmin": -1.3752990206630064E7,
  "ymin": 4587524.323420038,
  "xmax": -1.3619636256158218E7,
  "ymax": 4701377.277050655,
  "spatialReference": {
   "wkid": 102100,
   "latestWkid": 3857
  }
 },
 "fullExtent": {
  "xmin": -1.3752990206630064E7,
  "ymin": 4587524.323420038,
  "xmax": -1.3619636256158218E7,
  "ymax": 4701377.277050655,
  "spatialReference": {
   "wkid": 102100,
   "latestWkid": 3857
  }
 },
 "sortableFields": "MinPS,MaxPS,LowPS,HighPS,CenterX,CenterY,ZOrder,Shape_Length,Shape_Area",
 "bandCount": 3,
 "pixelType": "U8",
 "minValues": [],
 "maxValues": [],
 "meanValues": [],
 "stdvValues": [],
 "hasMultidimensions": false,
 "pixelSizeX": 9.55462853563419,
 "pixelSizeY": 9.55462853563418,
 "meanPixelSize": 9.554628535634185,
 "datasetFormat": "AFR",
 "uncompressedSize": 498899088,
 "blockWidth": 256,
 "blockHeight": 256,
 "compressionType": "None",
 "bandNames": [
  "Band_1",
  "Band_2",
  "Band_3"
 ],
 "allowCopy": true,
 "allowAnalysis": true,
 "itemAccess": false,
 "inspectionCapabilities": "",
 "minPixelSize": 0,
 "maxPixelSize": 0,
 "copyrightText": "Huffman, M.E., 1972, modified by Armstrong, C.F., 1974.Huffman, M.E., 1972, and Morton, D. M., unpublished.Huffman, M.E., 1973, and Morton. D. M., unpublished.Huffman, M.E., 1973, modified by Armstrong, C.F., 1974.Armstrong, C.F., aerial photo interpretation, 1974.Morton, D.M., unpublished, modified by Armstrong, C.F., 1974.Morton, D.M., unpublished, modified by Armstrong, C.F., 1974.Wentworth, C.W. 9 (a), unpublished, modified by Armstrong, C.F., 1974.Armstrong, C.F., aerial photo interpretation, 1974, and Sims, J.D., et al, 1973.Armstrong, C.F., aerial photo interpretation, 1974, and Fox, K.F. Jr., et al, 1973.Huffman, M.E., 1971, and Fox, K.F. Jr., et al, 1973, modified by Armstrong, C.F., 1974.Dwyer, M.J., 1974.Frenaye, T., unpublished, modified by Armstrong, C.F., 1974.",
 "serviceDataType": "esriImageServiceDataTypeRGB",
 "serviceSourceType": "esriImageServiceSourceTypeDataset",
 "objectIdField": "",
 "fields": [],
 "capabilities": "Mensuration,Image,Metadata",
 "defaultMosaicMethod": "Center",
 "allowedMosaicMethods": "",
 "sortField": "",
 "sortValue": null,
 "sortAscending": true,
 "mosaicOperator": "First",
 "defaultCompressionQuality": 75,
 "defaultResamplingMethod": "Bilinear",
 "maxImageHeight": 4100,
 "maxImageWidth": 15000,
 "allowRasterFunction": true,
 "rasterFunctionInfos": [
  {
   "name": "None",
   "description": "",
   "help": ""
  }
 ],
 "rasterTypeInfos": [
  {
   "name": "Raster Dataset",
   "description": "Supports all ArcGIS Raster Datasets",
   "help": ""
  }
 ],
 "mensurationCapabilities": "Basic",
 "hasHistograms": false,
 "hasColormap": false,
 "hasRasterAttributeTable": false,
 "minScale": 0,
 "maxScale": 0,
 "exportTilesAllowed": false,
 "supportsStatistics": false,
 "supportsAdvancedQueries": false,
 "editFieldsInfo": null,
 "ownershipBasedAccessControlForRasters": null,
 "allowComputeTiePoints": false,
 "useStandardizedQueries": true,
 "advancedQueryCapabilities": {
  "useStandardizedQueries": true,
  "supportsStatistics": false,
  "supportsOrderBy": false,
  "supportsDistinct": false,
  "supportsPagination": false
 },
 "spatialReference": {
  "wkid": 102100,
  "latestWkid": 3857
 }
}
