{
 "currentVersion": 11.3,
 "serviceDescription": "Sonoma Water analyzed 3-km downscaled climate projections for daily rainfall from 13 global circulation models (LOCA2. Pierce et.al., 2023) to produce gridded scalars. Those scalars were then applied to NOAA Atlas 14 precipitation frequency rasters for the 24-hour duration storm to produce this raster: the climate model mean of projected 24-hour rainfall depth in inches for mid-century (2046-2075), medium-high emissions scenario (SSP2-4.5), the 25-year storm. Raw data from LOCA2 (Scripps, 2023), CMIP6 (IPCC, 2021) for Sonoma County, Upper Russian River, and Upper Eel River watershed. For additional information, see the Technical Report at [https://www.sonomawater.org/media/PDF/climate/FutureRainfallDatabaseTechnicalReport.pdf].",
 "name": "SCWAClimatePublic/Y2060_SSP2_4pt5_25yr_Mean",
 "description": "Sonoma Water analyzed 3-km downscaled climate projections for daily rainfall from 13 global circulation models (LOCA2. Pierce et.al., 2023) to produce gridded scalars. Those scalars were then applied to NOAA Atlas 14 precipitation frequency rasters for the 24-hour duration storm to produce this raster: the climate model mean of projected 24-hour rainfall depth in inches for mid-century (2046-2075), medium-high emissions scenario (SSP2-4.5), the 25-year storm. Raw data from LOCA2 (Scripps, 2023), CMIP6 (IPCC, 2021) for Sonoma County, Upper Russian River, and Upper Eel River watershed. For additional information, see the Technical Report at [https://www.sonomawater.org/media/PDF/climate/FutureRainfallDatabaseTechnicalReport.pdf].",
 "extent": {
  "xmin": -123.5292049,
  "ymin": 38.095839600000005,
  "xmax": -122.3458763,
  "ymax": 39.712499799999996,
  "spatialReference": {
   "wkid": 4269,
   "latestWkid": 4269
  }
 },
 "initialExtent": {
  "xmin": -123.5292049,
  "ymin": 38.095839600000005,
  "xmax": -122.3458763,
  "ymax": 39.712499799999996,
  "spatialReference": {
   "wkid": 4269,
   "latestWkid": 4269
  }
 },
 "fullExtent": {
  "xmin": -123.5292049,
  "ymin": 38.095839600000005,
  "xmax": -122.3458763,
  "ymax": 39.712499799999996,
  "spatialReference": {
   "wkid": 4269,
   "latestWkid": 4269
  }
 },
 "sortableFields": "",
 "bandCount": 1,
 "pixelType": "F64",
 "minValues": [
  4.50944
 ],
 "maxValues": [
  16.993674
 ],
 "meanValues": [
  9.3670810372979
 ],
 "stdvValues": [
  1.6573549195422
 ],
 "hasMultidimensions": false,
 "pixelSizeX": 0.00833329999999997,
 "pixelSizeY": 0.008333299999999955,
 "meanPixelSize": 927.6587126275825,
 "datasetFormat": "TIFF",
 "uncompressedSize": 220384,
 "blockWidth": 128,
 "blockHeight": 128,
 "compressionType": "LZW",
 "bandNames": [
  "Band_1"
 ],
 "allowCopy": true,
 "allowAnalysis": true,
 "itemAccess": false,
 "inspectionCapabilities": "",
 "noDataValue": -1.7976931348623157E308,
 "noDataValues": [
  -1.7976931348623157E308
 ],
 "minPixelSize": 0,
 "maxPixelSize": 0,
 "copyrightText": "Sonoma Water - 404 Aviation Blvd Santa Rosa CA - Molly.Oshun@scwa.ca.gov (May 2024)",
 "serviceDataType": "esriImageServiceDataTypeGeneric",
 "serviceSourceType": "esriImageServiceSourceTypeDataset",
 "objectIdField": "",
 "fields": [],
 "capabilities": "Image,Metadata,Mensuration",
 "defaultMosaicMethod": "Center",
 "allowedMosaicMethods": "",
 "sortField": "",
 "sortValue": null,
 "sortAscending": true,
 "mosaicOperator": "First",
 "defaultCompressionQuality": 75,
 "defaultResamplingMethod": "Bilinear",
 "maxImageHeight": 4100,
 "maxImageWidth": 15000,
 "allowRasterFunction": true,
 "rasterFunctionInfos": [
  {
   "name": "None",
   "description": "",
   "help": ""
  }
 ],
 "rasterTypeInfos": [
  {
   "name": "Raster Dataset",
   "description": "Supports all ArcGIS Raster Datasets",
   "help": ""
  }
 ],
 "mensurationCapabilities": "Basic",
 "hasHistograms": true,
 "hasColormap": false,
 "hasRasterAttributeTable": false,
 "minScale": 0,
 "maxScale": 0,
 "exportTilesAllowed": false,
 "supportsStatistics": false,
 "supportsAdvancedQueries": false,
 "editFieldsInfo": null,
 "ownershipBasedAccessControlForRasters": null,
 "allowComputeTiePoints": false,
 "useStandardizedQueries": true,
 "advancedQueryCapabilities": {
  "useStandardizedQueries": true,
  "supportsStatistics": false,
  "supportsOrderBy": false,
  "supportsDistinct": false,
  "supportsPagination": false
 },
 "spatialReference": {
  "wkid": 4269,
  "latestWkid": 4269
 }
}
