{
 "currentVersion": 11.3,
 "serviceDescription": "Sonoma Water analyzed 3-km downscaled climate projections for daily rainfall from 13 global circulation models (LOCA2. Pierce et.al., 2023) to produce gridded scalars of the climate model mean for 24-hour rainfall for mid-century (2046-2075), high emissions scenario (SSP5-8.5), the 5-year storm. Raw data from LOCA2 (Scripps, 2023), CMIP6 (IPCC, 2021) for Sonoma County, Upper Russian River, and Upper Eel River watershed. For additional information, see the Technical Report at [https://www.sonomawater.org/media/PDF/climate/FutureRainfallDatabaseTechnicalReport.pdf].",
 "name": "SCWAClimatePublic/Y2060_SSP5_8pt5_5yr_Mean_Scalar_Raster",
 "description": "Sonoma Water analyzed 3-km downscaled climate projections for daily rainfall from 13 global circulation models (LOCA2. Pierce et.al., 2023) to produce gridded scalars of the climate model mean for 24-hour rainfall for mid-century (2046-2075), high emissions scenario (SSP5-8.5), the 5-year storm. Raw data from LOCA2 (Scripps, 2023), CMIP6 (IPCC, 2021) for Sonoma County, Upper Russian River, and Upper Eel River watershed. For additional information, see the Technical Report at [https://www.sonomawater.org/media/PDF/climate/FutureRainfallDatabaseTechnicalReport.pdf].",
 "extent": {
  "xmin": -123.562505,
  "ymin": 38.09375,
  "xmax": -122.343755,
  "ymax": 39.71875,
  "spatialReference": {
   "wkid": 4269,
   "latestWkid": 4269
  }
 },
 "initialExtent": {
  "xmin": -123.562505,
  "ymin": 38.09375,
  "xmax": -122.343755,
  "ymax": 39.71875,
  "spatialReference": {
   "wkid": 4269,
   "latestWkid": 4269
  }
 },
 "fullExtent": {
  "xmin": -123.562505,
  "ymin": 38.09375,
  "xmax": -122.343755,
  "ymax": 39.71875,
  "spatialReference": {
   "wkid": 4269,
   "latestWkid": 4269
  }
 },
 "sortableFields": "",
 "bandCount": 1,
 "pixelType": "F32",
 "minValues": [
  -0.059904471039772
 ],
 "maxValues": [
  0.25741150975227
 ],
 "meanValues": [
  0.097183400216707
 ],
 "stdvValues": [
  0.053016383134952
 ],
 "hasMultidimensions": false,
 "pixelSizeX": 0.03125,
 "pixelSizeY": 0.03125,
 "meanPixelSize": 3478.734087289799,
 "datasetFormat": "TIFF",
 "uncompressedSize": 8112,
 "blockWidth": 128,
 "blockHeight": 128,
 "compressionType": "LZW",
 "bandNames": [
  "Band_1"
 ],
 "allowCopy": true,
 "allowAnalysis": true,
 "itemAccess": false,
 "inspectionCapabilities": "",
 "noDataValue": -9999,
 "noDataValues": [
  -9999
 ],
 "minPixelSize": 0,
 "maxPixelSize": 0,
 "copyrightText": "Sonoma Water - 404 Aviation Blvd Santa Rosa CA - Molly.Oshun@scwa.ca.gov (May 2024)",
 "serviceDataType": "esriImageServiceDataTypeGeneric",
 "serviceSourceType": "esriImageServiceSourceTypeDataset",
 "objectIdField": "",
 "fields": [],
 "capabilities": "Image,Metadata,Mensuration",
 "defaultMosaicMethod": "Center",
 "allowedMosaicMethods": "",
 "sortField": "",
 "sortValue": null,
 "sortAscending": true,
 "mosaicOperator": "First",
 "defaultCompressionQuality": 75,
 "defaultResamplingMethod": "Bilinear",
 "maxImageHeight": 4100,
 "maxImageWidth": 15000,
 "allowRasterFunction": true,
 "rasterFunctionInfos": [
  {
   "name": "None",
   "description": "",
   "help": ""
  }
 ],
 "rasterTypeInfos": [
  {
   "name": "Raster Dataset",
   "description": "Supports all ArcGIS Raster Datasets",
   "help": ""
  }
 ],
 "mensurationCapabilities": "Basic",
 "hasHistograms": true,
 "hasColormap": false,
 "hasRasterAttributeTable": false,
 "minScale": 0,
 "maxScale": 0,
 "exportTilesAllowed": false,
 "supportsStatistics": false,
 "supportsAdvancedQueries": false,
 "editFieldsInfo": null,
 "ownershipBasedAccessControlForRasters": null,
 "allowComputeTiePoints": false,
 "useStandardizedQueries": true,
 "advancedQueryCapabilities": {
  "useStandardizedQueries": true,
  "supportsStatistics": false,
  "supportsOrderBy": false,
  "supportsDistinct": false,
  "supportsPagination": false
 },
 "spatialReference": {
  "wkid": 4269,
  "latestWkid": 4269
 }
}
