<?xml version="1.0" encoding="UTF-8" standalone="no"?>
<metadata xml:lang="en">
<Esri>
<CreaDate>2021-03-03</CreaDate>
<ArcGISFormat>1.0</ArcGISFormat>
<ArcGISstyle>FGDC CSDGM Metadata</ArcGISstyle>
<SyncOnce>FALSE</SyncOnce>
<DataProperties>
<itemProps>
<itemName Sync="TRUE">SCWA_RussianRiver_Lidar_Highest_Hit_2021</itemName>
<itemLocation>
<protocol Sync="TRUE">Local Area Network</protocol>
</itemLocation>
<imsContentType Sync="TRUE" export="False">002</imsContentType>
<nativeExtBox>
<westBL Sync="TRUE">6267597.000000</westBL>
<eastBL Sync="TRUE">6339507.000000</eastBL>
<southBL Sync="TRUE">1975758.000000</southBL>
<northBL Sync="TRUE">2074383.000000</northBL>
<exTypeCode Sync="TRUE">1</exTypeCode>
</nativeExtBox>
</itemProps>
<coordRef>
<type Sync="TRUE">Projected</type>
<geogcsn Sync="TRUE">GCS_NAD_1983_2011</geogcsn>
<csUnits Sync="TRUE">Linear Unit: Foot_US (0.304801)</csUnits>
<projcsn Sync="TRUE">NAD_1983_2011_StatePlane_California_II_FIPS_0402_Ft_US</projcsn>
<peXml Sync="TRUE">&lt;ProjectedCoordinateSystem xsi:type='typens:ProjectedCoordinateSystem' xmlns:xsi='http://www.w3.org/2001/XMLSchema-instance' xmlns:xs='http://www.w3.org/2001/XMLSchema' xmlns:typens='http://www.esri.com/schemas/ArcGIS/10.7'&gt;&lt;WKT&gt;PROJCS[&amp;quot;NAD_1983_2011_StatePlane_California_II_FIPS_0402_Ft_US&amp;quot;,GEOGCS[&amp;quot;GCS_NAD_1983_2011&amp;quot;,DATUM[&amp;quot;D_NAD_1983_2011&amp;quot;,SPHEROID[&amp;quot;GRS_1980&amp;quot;,6378137.0,298.257222101]],PRIMEM[&amp;quot;Greenwich&amp;quot;,0.0],UNIT[&amp;quot;Degree&amp;quot;,0.0174532925199433]],PROJECTION[&amp;quot;Lambert_Conformal_Conic&amp;quot;],PARAMETER[&amp;quot;False_Easting&amp;quot;,6561666.666666666],PARAMETER[&amp;quot;False_Northing&amp;quot;,1640416.666666667],PARAMETER[&amp;quot;Central_Meridian&amp;quot;,-122.0],PARAMETER[&amp;quot;Standard_Parallel_1&amp;quot;,38.33333333333334],PARAMETER[&amp;quot;Standard_Parallel_2&amp;quot;,39.83333333333334],PARAMETER[&amp;quot;Latitude_Of_Origin&amp;quot;,37.66666666666666],UNIT[&amp;quot;Foot_US&amp;quot;,0.3048006096012192],AUTHORITY[&amp;quot;EPSG&amp;quot;,6418]]&lt;/WKT&gt;&lt;XOrigin&gt;-115211800&lt;/XOrigin&gt;&lt;YOrigin&gt;-93821500&lt;/YOrigin&gt;&lt;XYScale&gt;36983428.057351544&lt;/XYScale&gt;&lt;ZOrigin&gt;-100000&lt;/ZOrigin&gt;&lt;ZScale&gt;10000&lt;/ZScale&gt;&lt;MOrigin&gt;-100000&lt;/MOrigin&gt;&lt;MScale&gt;10000&lt;/MScale&gt;&lt;XYTolerance&gt;0.0032808333333333331&lt;/XYTolerance&gt;&lt;ZTolerance&gt;0.001&lt;/ZTolerance&gt;&lt;MTolerance&gt;0.001&lt;/MTolerance&gt;&lt;HighPrecision&gt;true&lt;/HighPrecision&gt;&lt;WKID&gt;103004&lt;/WKID&gt;&lt;LatestWKID&gt;6418&lt;/LatestWKID&gt;&lt;/ProjectedCoordinateSystem&gt;</peXml>
</coordRef>
<RasterProperties>
<General>
<PixelDepth Sync="TRUE">32</PixelDepth>
<HasColormap Sync="TRUE">FALSE</HasColormap>
<CompressionType Sync="TRUE">None</CompressionType>
<NumBands Sync="TRUE">1</NumBands>
<Format Sync="TRUE">AMD</Format>
<HasPyramids Sync="TRUE">TRUE</HasPyramids>
<SourceType Sync="TRUE">continuous</SourceType>
<PixelType Sync="TRUE">floating point</PixelType>
<NoDataValue Sync="TRUE"/>
</General>
<Properties>
<MaxImageHeight Sync="TRUE">4100</MaxImageHeight>
<MaxImageWidth Sync="TRUE">15000</MaxImageWidth>
<MaxRecordCount Sync="TRUE">1000</MaxRecordCount>
<MaxDownloadImageCount Sync="TRUE">20</MaxDownloadImageCount>
<MaxDownloadSizeLimit Sync="TRUE">2048</MaxDownloadSizeLimit>
<MaxMosaicImageCount Sync="TRUE">20</MaxMosaicImageCount>
<DefaultCompressionQuality Sync="TRUE">75</DefaultCompressionQuality>
<DefaultCompressionTolerance Sync="TRUE">0.01</DefaultCompressionTolerance>
<BlendWidth Sync="TRUE">10</BlendWidth>
<ViewpointSpacingX Sync="TRUE">600</ViewpointSpacingX>
<ViewpointSpacingY Sync="TRUE">300</ViewpointSpacingY>
<AllowedItemMetadata Sync="TRUE">Basic</AllowedItemMetadata>
<DefaultResamplingMethod Sync="TRUE">1</DefaultResamplingMethod>
<AllowedMosaicMethods Sync="TRUE">NorthWest,Center,LockRaster,ByAttribute,Nadir,Viewpoint,Seamline,None</AllowedMosaicMethods>
<AllowedCompressions Sync="TRUE">None,JPEG,LZ77,LERC</AllowedCompressions>
<AllowedMensurationCapabilities Sync="TRUE">Basic</AllowedMensurationCapabilities>
<AvailableMensurationCapabilities Sync="TRUE">None,Basic,Base-Top Height,Top-Top Shadow Height,Base-Top Shadow Height,3D</AvailableMensurationCapabilities>
<ClipToBoundary Sync="TRUE">-1</ClipToBoundary>
<FootprintMayContainNoData Sync="TRUE">-1</FootprintMayContainNoData>
<CellSizeTolerance Sync="TRUE">0.8</CellSizeTolerance>
<MinimumPixelContribution Sync="TRUE">1</MinimumPixelContribution>
<AvailableMosaicMethods Sync="TRUE">NorthWest,Center,LockRaster,ByAttribute,Nadir,Viewpoint,Seamline,None</AvailableMosaicMethods>
<AvailableCompressionMethods Sync="TRUE">None,JPEG,LZ77,LERC</AvailableCompressionMethods>
<AvailableItemMetadataLevels Sync="TRUE">None,Basic,Full</AvailableItemMetadataLevels>
<BandDefinitionKeyword Sync="TRUE">NONE</BandDefinitionKeyword>
<_docversion_ Sync="TRUE">10</_docversion_>
<AllowedFields Sync="TRUE">Name,MinPS,MaxPS,LowPS,HighPS,Tag,GroupName,ProductName,CenterX,CenterY,ZOrder,Shape_Length,Shape_Area</AllowedFields>
<MaxCellSize Sync="TRUE">36450</MaxCellSize>
<LowCellSize Sync="TRUE">3</LowCellSize>
<HighCellSize Sync="TRUE">729</HighCellSize>
<ApplyColorCorrection Sync="TRUE">0</ApplyColorCorrection>
</Properties>
<Functions Sync="TRUE">
<Function Description="Performs on-the-fly mosaic on a raster catalog." Name="Mosaic Function"/>
</Functions>
</RasterProperties>
</DataProperties>
<SyncDate>20221205</SyncDate>
<SyncTime>11444800</SyncTime>
<ModDate>20221205</ModDate>
<ModTime>11444800</ModTime>
<scaleRange>
<minScale>150000000</minScale>
<maxScale>5000</maxScale>
</scaleRange>
<ArcGISProfile>FGDC</ArcGISProfile>
</Esri>
<dataIdInfo>
<envirDesc Sync="TRUE"> Version 6.2 (Build 9200) ; Esri ArcGIS 10.7.1.11595</envirDesc>
<dataLang>
<languageCode Sync="TRUE" value="eng"/>
<countryCode Sync="TRUE" value="USA"/>
</dataLang>
<idCitation>
<resTitle Sync="FALSE">SCWA_RussianRiver_Lidar_Highest_Hit_2021</resTitle>
<presForm>
<PresFormCd Sync="TRUE" value="005"/>
<fgdcGeoform>raster digital data</fgdcGeoform>
</presForm>
<citRespParty>
<rpOrgName>NV5 Geospatial</rpOrgName>
<rpCntInfo>
<cntAddress addressType="both">
<delPoint>1100 Circle Blvd. Suite 126</delPoint>
<city>Corvallis</city>
<adminArea>OR</adminArea>
<postCode>97330</postCode>
<country>US</country>
</cntAddress>
<cntPhone>
<voiceNum tddtty="">541-752-1204</voiceNum>
</cntPhone>
<cntOnlineRes>
<linkage>http://www.quantumspatial.com</linkage>
</cntOnlineRes>
</rpCntInfo>
<displayName>NV5 Geospatial</displayName>
<role>
<RoleCd value="006"/>
</role>
</citRespParty>
<date>
<pubDate>2021-01-23T00:00:00</pubDate>
</date>
</idCitation>
<spatRpType>
<SpatRepTypCd Sync="TRUE" value="002"/>
</spatRpType>
<dataExt>
<geoEle>
<GeoBndBox esriExtentType="search">
<exTypeCode Sync="TRUE">1</exTypeCode>
<westBL Sync="TRUE">-123.032682</westBL>
<eastBL Sync="TRUE">-122.777208</eastBL>
<northBL Sync="TRUE">38.855642</northBL>
<southBL Sync="TRUE">38.582878</southBL>
</GeoBndBox>
</geoEle>
<exDesc>Russian River Lidar</exDesc>
<tempEle>
<TempExtent>
<exTemp>
<TM_Period>
<tmBegin>2021-01-23</tmBegin>
<tmEnd>2021-01-23</tmEnd>
</TM_Period>
</exTemp>
</TempExtent>
</tempEle>
</dataExt>
<idPurp>Provide high resolution surface elevation data from the Russian River dataset.</idPurp>
<idAbs>&lt;div style='text-align:Left;'&gt;&lt;div&gt;&lt;div&gt;&lt;p&gt;&lt;span&gt;The highest hit digital surface model (DSM) represents the earth's surface elevation with all natural and anthropogenic features included. It was derived from NIR Lidar data using the highest hit method. Some elevation values have been interpolated across areas in the ground model where there is no elevation data (e.g. over water). The horizontal datum for this dataset is NAD83 (2011), the vertical datum is NAVD88, Geoid 18, and the data is projected in California State Plane, Zone 2. Units are in US Survey Feet. NV5 Geospatial collected the Russian River Lidar data for Sonoma County Water Agency on 01/23/2021.&lt;/span&gt;&lt;/p&gt;&lt;/div&gt;&lt;/div&gt;&lt;/div&gt;</idAbs>
<idCredit>Sonoma County Water Agency</idCredit>
<searchKeys>
<keyword>Lidar</keyword>
<keyword>Light detection and ranging</keyword>
<keyword>highest hit</keyword>
<keyword>digital surface model</keyword>
<keyword>DSM</keyword>
<keyword>vegetation</keyword>
<keyword>anthropogenic structures</keyword>
<keyword>Sonoma County</keyword>
<keyword>California</keyword>
<keyword>Healdsburg</keyword>
<keyword>Geyserville</keyword>
<keyword>Cloverdale</keyword>
</searchKeys>
<themeKeys>
<keyword>Lidar</keyword>
<keyword>Light detection and ranging</keyword>
<keyword>highest hit</keyword>
<keyword>vegetation</keyword>
<keyword>anthropogenic structures</keyword>
<keyword>digital surface model</keyword>
<keyword>DSM</keyword>
</themeKeys>
<placeKeys>
<keyword>Sonoma County</keyword>
<keyword>California</keyword>
<keyword>Healdsburg, Geyserville, Cloverdale</keyword>
</placeKeys>
<dataChar>
<CharSetCd value="004"/>
</dataChar>
<dataScale>
<scaleDist>
<value uom="ft_us">3</value>
</scaleDist>
</dataScale>
<suppInfo>This data is assembled by 2250 x 2550 US survey foot tiles and projected in California State Plane, Zone 2.</suppInfo>
<idStatus>
<ProgCd value="001"/>
</idStatus>
<idPoC>
<rpIndName>Carlos Diaz</rpIndName>
<rpOrgName>Sonoma County Water Agency</rpOrgName>
<rpCntInfo>
<cntAddress addressType="postal">
<delPoint>404 Aviation Blvd</delPoint>
<city>Santa Rosa</city>
<adminArea>California</adminArea>
<postCode>95403</postCode>
<country>US</country>
</cntAddress>
<cntPhone>
<voiceNum tddtty="">707-547-1956</voiceNum>
</cntPhone>
</rpCntInfo>
<displayName>Carlos Diaz</displayName>
<role>
<RoleCd value="007"/>
</role>
</idPoC>
<resMaint>
<maintFreq>
<MaintFreqCd value="011"/>
</maintFreq>
</resMaint>
<resConst>
<LegConsts>
<useLimit>Please contact Sonoma County Water Agency for information regarding the use of this data.</useLimit>
</LegConsts>
<Consts>
<useLimit>&lt;div style='text-align:Left;'&gt;&lt;div&gt;&lt;div&gt;&lt;p&gt;&lt;span&gt;Elevation values for open water surfaces should be considered approximate due to the increase of laser noise seen over water, frequent lack of returns, and the overall dynamic nature of water.&lt;/span&gt;&lt;/p&gt;&lt;p style='text-align:Justify;font-weight:bold;margin:8 0 8 0;'&gt;&lt;span&gt;&lt;span&gt;SUBJECT: PUBLIC INFORMATION REQUEST &lt;/span&gt;&lt;/span&gt;&lt;span&gt;&lt;span&gt;–&lt;/span&gt;&lt;/span&gt;&lt;span&gt;&lt;span&gt;LiDAR Data&lt;/span&gt;&lt;/span&gt;&lt;/p&gt;&lt;p style='text-align:Justify;margin:8 0 8 0;'&gt;&lt;span&gt;&lt;span&gt;The attached information was retrieved from Sonoma County Water Agency CAD-Drafting/GIS Records in connection with a Request for Public Information. These records and the drawings upon which they are based, were produced or conducted solely for the technical and/or functional needs and purposes of the Sonoma County Water Agency and/or other entities which it now acts, or may have acted on behalf of in the past. &lt;/span&gt;&lt;/span&gt;&lt;/p&gt;&lt;p style='text-align:Justify;margin:8 0 8 0;'&gt;&lt;span&gt;&lt;span&gt;The Sonoma County Water Agency makes no assertions or representations regarding the sufficiency, accuracy or applicability of the information and/or records provided for any purpose beyond that for which they were originally produced.&lt;/span&gt;&lt;/span&gt;&lt;/p&gt;&lt;p style='text-align:Justify;margin:8 0 8 0;'&gt;&lt;span&gt;&lt;span&gt;The information contained herein is for the use and information of the party to whom it was directly sent. The redis&lt;/span&gt;&lt;/span&gt;&lt;span&gt;&lt;span&gt;tribution or “sharing”&lt;/span&gt;&lt;/span&gt;&lt;span&gt;&lt;span&gt;of this information is strictly prohibited. &lt;/span&gt;&lt;/span&gt;&lt;/p&gt;&lt;p&gt;&lt;span /&gt;&lt;/p&gt;&lt;/div&gt;&lt;/div&gt;&lt;/div&gt;</useLimit>
</Consts>
</resConst>
<tpCat>
<TopicCatCd value="006"/>
</tpCat>
</dataIdInfo>
<mdLang>
<languageCode Sync="TRUE" value="eng"/>
<countryCode Sync="TRUE" value="USA"/>
</mdLang>
<mdChar>
<CharSetCd Sync="TRUE" value="004"/>
</mdChar>
<distInfo>
<distFormat>
<formatName Sync="TRUE">Raster Dataset</formatName>
<formatVer>1</formatVer>
</distFormat>
<distributor>
<distorCont>
<rpIndName>Carlos Diaz</rpIndName>
<rpOrgName>Sonoma County Water Agency</rpOrgName>
<role>
<RoleCd value="005"/>
</role>
<rpCntInfo>
<cntAddress addressType="postal">
<delPoint>404 Aviation Blvd</delPoint>
<city>Santa Rosa</city>
<adminArea>California</adminArea>
<postCode>95403</postCode>
<country>US</country>
</cntAddress>
<cntPhone>
<voiceNum tddtty="">707-547-1956</voiceNum>
</cntPhone>
</rpCntInfo>
</distorCont>
</distributor>
</distInfo>
<mdHrLv>
<ScopeCd Sync="TRUE" value="005"/>
</mdHrLv>
<mdHrLvName Sync="TRUE">dataset</mdHrLvName>
<refSysInfo>
<RefSystem>
<refSysID>
<identCode Sync="TRUE" code="6418"/>
<idCodeSpace Sync="TRUE">EPSG</idCodeSpace>
<idVersion Sync="TRUE">8.9.3(10.3.1)</idVersion>
</refSysID>
</RefSystem>
</refSysInfo>
<spatRepInfo>
<Georect>
<cellGeo>
<CellGeoCd Sync="TRUE" value="002"/>
</cellGeo>
<numDims Sync="TRUE">2</numDims>
<tranParaAv Sync="TRUE">1</tranParaAv>
<chkPtAv Sync="TRUE">0</chkPtAv>
<cornerPts>
<pos Sync="TRUE">6267597.000000 1975758.000000</pos>
</cornerPts>
<cornerPts>
<pos Sync="TRUE">6267597.000000 2074383.000000</pos>
</cornerPts>
<cornerPts>
<pos Sync="TRUE">6339507.000000 2074383.000000</pos>
</cornerPts>
<cornerPts>
<pos Sync="TRUE">6339507.000000 1975758.000000</pos>
</cornerPts>
<centerPt>
<pos Sync="TRUE">6303552.000000 2025070.500000</pos>
</centerPt>
<axisDimension type="002">
<dimSize Sync="TRUE">23970</dimSize>
<dimResol>
<value Sync="TRUE" uom="ftUS">3.000000</value>
</dimResol>
</axisDimension>
<axisDimension type="001">
<dimSize Sync="TRUE">32875</dimSize>
<dimResol>
<value Sync="TRUE" uom="ftUS">3.000000</value>
</dimResol>
</axisDimension>
<ptInPixel>
<PixOrientCd Sync="TRUE" value="001"/>
</ptInPixel>
</Georect>
</spatRepInfo>
<contInfo>
<ImgDesc>
<contentTyp>
<ContentTypCd Sync="TRUE" value="001"/>
</contentTyp>
<covDim>
<Band>
<dimDescrp Sync="TRUE">Band_1</dimDescrp>
<maxVal Sync="TRUE">1088.296753</maxVal>
<minVal Sync="TRUE">60.081306</minVal>
<bitsPerVal Sync="TRUE">32</bitsPerVal>
<valUnit>
<UOM gmlID="" type="length">
<unitSymbol>ft_us</unitSymbol>
</UOM>
</valUnit>
<seqID>
<aName>elevation</aName>
</seqID>
</Band>
</covDim>
<attDesc>Digital Surface Model</attDesc>
<trianInd>False</trianInd>
<radCalDatAv>False</radCalDatAv>
<camCalInAv>False</camCalInAv>
<filmDistInAv>False</filmDistInAv>
<lensDistInAv>False</lensDistInAv>
</ImgDesc>
</contInfo>
<mdDateSt Sync="FALSE">2021-03-03</mdDateSt>
<mdContact>
<rpOrgName>NV5 Geospatial</rpOrgName>
<rpCntInfo>
<cntAddress addressType="both">
<delPoint>1100 Circle Blvd. Suite 126</delPoint>
<city>Corvallis</city>
<adminArea>OR</adminArea>
<postCode>97330</postCode>
<country>US</country>
</cntAddress>
<cntPhone>
<voiceNum tddtty="">541-752-1204</voiceNum>
</cntPhone>
<cntOnlineRes>
<linkage>http://www.quantumspatial.com</linkage>
</cntOnlineRes>
</rpCntInfo>
<displayName>NV5 Geospatial</displayName>
<role>
<RoleCd value="006"/>
</role>
<displayName>NV5 Geospatial</displayName>
</mdContact>
<mdMaint>
<maintFreq>
<MaintFreqCd value="011"/>
</maintFreq>
</mdMaint>
<dqInfo>
<report dimension="" type="DQCompOm">
<measDesc>Lidar data has been collected and processed for all areas within the project study area.</measDesc>
<evalMethDesc>Flight plans are designed with sufficient sidelap to ensure there are no gaps between flightlines. Shaded relief images have been visually inspected for gaps. </evalMethDesc>
</report>
<report dimension="" type="DQConcConsis">
<measDesc>Shaded relief images have been visually inspected for data errors such as pits, border artifacts, and shifting. Lidar flightlines have been examined to ensure consistent elevation values across overlapping flightlines. The Root Mean Square Error (RMSE) of line to line relative accuracy for this dataset is 0.045 ft (0.014 m). Please see the Lidar data report for a discussion of the statistics related to this dataset.</measDesc>
<evalMethDesc>Data was examined at a 1:2000 scale. Relative accuracy of the flightlines was assessed in Microstation using TerraMatch. </evalMethDesc>
<measResult>
<QuanResult>
<quanValType>RMSE</quanValType>
<quanValUnit>
<UOM gmlID="" type="">
<unitSymbol>ft_us</unitSymbol>
</UOM>
</quanValUnit>
<quanVal>0.045 ft (0.014 m)</quanVal>
</QuanResult>
</measResult>
</report>
<report dimension="vertical" type="DQAbsExtPosAcc">
<measDesc>The Non-vegetated Vertical Accuracy (NVA) of this dataset, tested at 95% confidence level is 0.223 ft (0.068 m). Please see the Lidar data report for a discussion of the statistics related to this dataset.</measDesc>
<evalMethDesc>Non-vegetated Vertical Accuracy was assessed using 22 ground check points. These check points were not used in the calibration or post processing of the Lidar point cloud data. </evalMethDesc>
<measResult>
<QuanResult>
<quanValType>NVA</quanValType>
<quanValUnit>
<UOM gmlID="" type="">
<unitSymbol>ft_us</unitSymbol>
</UOM>
</quanValUnit>
<quanVal>0.223 ft (0.068 m)</quanVal>
</QuanResult>
</measResult>
</report>
<report dimension="vertical" type="DQAbsExtPosAcc">
<measDesc>The Vegetated Vertical Accuracy (VVA) of this dataset, evaluated at the 95th percentile is 0.480 ft (0.146 m). Please see the Lidar data report for a discussion of the statistics related to this dataset.</measDesc>
<evalMethDesc>Vegetated Vertical Accuracy was assessed using 29 VVA check points. These check points were not used in the calibration or post processing of the Lidar point cloud data. </evalMethDesc>
<measResult>
<QuanResult>
<quanValType>VVA</quanValType>
<quanValUnit>
<UOM gmlID="" type="">
<unitSymbol>ft_us</unitSymbol>
</UOM>
</quanValUnit>
<quanVal>0.480 ft (0.146 m)</quanVal>
</QuanResult>
</measResult>
</report>
<dataLineage>
<prcStep>
<stepDesc>Acquisition. NV5 Geospatial collected the Russian River Lidar data on 01/23/2021. The survey used a Riegl 1560i laser system mounted in a Cessna Caravan. Ground level GPS and aircraft IMU were collected during the flight. Sensor: Riegl 1560i
Maximum returns: 15
Nominal pulse density: ≥ 15 pulses/m^2
Nominal pulse spacing: 0.26 m
AGL: 1,578 m
Speed: 145 knots
FOV: 58.5°
Scan frequency: Uniform Point Spacing
Pulse rate: 1,000 kHz
Pulse duration: 3 ns
Pulse width: 28.4 cm
Wavelength: 1,064 nm
Pulses in air mode: Multiple Times Around
Beam divergence: 0.18 mrads
Swath width: 4,611 m
Overlap: 55%
</stepDesc>
<stepDateTm>2021-01-23</stepDateTm>
</prcStep>
<prcStep>
<stepDesc>1. Flightlines and data were reviewed to ensure complete coverage of the study area and positional accuracy of the laser points. 2. Laser point return coordinates were computed using POSpac MMS v.8.4 and RiProcess v1.8.5 software based on independent data from the Lidar system, IMU, and aircraft. 3. The raw Lidar file was assembled into flightlines per return with each point having an associated x, y, and z coordinate. 4. Visual inspection of swath to swath laser point consistencies within the study area were used to perform manual refinements of system alignment. 5. Custom algorithms were designed to evaluate points between adjacent flightlines. Automated system alignment was computed based upon randomly selected swath to swath accuracy measurements that consider elevation, slope, and intensities. Specifically, refinement in the combination of system pitch, roll, and yaw offset parameters optimize internal consistency. 6. Noise (e.g., pits and birds) was filtered using post-processing software, based on known elevation ranges and included the removal of any cycle slips. 7. Using TerraScan and Microstation, ground classifications utilized custom settings appropriate to the study area. 8. The corrected and filtered return points were compared to the ground survey points collected to verify the vertical accuracy. 9. The highest hit algorithm was used to create this highest hit DSM.</stepDesc>
<stepDateTm>2021-03-03</stepDateTm>
</prcStep>
</dataLineage>
<dqScope>
<scpLvl>
<ScopeCd value="005"/>
</scpLvl>
</dqScope>
<report dimension="vertical" type="DQAbsExtPosAcc">
<measDesc>Vertical accuracy was also assessed using ground control points that were used in the calibration and post processing of the Lidar point cloud as they still serve as a good indication of the overall accuracy of the Lidar dataset. The Root Mean Square Error (RMSE) of the vertical accuracy of the Lidar dataset as compared to ground control points is 0.1 ft (0.03 m). Please see the Lidar data report for a discussion of the statistics related to this dataset.</measDesc>
<evalMethDesc>12 ground control points were collected and utilized in the calibration and post processing of the Lidar data point cloud.</evalMethDesc>
<measResult>
<QuanResult>
<quanValType>RMSE</quanValType>
<quanVal>0.1 ft (0.03 m)</quanVal>
<quanValUnit>
<UOM gmlID="" type="">
<unitSymbol>ft_us</unitSymbol>
</UOM>
</quanValUnit>
</QuanResult>
</measResult>
</report>
</dqInfo>
</metadata>
