{
 "currentVersion": 11.3,
 "serviceDescription": " The topo bathymetric bare earth digital elevation model (DEM) represents the earth's surface with all water, vegetation and anthropogenic features removed. It was derived from Green and NIR Lidar data using TIN processing of the ground and bathymetric bottom point returns. This version of the topo bathymetric model has not been clipped. Areas of bathymetric voids were triangulated from the nearest bathymetric returns. Users should be aware that bathymetric voids can indicate deeper areas beyond the penetration capabilities of the laser and view these as low confidence areas. A bathymetric coverage polygon has been provided as a separate deliverable indicating where there was a lack of bathymetric returns. The horizontal datum for this dataset is NAD83 (2011), the vertical datum is NAVD88, Geoid 18, and the data is projected in California State Plane, Zone 2. Units are in US Survey Feet. NV5 Geospatial collected the Sonoma Creek Topo bathymetric Lidar data for Sonoma Water between 02/04/2021 and 02/06/2021.<\/span><\/p><\/div><\/div><\/div>",
 "name": "SCWAPublic/SCWA_SonomaCreek_Lidar_BareEarth_DEM_2021",
 "description": "",
 "extent": {
  "xmin": 6392151,
  "ymin": 1845231,
  "xmax": 6444024,
  "ymax": 1925532,
  "spatialReference": {
   "wkid": 103004,
   "latestWkid": 6418
  }
 },
 "initialExtent": {
  "xmin": 6392151,
  "ymin": 1845231,
  "xmax": 6444024,
  "ymax": 1925532,
  "spatialReference": {
   "wkid": 103004,
   "latestWkid": 6418
  }
 },
 "fullExtent": {
  "xmin": 6392151,
  "ymin": 1845231,
  "xmax": 6444024,
  "ymax": 1925532,
  "spatialReference": {
   "wkid": 103004,
   "latestWkid": 6418
  }
 },
 "sortableFields": "",
 "bandCount": 1,
 "pixelType": "F32",
 "minValues": [
  -0.27000001072884
 ],
 "maxValues": [
  1244.1999511719
 ],
 "meanValues": [
  254.86724182029
 ],
 "stdvValues": [
  198.78428051527
 ],
 "hasMultidimensions": false,
 "pixelSizeX": 3,
 "pixelSizeY": 3,
 "meanPixelSize": 0.9144018288036577,
 "datasetFormat": "TIFF",
 "uncompressedSize": 1851312788,
 "blockWidth": 128,
 "blockHeight": 128,
 "compressionType": "LZW",
 "bandNames": [
  "Band_1"
 ],
 "allowCopy": false,
 "allowAnalysis": true,
 "itemAccess": false,
 "inspectionCapabilities": "",
 "noDataValue": -999999,
 "noDataValues": [
  -999999
 ],
 "minPixelSize": 0,
 "maxPixelSize": 0,
 "copyrightText": "Sonoma Water",
 "serviceDataType": "esriImageServiceDataTypeGeneric",
 "serviceSourceType": "esriImageServiceSourceTypeDataset",
 "objectIdField": "",
 "fields": [],
 "capabilities": "Mensuration,Image,Metadata",
 "defaultMosaicMethod": "Center",
 "allowedMosaicMethods": "",
 "sortField": "",
 "sortValue": null,
 "sortAscending": true,
 "mosaicOperator": "First",
 "defaultCompressionQuality": 75,
 "defaultResamplingMethod": "Bilinear",
 "maxImageHeight": 4100,
 "maxImageWidth": 15000,
 "allowRasterFunction": true,
 "rasterFunctionInfos": [
  {
   "name": "None",
   "description": "",
   "help": ""
  }
 ],
 "rasterTypeInfos": [
  {
   "name": "Raster Dataset",
   "description": "Supports all ArcGIS Raster Datasets",
   "help": ""
  }
 ],
 "mensurationCapabilities": "Basic",
 "hasHistograms": true,
 "hasColormap": false,
 "hasRasterAttributeTable": false,
 "minScale": 0,
 "maxScale": 0,
 "exportTilesAllowed": false,
 "supportsStatistics": false,
 "supportsAdvancedQueries": false,
 "editFieldsInfo": null,
 "ownershipBasedAccessControlForRasters": null,
 "allowComputeTiePoints": false,
 "useStandardizedQueries": true,
 "advancedQueryCapabilities": {
  "useStandardizedQueries": true,
  "supportsStatistics": false,
  "supportsOrderBy": false,
  "supportsDistinct": false,
  "supportsPagination": false
 },
 "spatialReference": {
  "wkid": 103004,
  "latestWkid": 6418
 },
 "resampling": false
}
