{
 "currentVersion": 11.3,
 "serviceDescription": " The highest hit digital surface model (DSM) represents the earth's surface elevation with all natural and anthropogenic features included. It was derived from integrated NIR and Green lidar data using the highest hit method. Some elevation values have been interpolated across areas in the ground model where there is no elevation data (e.g. over water). The horizontal datum for this dataset is NAD83 (2011), the vertical datum is NAVD88, Geoid 18, and the data is projected in California State Plane, Zone 2. Units are in US Survey Feet. NV5 Geospatial collected the Sonoma Creek Topo bathymetric Lidar data for Sonoma Water between 02/04/2021 and 02/06/2021.<\/SPAN><\/P><\/DIV><\/DIV><\/DIV>",
 "name": "SCWAPublic/SCWA_SonomaCreek_Lidar_Highest_Hit_2021",
 "description": "",
 "extent": {
  "xmin": 6392151,
  "ymin": 1845231,
  "xmax": 6444024,
  "ymax": 1925532,
  "spatialReference": {
   "wkid": 103004,
   "latestWkid": 6418
  }
 },
 "initialExtent": {
  "xmin": 6392151,
  "ymin": 1845231,
  "xmax": 6444024,
  "ymax": 1925532,
  "spatialReference": {
   "wkid": 103004,
   "latestWkid": 6418
  }
 },
 "fullExtent": {
  "xmin": 6392151,
  "ymin": 1845231,
  "xmax": 6444024,
  "ymax": 1925532,
  "spatialReference": {
   "wkid": 103004,
   "latestWkid": 6418
  }
 },
 "sortableFields": "",
 "bandCount": 1,
 "pixelType": "F32",
 "minValues": [
  0.25999999046326
 ],
 "maxValues": [
  1375.3599853516
 ],
 "meanValues": [
  268.44091577203
 ],
 "stdvValues": [
  205.62001296608
 ],
 "hasMultidimensions": false,
 "pixelSizeX": 3,
 "pixelSizeY": 3,
 "meanPixelSize": 0.9144018288036577,
 "datasetFormat": "TIFF",
 "uncompressedSize": 1851312788,
 "blockWidth": 128,
 "blockHeight": 128,
 "compressionType": "LZW",
 "bandNames": [
  "Band_1"
 ],
 "allowCopy": false,
 "allowAnalysis": true,
 "itemAccess": false,
 "inspectionCapabilities": "",
 "noDataValue": -999999,
 "noDataValues": [
  -999999
 ],
 "minPixelSize": 0,
 "maxPixelSize": 0,
 "copyrightText": "Sonoma Water",
 "serviceDataType": "esriImageServiceDataTypeGeneric",
 "serviceSourceType": "esriImageServiceSourceTypeDataset",
 "objectIdField": "",
 "fields": [],
 "capabilities": "Mensuration,Image,Metadata",
 "defaultMosaicMethod": "Center",
 "allowedMosaicMethods": "",
 "sortField": "",
 "sortValue": null,
 "sortAscending": true,
 "mosaicOperator": "First",
 "defaultCompressionQuality": 75,
 "defaultResamplingMethod": "Bilinear",
 "maxImageHeight": 4100,
 "maxImageWidth": 15000,
 "allowRasterFunction": true,
 "rasterFunctionInfos": [
  {
   "name": "None",
   "description": "",
   "help": ""
  }
 ],
 "rasterTypeInfos": [
  {
   "name": "Raster Dataset",
   "description": "Supports all ArcGIS Raster Datasets",
   "help": ""
  }
 ],
 "mensurationCapabilities": "Basic",
 "hasHistograms": true,
 "hasColormap": false,
 "hasRasterAttributeTable": false,
 "minScale": 0,
 "maxScale": 0,
 "exportTilesAllowed": false,
 "supportsStatistics": false,
 "supportsAdvancedQueries": false,
 "editFieldsInfo": null,
 "ownershipBasedAccessControlForRasters": null,
 "allowComputeTiePoints": false,
 "useStandardizedQueries": true,
 "advancedQueryCapabilities": {
  "useStandardizedQueries": true,
  "supportsStatistics": false,
  "supportsOrderBy": false,
  "supportsDistinct": false,
  "supportsPagination": false
 },
 "spatialReference": {
  "wkid": 103004,
  "latestWkid": 6418
 },
 "resampling": false
}
