<?xml version="1.0" encoding="UTF-8" standalone="no"?>
<metadata xml:lang="en">
<Esri>
<CreaDate>20221210</CreaDate>
<ArcGISFormat>1.0</ArcGISFormat>
<ArcGISstyle>FGDC CSDGM Metadata</ArcGISstyle>
<SyncOnce>FALSE</SyncOnce>
<DataProperties>
<itemProps>
<itemName Sync="TRUE">SCWA_SonomaCreek_Lidar_Intensity_Bath_2021.tif</itemName>
<itemLocation>
<protocol Sync="TRUE">Local Area Network</protocol>
</itemLocation>
<imsContentType Sync="TRUE" export="False">002</imsContentType>
<nativeExtBox>
<westBL Sync="TRUE">6392154.000000</westBL>
<eastBL Sync="TRUE">6444024.000000</eastBL>
<southBL Sync="TRUE">1845000.000000</southBL>
<northBL Sync="TRUE">1925532.000000</northBL>
<exTypeCode Sync="TRUE">1</exTypeCode>
</nativeExtBox>
</itemProps>
<coordRef>
<type Sync="TRUE">Projected</type>
<geogcsn Sync="TRUE">GCS_NAD_1983_2011</geogcsn>
<csUnits Sync="TRUE">Linear Unit: Foot_US (0.304801)</csUnits>
<projcsn Sync="TRUE">NAD_1983_2011_StatePlane_California_II_FIPS_0402_Ft_US</projcsn>
<peXml Sync="TRUE">&lt;ProjectedCoordinateSystem xsi:type='typens:ProjectedCoordinateSystem' xmlns:xsi='http://www.w3.org/2001/XMLSchema-instance' xmlns:xs='http://www.w3.org/2001/XMLSchema' xmlns:typens='http://www.esri.com/schemas/ArcGIS/10.7'&gt;&lt;WKT&gt;PROJCS[&amp;quot;NAD_1983_2011_StatePlane_California_II_FIPS_0402_Ft_US&amp;quot;,GEOGCS[&amp;quot;GCS_NAD_1983_2011&amp;quot;,DATUM[&amp;quot;D_NAD_1983_2011&amp;quot;,SPHEROID[&amp;quot;GRS_1980&amp;quot;,6378137.0,298.257222101]],PRIMEM[&amp;quot;Greenwich&amp;quot;,0.0],UNIT[&amp;quot;Degree&amp;quot;,0.0174532925199433]],PROJECTION[&amp;quot;Lambert_Conformal_Conic&amp;quot;],PARAMETER[&amp;quot;False_Easting&amp;quot;,6561666.666666666],PARAMETER[&amp;quot;False_Northing&amp;quot;,1640416.666666667],PARAMETER[&amp;quot;Central_Meridian&amp;quot;,-122.0],PARAMETER[&amp;quot;Standard_Parallel_1&amp;quot;,38.33333333333334],PARAMETER[&amp;quot;Standard_Parallel_2&amp;quot;,39.83333333333334],PARAMETER[&amp;quot;Latitude_Of_Origin&amp;quot;,37.66666666666666],UNIT[&amp;quot;Foot_US&amp;quot;,0.3048006096012192],AUTHORITY[&amp;quot;EPSG&amp;quot;,6418]]&lt;/WKT&gt;&lt;XOrigin&gt;-115211800&lt;/XOrigin&gt;&lt;YOrigin&gt;-93821500&lt;/YOrigin&gt;&lt;XYScale&gt;36983428.057351544&lt;/XYScale&gt;&lt;ZOrigin&gt;-100000&lt;/ZOrigin&gt;&lt;ZScale&gt;10000&lt;/ZScale&gt;&lt;MOrigin&gt;-100000&lt;/MOrigin&gt;&lt;MScale&gt;10000&lt;/MScale&gt;&lt;XYTolerance&gt;0.0032808333333333331&lt;/XYTolerance&gt;&lt;ZTolerance&gt;0.001&lt;/ZTolerance&gt;&lt;MTolerance&gt;0.001&lt;/MTolerance&gt;&lt;HighPrecision&gt;true&lt;/HighPrecision&gt;&lt;WKID&gt;103004&lt;/WKID&gt;&lt;LatestWKID&gt;6418&lt;/LatestWKID&gt;&lt;/ProjectedCoordinateSystem&gt;</peXml>
</coordRef>
<RasterProperties>
<General>
<PixelDepth Sync="TRUE">8</PixelDepth>
<HasColormap Sync="TRUE">FALSE</HasColormap>
<CompressionType Sync="TRUE">LZW</CompressionType>
<NumBands Sync="TRUE">1</NumBands>
<Format Sync="TRUE">TIFF</Format>
<HasPyramids Sync="TRUE">TRUE</HasPyramids>
<SourceType Sync="TRUE">continuous</SourceType>
<PixelType Sync="TRUE">unsigned integer</PixelType>
<NoDataValue Sync="TRUE">0</NoDataValue>
</General>
</RasterProperties>
</DataProperties>
<SyncDate>20221210</SyncDate>
<SyncTime>07572600</SyncTime>
<ModDate>20221210</ModDate>
<ModTime>07572600</ModTime>
<scaleRange>
<minScale>150000000</minScale>
<maxScale>5000</maxScale>
</scaleRange>
<ArcGISProfile>FGDC</ArcGISProfile>
<CreaTime>07290800</CreaTime>
</Esri>
<dataIdInfo>
<envirDesc Sync="TRUE"> Version 6.2 (Build 9200) ; Esri ArcGIS 10.7.1.11595</envirDesc>
<dataLang>
<languageCode Sync="TRUE" value="eng"/>
<countryCode Sync="TRUE" value="USA"/>
</dataLang>
<idCitation>
<resTitle Sync="FALSE">SCWA_SonomaCreek_Lidar_Intensity_Bath_2021</resTitle>
<presForm>
<PresFormCd Sync="TRUE" value="005"/>
<fgdcGeoform>raster digital data</fgdcGeoform>
</presForm>
<date>
<pubDate>2021-04-21</pubDate>
</date>
<citRespParty>
<rpOrgName>NV5 Geospatial</rpOrgName>
<rpCntInfo>
<cntAddress addressType="both">
<delPoint>1100 Circle Blvd. Suite 126</delPoint>
<city>Corvallis</city>
<adminArea>OR</adminArea>
<postCode>97330</postCode>
<country>US</country>
</cntAddress>
<cntPhone>
<voiceNum tddtty="">541-752-1204</voiceNum>
</cntPhone>
<cntOnlineRes>
<linkage>http://www.nv5.com/geospatial</linkage>
</cntOnlineRes>
</rpCntInfo>
<displayName>NV5 Geospatial</displayName>
<role>
<RoleCd value="006"/>
</role>
</citRespParty>
</idCitation>
<spatRpType>
<SpatRepTypCd Sync="TRUE" value="002"/>
</spatRpType>
<dataExt>
<geoEle>
<GeoBndBox esriExtentType="search">
<exTypeCode Sync="TRUE">1</exTypeCode>
<westBL Sync="TRUE">-122.591889</westBL>
<eastBL Sync="TRUE">-122.409510</eastBL>
<northBL Sync="TRUE">38.448803</northBL>
<southBL Sync="TRUE">38.226890</southBL>
</GeoBndBox>
</geoEle>
<exDesc>Sonoma Creek Topobathymetric Lidar</exDesc>
<tempEle>
<TempExtent>
<exTemp>
<TM_Period>
<tmBegin>2021-02-04</tmBegin>
<tmEnd>2021-02-06</tmEnd>
</TM_Period>
</exTemp>
</TempExtent>
</tempEle>
</dataExt>
<idPurp>Provide intensity images of Sonoma Creek Topo bathymetric Lidar data.</idPurp>
<idAbs>&lt;div style='text-align:Left;'&gt;&lt;div&gt;&lt;div&gt;&lt;p&gt;&lt;span&gt;This .tif file represents the intensity values of the Green Lidar laser returns from the Sonoma Creek Topo bathymetric dataset. The horizontal datum for this dataset is NAD83 (2011), the vertical datum is NAVD88, Geoid 18, and the data is projected in California State Plane, Zone 2. Units are in US Survey Feet. NV5 Geospatial collected the Sonoma Creek Topo bathymetric Lidar data for Sonoma Water between 02/04/2021 and 02/06/2021.&lt;/span&gt;&lt;/p&gt;&lt;/div&gt;&lt;/div&gt;&lt;/div&gt;</idAbs>
<idCredit>Sonoma Water</idCredit>
<searchKeys>
<keyword>Light Detection and Ranging</keyword>
<keyword>lidar</keyword>
<keyword>intensity</keyword>
<keyword>intensity image</keyword>
<keyword>Sonoma County</keyword>
<keyword>California</keyword>
<keyword>Environmental Science Associates</keyword>
</searchKeys>
<themeKeys>
<keyword>Light Detection and Ranging</keyword>
<keyword>lidar</keyword>
<keyword>intensity</keyword>
<keyword>intensity image</keyword>
</themeKeys>
<placeKeys>
<keyword>Sonoma County</keyword>
<keyword>California</keyword>
<keyword>Environmental Science Associates</keyword>
</placeKeys>
<dataChar>
<CharSetCd value="004"/>
</dataChar>
<dataScale>
<scaleDist>
<value uom="ft_us">1.5</value>
</scaleDist>
</dataScale>
<suppInfo>This data is assembled by AOI and projected in California State Plane, Zone 2.</suppInfo>
<idStatus>
<ProgCd value="001"/>
</idStatus>
<resMaint>
<maintFreq>
<MaintFreqCd value="011"/>
</maintFreq>
</resMaint>
<resConst>
<LegConsts>
<useLimit>Please contact Sonoma Water for information regarding the use of this data.</useLimit>
</LegConsts>
</resConst>
<idPoC>
<rpIndName>Carlos Diaz</rpIndName>
<rpOrgName>Sonoma Water</rpOrgName>
<role>
<RoleCd value="007"/>
</role>
<rpCntInfo>
<cntAddress addressType="postal">
<delPoint>404 Aviation Blvd</delPoint>
<city>Santa Rosa</city>
<adminArea>California</adminArea>
<postCode>95403</postCode>
<eMailAdd>carlos.diaz@scwa.ca.gov</eMailAdd>
<country>US</country>
</cntAddress>
<cntPhone>
<voiceNum tddtty="">707-547-1956</voiceNum>
</cntPhone>
</rpCntInfo>
</idPoC>
<resConst>
<Consts>
<useLimit>&lt;div style='text-align:Left;'&gt;&lt;div&gt;&lt;div&gt;&lt;p&gt;&lt;span style='font-weight:bold;'&gt;SUBJECT: PUBLIC INFORMATION REQUEST –LiDAR Data&lt;/span&gt;&lt;/p&gt;&lt;p&gt;&lt;span&gt;The attached information was retrieved from Sonoma County Water Agency CAD-Drafting/GIS Records in connection with a Request for Public Information. These records and the drawings upon which they are based, were produced or conducted solely for the technical and/or functional needs and purposes of the Sonoma County Water Agency and/or other entities which it now acts, or may have acted on behalf of in the past. &lt;/span&gt;&lt;/p&gt;&lt;p&gt;&lt;span&gt;The Sonoma County Water Agency makes no assertions or representations regarding the sufficiency, accuracy or applicability of the information and/or records provided for any purpose beyond that for which they were originally produced.&lt;/span&gt;&lt;/p&gt;&lt;p&gt;&lt;span&gt;The information contained herein is for the use and information of the party to whom it was directly sent. The redistribution or “sharing”of this information is strictly prohibited. &lt;/span&gt;&lt;/p&gt;&lt;/div&gt;&lt;/div&gt;&lt;/div&gt;</useLimit>
</Consts>
</resConst>
<tpCat>
<TopicCatCd value="010"/>
</tpCat>
</dataIdInfo>
<mdLang>
<languageCode Sync="TRUE" value="eng"/>
<countryCode Sync="TRUE" value="USA"/>
</mdLang>
<mdChar>
<CharSetCd Sync="TRUE" value="004"/>
</mdChar>
<distInfo>
<distFormat>
<formatName Sync="TRUE">Raster Dataset</formatName>
<formatVer>1</formatVer>
</distFormat>
<distributor>
<distorCont>
<rpIndName>Carlos Diaz</rpIndName>
<rpOrgName>Sonoma Water</rpOrgName>
<role>
<RoleCd value="005"/>
</role>
<rpCntInfo>
<cntAddress addressType="postal">
<delPoint>404 Aviation Blvd</delPoint>
<city>Santa Rosa</city>
<adminArea>California</adminArea>
<postCode>95403</postCode>
<eMailAdd>carlos.diaz@scwa.ca.gov</eMailAdd>
<country>US</country>
</cntAddress>
<cntPhone>
<voiceNum tddtty="">707-547-1956</voiceNum>
</cntPhone>
</rpCntInfo>
</distorCont>
</distributor>
</distInfo>
<mdHrLv>
<ScopeCd Sync="TRUE" value="005"/>
</mdHrLv>
<mdHrLvName Sync="TRUE">dataset</mdHrLvName>
<refSysInfo>
<RefSystem>
<refSysID>
<identCode Sync="TRUE" code="6418"/>
<idCodeSpace Sync="TRUE">EPSG</idCodeSpace>
<idVersion Sync="TRUE">8.9.3(10.3.1)</idVersion>
</refSysID>
</RefSystem>
</refSysInfo>
<spatRepInfo>
<Georect>
<cellGeo>
<CellGeoCd Sync="TRUE" value="002"/>
</cellGeo>
<numDims Sync="TRUE">2</numDims>
<tranParaAv Sync="TRUE">1</tranParaAv>
<chkPtAv Sync="TRUE">0</chkPtAv>
<cornerPts>
<pos Sync="TRUE">6392154.000000 1845000.000000</pos>
</cornerPts>
<cornerPts>
<pos Sync="TRUE">6392154.000000 1925532.000000</pos>
</cornerPts>
<cornerPts>
<pos Sync="TRUE">6444024.000000 1925532.000000</pos>
</cornerPts>
<cornerPts>
<pos Sync="TRUE">6444024.000000 1845000.000000</pos>
</cornerPts>
<centerPt>
<pos Sync="TRUE">6418089.000000 1885266.000000</pos>
</centerPt>
<axisDimension type="002">
<dimSize Sync="TRUE">34580</dimSize>
<dimResol>
<value Sync="TRUE" uom="ftUS">1.500000</value>
</dimResol>
</axisDimension>
<axisDimension type="001">
<dimSize Sync="TRUE">53688</dimSize>
<dimResol>
<value Sync="TRUE" uom="ftUS">1.500000</value>
</dimResol>
</axisDimension>
<ptInPixel>
<PixOrientCd Sync="TRUE" value="001"/>
</ptInPixel>
</Georect>
</spatRepInfo>
<contInfo>
<ImgDesc>
<contentTyp>
<ContentTypCd Sync="TRUE" value="001"/>
</contentTyp>
<covDim>
<Band>
<dimDescrp Sync="TRUE">Band_1</dimDescrp>
<maxVal Sync="TRUE">255.000000</maxVal>
<minVal Sync="TRUE">12.000000</minVal>
<bitsPerVal Sync="TRUE">8</bitsPerVal>
<valUnit>
<UOM gmlID="" type="length">
<unitSymbol>[arb'U]</unitSymbol>
</UOM>
</valUnit>
<seqID>
<aName>Green Intensity</aName>
<attributeType>
<aName>GRN_INT</aName>
</attributeType>
</seqID>
</Band>
</covDim>
<trianInd>False</trianInd>
<radCalDatAv>False</radCalDatAv>
<camCalInAv>False</camCalInAv>
<filmDistInAv>False</filmDistInAv>
<lensDistInAv>False</lensDistInAv>
<attDesc>Intensity</attDesc>
</ImgDesc>
</contInfo>
<mdDateSt Sync="FALSE">2021-04-21</mdDateSt>
<mdContact>
<rpOrgName>NV5 Geospatial</rpOrgName>
<rpCntInfo>
<cntAddress addressType="both">
<delPoint>1100 Circle Blvd. Suite 126</delPoint>
<city>Corvallis</city>
<adminArea>OR</adminArea>
<postCode>97330</postCode>
<country>US</country>
</cntAddress>
<cntPhone>
<voiceNum tddtty="">541-752-1204</voiceNum>
</cntPhone>
<cntOnlineRes>
<linkage>http://www.nv5.com/geospatial</linkage>
</cntOnlineRes>
</rpCntInfo>
<displayName>NV5 Geospatial</displayName>
<role>
<RoleCd value="006"/>
</role>
<displayName>NV5 Geospatial</displayName>
</mdContact>
<mdMaint>
<maintFreq>
<MaintFreqCd value="011"/>
</maintFreq>
</mdMaint>
<dqInfo>
<dqScope>
<scpLvl>
<ScopeCd value="005"/>
</scpLvl>
</dqScope>
<report dimension="" type="DQCompOm">
<measDesc>Lidar data has been collected and processed for all areas within the project study area.</measDesc>
<evalMethDesc>Flight plans are designed with sufficient sidelap to ensure there are no gaps between flightlines. Shaded relief images have been visually inspected for gaps.</evalMethDesc>
</report>
<report dimension="" type="DQConcConsis">
<measDesc>Shaded relief images have been visually inspected for data errors such as pits, border artifacts, and shifting. Lidar flightlines have been examined to ensure consistent elevation values across overlapping flightlines. The Root Mean Square Error (RMSE) of line to line relative accuracy for this dataset is 0.068 ft (0.021 m). Please see the lidar data report for a discussion of the statistics related to this dataset.</measDesc>
<evalMethDesc>Data was examined at a 1:2000 scale. Relative accuracy of the flightlines was assessed in Microstation using TerraMatch.</evalMethDesc>
<measResult>
<QuanResult>
<quanValType>RMSE</quanValType>
<quanValUnit>
<UOM gmlID="" type="">
<unitSymbol>ft_us</unitSymbol>
</UOM>
</quanValUnit>
<quanVal>0.068 ft (0.021 m)</quanVal>
</QuanResult>
</measResult>
</report>
<report dimension="vertical" type="DQAbsExtPosAcc">
<measDesc>The Non-vegetated Vertical Accuracy (NVA) of this dataset, tested at 95% confidence level is 0.122 ft (0.037 m) versus the classified point cloud. Please see the lidar data report for a discussion of the statistics related to this dataset.</measDesc>
<evalMethDesc>Non-vegetated Vertical Accuracy was assessed using 8 ground check points. These check points were not used in the calibration or post processing of the lidar point cloud data.</evalMethDesc>
<measResult>
<QuanResult>
<quanValType>NVA</quanValType>
<quanValUnit>
<UOM gmlID="" type="">
<unitSymbol>ft_us</unitSymbol>
</UOM>
</quanValUnit>
<quanVal>0.122 ft (0.037 m)</quanVal>
</QuanResult>
</measResult>
</report>
<report dimension="vertical" type="DQAbsExtPosAcc">
<measDesc>The Non-vegetated Vertical Accuracy (NVA) of this dataset, tested at 95% confidence level is 0.115 ft (0.035 m) versus the bare earth digital elevation model. Please see the lidar data report for a discussion of the statistics related to this dataset.</measDesc>
<evalMethDesc>Non-vegetated Vertical Accuracy was assessed using 8 ground check points. These check points were not used in the calibration or post processing of the lidar point cloud data.</evalMethDesc>
<measResult>
<QuanResult>
<quanValType>NVA</quanValType>
<quanValUnit>
<UOM gmlID="" type="">
<unitSymbol>ft_us</unitSymbol>
</UOM>
</quanValUnit>
<quanVal>0.115 ft (0.035 m)</quanVal>
</QuanResult>
</measResult>
</report>
<report dimension="vertical" type="DQAbsExtPosAcc">
<measDesc>The Vegetated Vertical Accuracy (VVA) of this dataset, evaluated at the 95th percentile is 0.588 ft (0.179 m) versus the classified point cloud. Please see the lidar data report for a discussion of the statistics related to this dataset.</measDesc>
<evalMethDesc>Vegetated Vertical Accuracy was assessed using 24 VVA check points. These check points were not used in the calibration or post processing of the lidar point cloud data.</evalMethDesc>
<measResult>
<QuanResult>
<quanValType>VVA</quanValType>
<quanValUnit>
<UOM gmlID="" type="">
<unitSymbol>ft_us</unitSymbol>
</UOM>
</quanValUnit>
<quanVal>0.588 ft (0.179 m)</quanVal>
</QuanResult>
</measResult>
</report>
<report dimension="vertical" type="DQAbsExtPosAcc">
<measDesc>The Vegetated Vertical Accuracy (VVA) of this dataset, evaluated at the 95th percentile is 0.611 ft (0.186 m) versus the bare earth digital elevation model. Please see the lidar data report for a discussion of the statistics related to this dataset.</measDesc>
<evalMethDesc>Vegetated Vertical Accuracy was assessed using 24 VVA check points. These check points were not used in the calibration or post processing of the lidar point cloud data.</evalMethDesc>
<measResult>
<QuanResult>
<quanValType>VVA</quanValType>
<quanValUnit>
<UOM gmlID="" type="">
<unitSymbol>ft_us</unitSymbol>
</UOM>
</quanValUnit>
<quanVal>0.611 ft (0.186 m)</quanVal>
</QuanResult>
</measResult>
</report>
<report dimension="vertical" type="DQAbsExtPosAcc">
<measDesc>Vertical accuracy was also assessed using ground control points that were used in the calibration and post processing of the lidar point cloud as they still serve as a good indication of the overall accuracy of the lidar dataset. The Root Mean Square Error (RMSE) of the vertical accuracy of the lidar dataset as compared to ground control points is 0.068 ft (0.021 m). Please see the lidar data report for a discussion of the statistics related to this dataset.</measDesc>
<evalMethDesc>12 ground control points were collected and utilized in the calibration and post processing of the lidar data point cloud.</evalMethDesc>
<measResult>
<QuanResult>
<quanValType>RMSE</quanValType>
<quanVal>0.068 ft (0.021 m)</quanVal>
<quanValUnit>
<UOM gmlID="" type="">
<unitSymbol>ft_us</unitSymbol>
</UOM>
</quanValUnit>
</QuanResult>
</measResult>
</report>
<report dimension="vertical" type="DQQuanAttAcc">
<measDesc>Vertical accuracy was also assessed using bathymetric bottom check points collected over submerged bathymetric terrain. The bathymetric check point accuracy of this dataset, tested at 95% confidence level is 0.544 ft (0.166 m). Please see the lidar data report for a discussion of the statistics related to this dataset.</measDesc>
<evalMethDesc>Bathymetric bottom vertical accuracy was assessed using 84 bathymetric bottom check points. These check points were not used in the calibration or post processing of the lidar point cloud data.</evalMethDesc>
<measResult>
<QuanResult>
<quanValType>95% Confidence</quanValType>
<quanValUnit>
<UOM gmlID="" type="">
<unitSymbol>ft_us</unitSymbol>
</UOM>
</quanValUnit>
<quanVal>0.544 ft (0.166 m)</quanVal>
</QuanResult>
</measResult>
</report>
<report dimension="vertical" type="DQQuanAttAcc">
<measDesc>Vertical accuracy was also assessed using wetted edge check points collected at the interface between water and terrain. The wetted edge check point accuracy of this dataset, tested at 95% confidence level is 0.369 ft (0.112 m). Please see the lidar data report for a discussion of the statistics related to this dataset.</measDesc>
<evalMethDesc>Wetted edge vertical accuracy was assessed using 16 wetted edge check points. These check points were not used in the calibration or post processing of the lidar point cloud data.</evalMethDesc>
<measResult>
<QuanResult>
<quanValType>95% Confidence</quanValType>
<quanValUnit>
<UOM gmlID="" type="">
<unitSymbol>ft_us</unitSymbol>
</UOM>
</quanValUnit>
<quanVal>0.369 ft (0.112 m)</quanVal>
</QuanResult>
</measResult>
</report>
<dataLineage>
<prcStep>
<stepDesc>Acquisition. NV5 Geospatial collected the Sonoma Creek Topobathymetric Lidar data between 02/04/2021 and 02/06/2021. The survey used a Riegl VQ-880-GII laser system mounted in a Cessna Caravan. Ground level GPS and aircraft IMU were collected during the flight. Sensor: Riegl VQ-880-GII
Maximum returns: 15
Nominal pulse density: 15 pulses/m^2
Nominal pulse spacing: 0.26 m
AGL: 450 m
Speed: 145 knots
FOV: 40°
Scan frequency: 80 Lines Per Second
Pulse rate: 200 kHz
Pulse duration: 1.5 ns
Pulse footprint: 31.5 cm
Wavelength: 532 nm
Pulses in air mode: Multiple Times Around
Beam divergence: 0.7 mrads
Swath width: 328 m
Overlap: 30%
Sensor: Riegl VQ-880-GII-IR
Maximum returns: 15
Nominal pulse density: 15 pulses/m^2
Nominal pulse spacing: 0.26 m
AGL: 450 m
Speed: 145 knots
FOV: 42°
Scan frequency: Uniform Point Spacing
Pulse rate: 300 kHz
Pulse duration: 3 ns
Pulse footprint: 9 cm
Wavelength: 1064 nm
Pulses in air mode: Multiple Times Around
Beam divergence: 0.2 mrads
Swath width: 345 m
Overlap: 30%
</stepDesc>
<stepDateTm>2021-02-06T00:00:00</stepDateTm>
</prcStep>
<prcStep>
<stepDesc>1. Flightlines and data were reviewed to ensure complete coverage of the study area and positional accuracy of the laser points. 2. Laser point return coordinates were computed using RiProcess V1.8.5 and POSPac MMS V.8.5 software based on independent data from the lidar system, IMU, and aircraft. 3. The raw lidar file was assembled into flightlines per return with each point having an associated x, y, and z coordinate. 4. Visual inspection of swath to swath laser point consistencies within the study area were used to perform manual refinements of system alignment. 5. Custom algorithms were designed to evaluate points between adjacent flightlines. Automated system alignment was computed based upon randomly selected swath to swath accuracy measurements that consider elevation, slope, and intensities. Specifically, refinement in the combination of system pitch, roll, and yaw offset parameters optimize internal consistency. 6. Noise (e.g., pits and birds) was filtered using post-processing software, based on known elevation ranges and included the removal of any cycle slips. 7. Using TerraScan and Microstation, ground classifications utilized custom settings appropriate to the study area. 8. The corrected and filtered return points were compared to the ground survey points collected to verify the vertical accuracy. 9. Points were output as TIFFS colored by intensity values (0-255).</stepDesc>
<stepDateTm>2021-04-21</stepDateTm>
</prcStep>
</dataLineage>
</dqInfo>
</metadata>
