{ "currentVersion": 11.3, "serviceDescription": "
This .tif file represents the intensity values of the NIR Lidar laser returns from the Sonoma Creek Topo bathymetric dataset. The horizontal datum for this dataset is NAD83 (2011), the vertical datum is NAVD88, Geoid 18, and the data is projected in California State Plane, Zone 2. Units are in US Survey Feet. NV5 Geospatial collected the Sonoma Creek Topo bathymetric Lidar data for Sonoma Water between 02/04/2021 and 02/06/2021.<\/span><\/p><\/div><\/div><\/div>",
"name": "SCWAPublic/SCWA_Sonoma_Creek_Lidar_Intensity_NIR_2021",
"description": " This .tif file represents the intensity values of the NIR Lidar laser returns from the Sonoma Creek Topo bathymetric dataset. The horizontal datum for this dataset is NAD83 (2011), the vertical datum is NAVD88, Geoid 18, and the data is projected in California State Plane, Zone 2. Units are in US Survey Feet. NV5 Geospatial collected the Sonoma Creek Topo bathymetric Lidar data for Sonoma Water between 02/04/2021 and 02/06/2021.<\/span><\/p><\/div><\/div><\/div>",
"extent": {
"xmin": 6392154.000000002,
"ymin": 1845000.0000001017,
"xmax": 6444023.999999938,
"ymax": 1925532.0000000016,
"spatialReference": {
"wkid": 103004,
"latestWkid": 6418
}
},
"initialExtent": {
"xmin": 6392154.000000002,
"ymin": 1845000.0000001017,
"xmax": 6444023.999999938,
"ymax": 1925532.0000000016,
"spatialReference": {
"wkid": 103004,
"latestWkid": 6418
}
},
"fullExtent": {
"xmin": 6392154.000000002,
"ymin": 1845000.0000001017,
"xmax": 6444023.999999938,
"ymax": 1925532.0000000016,
"spatialReference": {
"wkid": 103004,
"latestWkid": 6418
}
},
"sortableFields": "",
"bandCount": 1,
"pixelType": "U8",
"minValues": [
1
],
"maxValues": [
255
],
"meanValues": [
186.97517509813
],
"stdvValues": [
35.3256229783
],
"hasMultidimensions": false,
"pixelSizeX": 1.4999999999981417,
"pixelSizeY": 1.4999999999981353,
"meanPixelSize": 0.4572009144012614,
"datasetFormat": "TIFF",
"uncompressedSize": 1856531040,
"blockWidth": 128,
"blockHeight": 128,
"compressionType": "LZW",
"bandNames": [
"Band_1"
],
"allowCopy": false,
"allowAnalysis": true,
"itemAccess": false,
"inspectionCapabilities": "",
"noDataValue": 0,
"noDataValues": [
0
],
"minPixelSize": 0,
"maxPixelSize": 0,
"copyrightText": "Sonoma Water",
"serviceDataType": "esriImageServiceDataTypeGeneric",
"serviceSourceType": "esriImageServiceSourceTypeDataset",
"objectIdField": "",
"fields": [],
"capabilities": "Mensuration,Image,Metadata",
"defaultMosaicMethod": "Center",
"allowedMosaicMethods": "",
"sortField": "",
"sortValue": null,
"sortAscending": true,
"mosaicOperator": "First",
"defaultCompressionQuality": 75,
"defaultResamplingMethod": "Bilinear",
"maxImageHeight": 4100,
"maxImageWidth": 15000,
"allowRasterFunction": true,
"rasterFunctionInfos": [
{
"name": "None",
"description": "",
"help": ""
}
],
"rasterTypeInfos": [
{
"name": "Raster Dataset",
"description": "Supports all ArcGIS Raster Datasets",
"help": ""
}
],
"mensurationCapabilities": "Basic",
"hasHistograms": true,
"hasColormap": false,
"hasRasterAttributeTable": false,
"minScale": 0,
"maxScale": 0,
"exportTilesAllowed": false,
"supportsStatistics": false,
"supportsAdvancedQueries": false,
"editFieldsInfo": null,
"ownershipBasedAccessControlForRasters": null,
"allowComputeTiePoints": false,
"useStandardizedQueries": true,
"advancedQueryCapabilities": {
"useStandardizedQueries": true,
"supportsStatistics": false,
"supportsOrderBy": false,
"supportsDistinct": false,
"supportsPagination": false
},
"spatialReference": {
"wkid": 103004,
"latestWkid": 6418
},
"resampling": false
}