<?xml version="1.0" encoding="UTF-8" standalone="no"?>
<metadata xml:lang="en">
<mdChar>
<CharSetCd value="004">
</CharSetCd>
</mdChar>
<dataIdInfo>
<idPurp>This raster dataset provides high resolution water depth data in the Sonoma County Russian River Modeling and Buildings project area.</idPurp>
<idAbs>&lt;div style='text-align:Left;'&gt;&lt;div&gt;&lt;p&gt;&lt;span&gt;The water depth digital elevation model (DEM) represents the difference between water surface elevation models and bare earth (all vegetation and man-made structures removed) digital elevation models. The water surface elevations were estimated using HEC RAS 5.0.1 hydrologic modeling software. Each pixel is three feet by three feet and represents an average height above ground for that area. QSI collected the LiDAR and created this data set for the Russian River Modeling and Buildings study area. The projection is CASP 2 with horizontal datum NAD83(2011), vertical datum NAVD88 (Geoid 12A), and the units are US Survey Feet. See Process Steps for derivation of raster datasets.&lt;/span&gt;&lt;/p&gt;&lt;/div&gt;&lt;/div&gt;</idAbs>
<idCredit>County of Sonoma, QSI</idCredit>
<themeKeys>
<keyword>Sonoma County, QSI, LiDAR, Light Detection and Ranging, DEM, digital terrain model, elevation data, topography, water surface elevation, water depth, flood depth, hydrology, high-resolution, surface feature, DTM</keyword>
</themeKeys>
<placeKeys>
<keyword>Sonoma County, Guerneville, State of California, Healdsburg, Monte Rio</keyword>
</placeKeys>
<idCitation>
<date>
<pubDate>8/1/2017</pubDate>
</date>
<citRespParty>
<rpOrgName>QSI</rpOrgName>
<role>
<RoleCd value="006">
</RoleCd>
</role>
<rpCntInfo>
<cntOnlineRes>
<linkage>http://www.quantumspatial.com</linkage>
</cntOnlineRes>
</rpCntInfo>
</citRespParty>
<citRespParty>
<rpOrgName>Sonoma County</rpOrgName>
<role>
<RoleCd value="003">
</RoleCd>
</role>
<rpIndName>Shelly Bianchi-Williamson</rpIndName>
<rpCntInfo>
<cntAddress addressType="physical">
<delPoint>2550 Ventura Avenue</delPoint>
<city>Santa Rosa</city>
<adminArea>California</adminArea>
<postCode>95403</postCode>
<country>United States</country>
<eMailAdd>Shelly.Bianchi-Williamson@sonoma-county.org</eMailAdd>
</cntAddress>
<cntOnlineRes>
<linkage>http://sonomacounty.ca.gov/Permit-and-Resource-Management/</linkage>
</cntOnlineRes>
</rpCntInfo>
<role>
<RoleCd value="003">
</RoleCd>
</role>
<editorSave>False</editorSave>
<displayName>Sonoma County</displayName>
</citRespParty>
<resTitle Sync="FALSE">Russian_River_Depth_Raster_41ft</resTitle>
<presForm>
<PresFormCd Sync="TRUE" value="011">
</PresFormCd>
</presForm>
</idCitation>
<dataChar>
<CharSetCd value="004">
</CharSetCd>
</dataChar>
<idStatus>
<ProgCd value="001">
</ProgCd>
</idStatus>
<dataExt>
<exDesc>Ground condition during LiDAR survey</exDesc>
<tempEle>
<TempExtent>
<exTemp>
<TM_Period>
<tmBegin>9/28/2015</tmBegin>
<tmEnd>11/26/2015</tmEnd>
</TM_Period>
</exTemp>
</TempExtent>
</tempEle>
</dataExt>
<resConst>
<LegConsts>
<useLimit>This dataset was contracted by Sonoma County. Information regarding the use of this dataset should be directed to the owner.</useLimit>
</LegConsts>
<Consts>
<useLimit/>
</Consts>
</resConst>
<resMaint>
<maintFreq>
<MaintFreqCd value="011">
</MaintFreqCd>
</maintFreq>
</resMaint>
<dataLang>
<languageCode value="eng">
</languageCode>
<countryCode Sync="TRUE" value="USA">
</countryCode>
</dataLang>
<envirDesc Sync="FALSE">Esri ArcGIS 10.3.1.4959</envirDesc>
<spatRpType>
<SpatRepTypCd Sync="TRUE" value="002">
</SpatRepTypCd>
</spatRpType>
<dataExt>
<geoEle>
<GeoBndBox esriExtentType="search">
<exTypeCode Sync="TRUE">1</exTypeCode>
<westBL Sync="TRUE">-123.143247</westBL>
<eastBL Sync="TRUE">-122.768528</eastBL>
<northBL Sync="TRUE">38.859491</northBL>
<southBL Sync="TRUE">38.428642</southBL>
</GeoBndBox>
</geoEle>
</dataExt>
</dataIdInfo>
<mdMaint>
<maintFreq>
<MaintFreqCd value="011">
</MaintFreqCd>
</maintFreq>
</mdMaint>
<dqInfo>
<dqScope>
<scpLvl>
<ScopeCd value="005">
</ScopeCd>
</scpLvl>
</dqScope>
<report dimension="vertical" type="DQAbsExtPosAcc">
<measDesc>The root mean square error (RMSE) of the native LiDAR point cloud data used in the creation of the bare earth DEM used to calculate this depth raster is 0.03 meters. Accuracy was assessed using ground check points (GCPs). These GCPs are distributed throughout the study area. See previous LiDAR data report. </measDesc>
<evalMethDesc>Vertical Accuracy – Deviation between laser points and GCPs. </evalMethDesc>
</report>
<report dimension="horizontal" type="DQAbsExtPosAcc">
<measDesc>Internal consistency measures the difference between ground-classified points from different overlapping flightlines for the native LiDAR dataset used in the creation of this DEM. The median relative accuracy is out of 147,049,072,770 laser points and 5,754 flightlines. See previous LiDAR data report. </measDesc>
<evalMethDesc>Relative Accuracy – Divergence between points from different flightlines. </evalMethDesc>
</report>
<report type="DQCompOm">
<measDesc>LiDAR has been collected and processed for all areas within the project study area. In some areas of heavy vegetation and forest cover, there may be relatively few ground points in the LiDAR data. TINing the points produces large triangles and hence the elevations may be less accurate within such areas. In some areas with large bodies of water, competing water surface levels may be visible. This is due to seasonal water level fluctuation and intervals of time between acquisition of an area.</measDesc>
</report>
<report type="DQConcConsis">
<measDesc>LiDAR flight lines have been examined to ensure that there was at least 60% sidelap, there are no gaps between flightlines, and overlapping flightlines have consistent elevation values. Shaded relief images have been visually inspected for data errors such as pits, border artifacts, gaps, and shifting. The data were examined at a 1:3000 scale.</measDesc>
</report>
<dataLineage>
<prcStep>
<stepDesc>Acquisition. LiDAR data acquisition was conducted from 28-Sep to 26-Nov. The survey utilized a Leica ALS50 and Leica ALS80 laser system mounted in a Cessna 208-B and Piper PA-31 Navajo. Near nadir scan angles were used to increase penetration of vegetation to ground surfaces. Ground level GPS and aircraft IMU were collected during the flight.</stepDesc>
<stepDateTm>11/26/2015</stepDateTm>
</prcStep>
<prcStep>
<stepDesc>Processing.
1. TRAJECTORY: Aircraft trajectory (position and attitude) were calculated based on on-board GPS and IMU data with post-processing refinement through coincident static GPS collection. 2. POST-PROCESSING: Laser point return coordinates (x,y,z) were computed using sensor-specific post processing software, combining LiDAR return range and intensity information with aircraft trajectory information.
3. INITIAL QAQC: The post-processed LiDAR files were assembled into flight lines and reviewed for gaps and consistency, as well as systematic noise.
4. CALIBRATION: Custom algorithms evaluated individual swaths for misalignments based on IMU configuration as well as aircraft attitude variability. Offsets were resolved through surface and linear matching algorithms that minimize variability in elevation and slope. Descriptive statistics, thresholds, and specifications providing transparency for data calibration are discussed in the accompanying Data Report.
5. GROUND MODELING: Ground classified point cloud was generated through proprietary data processing tools, with settings and thresholds appropriate to landscape and vegetation condition.
6. ARTIFACT FILTRATION: Noise and processing artifacts were filtered using post-processing software and proprietary quality control methods.
7. ACCURACY ASSESSMENT: Vertical accuracy for the LiDAR dataset was assessed against Ground Check Points (GCP) distributed throughout the study area. See the accompanying Data Report for methodology, descriptive statistics, and relevant standards and reporting language.
8. DATA PRODUCT: Hydro depth rasters were generated by subtracting the bare earth DEM from the water surface elevation DEM output from the HEC RAS modeling process.</stepDesc>
<stepDateTm>8/1/2017</stepDateTm>
</prcStep>
</dataLineage>
</dqInfo>
<mdHrLv>
<ScopeCd value="005">
</ScopeCd>
</mdHrLv>
<distInfo>
<distributor>
<distorCont>
<rpOrgName>Sonoma County</rpOrgName>
<rpCntInfo>
<cntAddress addressType="physical">
<delPoint>2550 Ventura Avenue</delPoint>
<city>Santa Rosa</city>
<adminArea>California</adminArea>
<postCode>95403</postCode>
<country>United States</country>
<eMailAdd>Shelly.Bianchi-Williamson@sonoma-county.org</eMailAdd>
</cntAddress>
<cntOnlineRes>
<linkage>http://sonomacounty.ca.gov/Permit-and-Resource-Management/</linkage>
</cntOnlineRes>
</rpCntInfo>
<role>
<RoleCd value="005">
</RoleCd>
</role>
</distorCont>
</distributor>
<distFormat>
<formatName Sync="TRUE">File Geodatabase Raster Dataset</formatName>
</distFormat>
</distInfo>
<mdContact>
<rpOrgName>QSI</rpOrgName>
<rpCntInfo>
<cntAddress addressType="postal">
<delPoint>421 SW 6th Ave., Suite 800</delPoint>
<city>Portland</city>
<adminArea>Oregon</adminArea>
<postCode>97204</postCode>
<country>USA</country>
</cntAddress>
<cntOnlineRes>
<linkage>http://www.quantumspatial.com</linkage>
</cntOnlineRes>
</rpCntInfo>
<role>
<RoleCd value="007">
</RoleCd>
</role>
</mdContact>
<mdLang>
<languageCode Sync="TRUE" value="eng">
</languageCode>
<countryCode Sync="TRUE" value="USA">
</countryCode>
</mdLang>
<Esri>
<DataProperties>
<itemProps>
<itemName Sync="TRUE">Depth_41</itemName>
<imsContentType Sync="TRUE">002</imsContentType>
<nativeExtBox>
<westBL Sync="TRUE">6236126.396389</westBL>
<eastBL Sync="TRUE">6341516.396389</eastBL>
<southBL Sync="TRUE">1919959.543629</southBL>
<northBL Sync="TRUE">2075767.543629</northBL>
<exTypeCode Sync="TRUE">1</exTypeCode>
</nativeExtBox>
</itemProps>
<coordRef>
<type Sync="TRUE">Projected</type>
<geogcsn Sync="TRUE">GCS_NAD_1983_2011</geogcsn>
<csUnits Sync="TRUE">Linear Unit: Foot_US (0.304801)</csUnits>
<projcsn Sync="TRUE">NAD_1983_StatePlane_California_II_FIPS_0402_Feet_2011</projcsn>
<peXml Sync="TRUE">&lt;ProjectedCoordinateSystem xsi:type='typens:ProjectedCoordinateSystem' xmlns:xsi='http://www.w3.org/2001/XMLSchema-instance' xmlns:xs='http://www.w3.org/2001/XMLSchema' xmlns:typens='http://www.esri.com/schemas/ArcGIS/10.3'&gt;&lt;WKT&gt;PROJCS[&amp;quot;NAD_1983_StatePlane_California_II_FIPS_0402_Feet_2011&amp;quot;,GEOGCS[&amp;quot;GCS_NAD_1983_2011&amp;quot;,DATUM[&amp;quot;D_NAD_1983_2011&amp;quot;,SPHEROID[&amp;quot;GRS_1980&amp;quot;,6378137.0,298.257222101]],PRIMEM[&amp;quot;Greenwich&amp;quot;,0.0],UNIT[&amp;quot;Degree&amp;quot;,0.0174532925199433]],PROJECTION[&amp;quot;Lambert_Conformal_Conic&amp;quot;],PARAMETER[&amp;quot;false_easting&amp;quot;,6561666.66666667],PARAMETER[&amp;quot;false_northing&amp;quot;,1640416.66666667],PARAMETER[&amp;quot;central_meridian&amp;quot;,-122.0],PARAMETER[&amp;quot;standard_parallel_1&amp;quot;,38.3333333333333],PARAMETER[&amp;quot;standard_parallel_2&amp;quot;,39.8333333333333],PARAMETER[&amp;quot;latitude_of_origin&amp;quot;,37.6666666666667],UNIT[&amp;quot;Foot_US&amp;quot;,0.3048006096012192]]&lt;/WKT&gt;&lt;XOrigin&gt;-115211800&lt;/XOrigin&gt;&lt;YOrigin&gt;-93821500&lt;/YOrigin&gt;&lt;XYScale&gt;36983428.057351544&lt;/XYScale&gt;&lt;ZOrigin&gt;-100000&lt;/ZOrigin&gt;&lt;ZScale&gt;10000&lt;/ZScale&gt;&lt;MOrigin&gt;-100000&lt;/MOrigin&gt;&lt;MScale&gt;10000&lt;/MScale&gt;&lt;XYTolerance&gt;0.0032808333333333331&lt;/XYTolerance&gt;&lt;ZTolerance&gt;0.001&lt;/ZTolerance&gt;&lt;MTolerance&gt;0.001&lt;/MTolerance&gt;&lt;HighPrecision&gt;true&lt;/HighPrecision&gt;&lt;/ProjectedCoordinateSystem&gt;</peXml>
</coordRef>
</DataProperties>
<SyncDate>20170801</SyncDate>
<SyncTime>14090500</SyncTime>
<ModDate>20260224</ModDate>
<ModTime>8381700</ModTime>
<scaleRange>
<minScale>150000000</minScale>
<maxScale>5000</maxScale>
</scaleRange>
<ArcGISFormat>1.0</ArcGISFormat>
<ArcGISProfile>ISO19139</ArcGISProfile>
</Esri>
<mdHrLvName Sync="TRUE">dataset</mdHrLvName>
<refSysInfo>
<RefSystem>
<refSysID>
<identCode Sync="TRUE" code="0">
</identCode>
</refSysID>
</RefSystem>
</refSysInfo>
<spdoinfo>
<rastinfo>
<rasttype Sync="TRUE">Pixel</rasttype>
<rowcount Sync="TRUE">51936</rowcount>
<colcount Sync="TRUE">35130</colcount>
<rastxsz Sync="TRUE">3.000000</rastxsz>
<rastysz Sync="TRUE">3.000000</rastysz>
<rastbpp Sync="TRUE">32</rastbpp>
<vrtcount Sync="TRUE">1</vrtcount>
<rastorig Sync="TRUE">Upper Left</rastorig>
<rastcmap Sync="TRUE">FALSE</rastcmap>
<rastcomp Sync="TRUE">LZ77</rastcomp>
<rastband Sync="TRUE">1</rastband>
<rastdtyp Sync="TRUE">pixel codes</rastdtyp>
<rastifor Sync="TRUE">FGDBR</rastifor>
<rastplyr Sync="TRUE">TRUE</rastplyr>
</rastinfo>
</spdoinfo>
<spref>
<horizsys>
<planar>
<planci>
<plance Sync="TRUE">row and column</plance>
<coordrep>
<absres Sync="TRUE">3.000000</absres>
<ordres Sync="TRUE">3.000000</ordres>
</coordrep>
</planci>
</planar>
</horizsys>
</spref>
<mdDateSt Sync="TRUE">20260224</mdDateSt>
</metadata>
