{ "currentVersion": 11.3, "serviceDescription": "
This raster dataset provides hihg resolution water depth data in the Sonoma County Mark West Creek Modeling area. The water depth digital elevation model (DEM) represents the difference between water surface elevation models and bare earth (all vegetation and man-made structures removed) digital elevation models. The water surface elevations were estimated using HEC RAS 5.0.7 hydrologic modeling software. Each pixel is three feet by three feet and represents an average height above ground for that area. QSI collected the LiDAR and created this data set for the Russian River Modeling and Buildings study area. The projection is CASP 2 with horizontal datum NAD83(2011), vertical datum NAVD88 (Geoid 12A), and the units are US Survey Feet. See Process Steps for derivation of raster datasets.<\/SPAN><\/P><\/DIV><\/DIV><\/DIV>",
"name": "PRMDPublic/Russian_River_Mark_West_Depth_Raster_32ft",
"description": " This raster dataset provides hihg resolution water depth data in the Sonoma County Mark West Creek Modeling area. The water depth digital elevation model (DEM) represents the difference between water surface elevation models and bare earth (all vegetation and man-made structures removed) digital elevation models. The water surface elevations were estimated using HEC RAS 5.0.7 hydrologic modeling software. Each pixel is three feet by three feet and represents an average height above ground for that area. QSI collected the LiDAR and created this data set for the Russian River Modeling and Buildings study area. The projection is CASP 2 with horizontal datum NAD83(2011), vertical datum NAVD88 (Geoid 12A), and the units are US Survey Feet. See Process Steps for derivation of raster datasets.<\/span><\/p><\/div><\/div><\/div>",
"extent": {
"xmin": 6236126.396389391,
"ymin": 1816123.543629174,
"xmax": 6419885.39638939,
"ymax": 2075767.5436291723,
"spatialReference": {
"wkid": 103004,
"latestWkid": 6418
}
},
"initialExtent": {
"xmin": 6236126.396389391,
"ymin": 1816123.543629174,
"xmax": 6419885.39638939,
"ymax": 2075767.5436291723,
"spatialReference": {
"wkid": 103004,
"latestWkid": 6418
}
},
"fullExtent": {
"xmin": 6236126.396389391,
"ymin": 1816123.543629174,
"xmax": 6419885.39638939,
"ymax": 2075767.5436291723,
"spatialReference": {
"wkid": 103004,
"latestWkid": 6418
}
},
"sortableFields": "",
"bandCount": 1,
"pixelType": "F32",
"minValues": [
9.9945068359375E-4
],
"maxValues": [
169.705810546875
],
"meanValues": [
8.204669384054666
],
"stdvValues": [
7.497208505178408
],
"hasMultidimensions": false,
"pixelSizeX": 2.999999999999985,
"pixelSizeY": 2.9999999999999813,
"meanPixelSize": 0.9144018288036526,
"datasetFormat": "FGDBR",
"uncompressedSize": 21205298576,
"blockWidth": 128,
"blockHeight": 128,
"compressionType": "LZ77",
"bandNames": [
"Band_1"
],
"allowCopy": true,
"allowAnalysis": true,
"itemAccess": false,
"inspectionCapabilities": "",
"minPixelSize": 0,
"maxPixelSize": 0,
"copyrightText": "Sonoma County",
"serviceDataType": "esriImageServiceDataTypeGeneric",
"serviceSourceType": "esriImageServiceSourceTypeDataset",
"objectIdField": "",
"fields": [],
"capabilities": "Image,Metadata,Mensuration",
"defaultMosaicMethod": "Center",
"allowedMosaicMethods": "",
"sortField": "",
"sortValue": null,
"sortAscending": true,
"mosaicOperator": "First",
"defaultCompressionQuality": 75,
"defaultResamplingMethod": "Bilinear",
"maxImageHeight": 4100,
"maxImageWidth": 15000,
"allowRasterFunction": true,
"rasterFunctionInfos": [
{
"name": "None",
"description": "Make a Raster or Raster Dataset into a Function Raster Dataset.",
"help": ""
}
],
"rasterTypeInfos": [
{
"name": "Raster Dataset",
"description": "Supports all ArcGIS Raster Datasets",
"help": ""
}
],
"mensurationCapabilities": "Basic",
"hasHistograms": true,
"hasColormap": false,
"hasRasterAttributeTable": false,
"minScale": 0,
"maxScale": 0,
"exportTilesAllowed": false,
"supportsStatistics": false,
"supportsAdvancedQueries": false,
"editFieldsInfo": null,
"ownershipBasedAccessControlForRasters": null,
"allowComputeTiePoints": false,
"useStandardizedQueries": true,
"advancedQueryCapabilities": {
"useStandardizedQueries": true,
"supportsStatistics": false,
"supportsOrderBy": false,
"supportsDistinct": false,
"supportsPagination": false
},
"spatialReference": {
"wkid": 103004,
"latestWkid": 6418
}
}