<?xml version="1.0" encoding="UTF-8" standalone="no"?>
<metadata xml:lang="en">
<Esri>
<CreaDate>20200323</CreaDate>
<CreaTime>13071600</CreaTime>
<ArcGISFormat>1.0</ArcGISFormat>
<SyncOnce>FALSE</SyncOnce>
<DataProperties>
<itemProps>
<itemName Sync="TRUE">Russian_River_Mark_West_Depth_Raster_36ft</itemName>
<nativeExtBox>
<westBL Sync="TRUE">6236126.396389</westBL>
<eastBL Sync="TRUE">6419885.396389</eastBL>
<southBL Sync="TRUE">1816123.543629</southBL>
<northBL Sync="TRUE">2075767.543629</northBL>
<exTypeCode Sync="TRUE">1</exTypeCode>
</nativeExtBox>
<imsContentType Sync="TRUE">002</imsContentType>
</itemProps>
<coordRef>
<type Sync="TRUE">Projected</type>
<geogcsn Sync="TRUE">GCS_NAD_1983_2011</geogcsn>
<csUnits Sync="TRUE">Linear Unit: Foot_US (0.304801)</csUnits>
<projcsn Sync="TRUE">NAD_1983_2011_StatePlane_California_II_FIPS_0402_Ft_US</projcsn>
<peXml Sync="TRUE">&lt;ProjectedCoordinateSystem xsi:type='typens:ProjectedCoordinateSystem' xmlns:xsi='http://www.w3.org/2001/XMLSchema-instance' xmlns:xs='http://www.w3.org/2001/XMLSchema' xmlns:typens='http://www.esri.com/schemas/ArcGIS/10.7'&gt;&lt;WKT&gt;PROJCS[&amp;quot;NAD_1983_2011_StatePlane_California_II_FIPS_0402_Ft_US&amp;quot;,GEOGCS[&amp;quot;GCS_NAD_1983_2011&amp;quot;,DATUM[&amp;quot;D_NAD_1983_2011&amp;quot;,SPHEROID[&amp;quot;GRS_1980&amp;quot;,6378137.0,298.257222101]],PRIMEM[&amp;quot;Greenwich&amp;quot;,0.0],UNIT[&amp;quot;Degree&amp;quot;,0.0174532925199433]],PROJECTION[&amp;quot;Lambert_Conformal_Conic&amp;quot;],PARAMETER[&amp;quot;False_Easting&amp;quot;,6561666.666666666],PARAMETER[&amp;quot;False_Northing&amp;quot;,1640416.666666667],PARAMETER[&amp;quot;Central_Meridian&amp;quot;,-122.0],PARAMETER[&amp;quot;Standard_Parallel_1&amp;quot;,38.33333333333334],PARAMETER[&amp;quot;Standard_Parallel_2&amp;quot;,39.83333333333334],PARAMETER[&amp;quot;Latitude_Of_Origin&amp;quot;,37.66666666666666],UNIT[&amp;quot;Foot_US&amp;quot;,0.3048006096012192],AUTHORITY[&amp;quot;EPSG&amp;quot;,6418]]&lt;/WKT&gt;&lt;XOrigin&gt;-115211800&lt;/XOrigin&gt;&lt;YOrigin&gt;-93821500&lt;/YOrigin&gt;&lt;XYScale&gt;36983428.057351544&lt;/XYScale&gt;&lt;ZOrigin&gt;-100000&lt;/ZOrigin&gt;&lt;ZScale&gt;10000&lt;/ZScale&gt;&lt;MOrigin&gt;-100000&lt;/MOrigin&gt;&lt;MScale&gt;10000&lt;/MScale&gt;&lt;XYTolerance&gt;0.0032808333333333331&lt;/XYTolerance&gt;&lt;ZTolerance&gt;0.001&lt;/ZTolerance&gt;&lt;MTolerance&gt;0.001&lt;/MTolerance&gt;&lt;HighPrecision&gt;true&lt;/HighPrecision&gt;&lt;WKID&gt;103004&lt;/WKID&gt;&lt;LatestWKID&gt;6418&lt;/LatestWKID&gt;&lt;/ProjectedCoordinateSystem&gt;</peXml>
</coordRef>
<RasterProperties>
<General>
<PixelDepth Sync="TRUE">32</PixelDepth>
<HasColormap Sync="TRUE">FALSE</HasColormap>
<CompressionType Sync="TRUE">None</CompressionType>
<NumBands Sync="TRUE">1</NumBands>
<Format Sync="TRUE">AIG</Format>
<HasPyramids Sync="TRUE">TRUE</HasPyramids>
<SourceType Sync="TRUE">continuous</SourceType>
<PixelType Sync="TRUE">floating point</PixelType>
<NoDataValue Sync="TRUE">-3.4028235e+038</NoDataValue>
</General>
</RasterProperties>
</DataProperties>
<SyncDate>20230106</SyncDate>
<SyncTime>14061100</SyncTime>
<ModDate>20260121</ModDate>
<ModTime>6492500</ModTime>
<scaleRange>
<minScale>150000000</minScale>
<maxScale>5000</maxScale>
</scaleRange>
<ArcGISProfile>FGDC</ArcGISProfile>
</Esri>
<mdLang>
<languageCode value="eng">
</languageCode>
<countryCode Sync="TRUE" value="USA">
</countryCode>
</mdLang>
<mdChar>
<CharSetCd value="004">
</CharSetCd>
</mdChar>
<mdHrLv>
<ScopeCd value="005">
</ScopeCd>
</mdHrLv>
<mdContact>
<rpOrgName>Quantum Spatial</rpOrgName>
<rpCntInfo>
<cntPhone>
<voiceNum>503-505-5100</voiceNum>
</cntPhone>
<cntAddress addressType="both">
<delPoint>421 SW 6th Ave #800</delPoint>
<city>Portland</city>
<adminArea>OREGON</adminArea>
<postCode>97204</postCode>
<country>US</country>
</cntAddress>
</rpCntInfo>
<role>
<RoleCd value="007">
</RoleCd>
</role>
</mdContact>
<mdDateSt Sync="TRUE">20260121</mdDateSt>
<mdStanName>ArcGIS Metadata</mdStanName>
<mdStanVer>1.0</mdStanVer>
<distInfo>
<distributor>
<distorCont>
<rpIndName>Shelly Bianchi-Williamson</rpIndName>
<rpOrgName>Sonoma County</rpOrgName>
<rpCntInfo>
<cntAddress addressType="postal">
<delPoint>2550 Ventura Avenue</delPoint>
<city>Santa Rosa</city>
<adminArea>California</adminArea>
<postCode>95403</postCode>
<eMailAdd>Shelly.Bianchi-Williamson@sonoma-county.org</eMailAdd>
</cntAddress>
</rpCntInfo>
<role>
<RoleCd value="005">
</RoleCd>
</role>
</distorCont>
</distributor>
<distFormat>
<formatName Sync="TRUE">File Geodatabase Raster Dataset</formatName>
</distFormat>
</distInfo>
<dataIdInfo>
<idCitation>
<resTitle Sync="FALSE">Russian_River_Mark_West_Depth_Raster_36ft</resTitle>
<date>
<pubDate>2020-03-20</pubDate>
</date>
<citRespParty>
<rpOrgName>Quantum Spatial</rpOrgName>
<role>
<RoleCd value="006">
</RoleCd>
</role>
</citRespParty>
<presForm>
<fgdcGeoform>raster data</fgdcGeoform>
<PresFormCd Sync="TRUE" value="011">
</PresFormCd>
</presForm>
</idCitation>
<idAbs>&lt;div style='text-align:Left;'&gt;&lt;div&gt;&lt;div&gt;&lt;p&gt;&lt;span&gt;The Sonoma County Russian River - Mark West Creek Inundation Model provides high resolution water depth data. The water depth digital elevation model (DEM) represents the difference between water surface elevation models and bare earth (all vegetation and man-made structures removed) digital elevation models. The water surface elevations were estimated using HEC RAS 5.0.7 hydrologic modeling software. Each pixel is three feet by three feet and represents an average height above ground for that area. QSI collected the LiDAR and created this data set for the Russian River Modeling and Buildings study area. The projection is CASP 2 with horizontal datum NAD83(2011), vertical datum NAVD88 (Geoid 12A), and the units are US Survey Feet. See Process Steps for derivation of raster datasets.&lt;/span&gt;&lt;/p&gt;&lt;/div&gt;&lt;/div&gt;&lt;/div&gt;</idAbs>
<idPurp>The water depth digital elevation model (DEM) represents inundation at the specified extent, as depicted in the Sonoma County Russian River - Mark West Creek Inundation Model. Data to be used for planning and emergency evacuation.</idPurp>
<idCredit>Sonoma County</idCredit>
<idStatus>
<ProgCd value="001">
</ProgCd>
</idStatus>
<idPoC>
<rpIndName>Shelly Bianchi-Williamson</rpIndName>
<rpOrgName>Sonoma County</rpOrgName>
<rpCntInfo>
<cntAddress addressType="postal">
<delPoint>2550 Ventura Avenue</delPoint>
<city>Santa Rosa</city>
<adminArea>CA</adminArea>
<postCode>95403</postCode>
<eMailAdd>Shelly.Bianchi-Williamson@sonoma-county.org</eMailAdd>
</cntAddress>
</rpCntInfo>
<role>
<RoleCd value="007">
</RoleCd>
</role>
</idPoC>
<resMaint>
<maintFreq>
<MaintFreqCd value="011">
</MaintFreqCd>
</maintFreq>
</resMaint>
<placeKeys>
<keyword>California</keyword>
<keyword>Sonoma County</keyword>
</placeKeys>
<themeKeys>
<thesaName>
<resTitle>ISO 19115 Topic Categories</resTitle>
</thesaName>
<keyword>location</keyword>
<keyword>boundaries</keyword>
</themeKeys>
<themeKeys>
<keyword>Water Surface Elevation</keyword>
<keyword>Digital Terrain Model</keyword>
<keyword>Hydrology</keyword>
<keyword>LiDAR</keyword>
<keyword>Flood Depth</keyword>
<keyword>Flood Inundation Raaster</keyword>
<keyword>Water Depth</keyword>
</themeKeys>
<searchKeys>
<keyword>Water Surface Elevation</keyword>
<keyword>California</keyword>
<keyword>location</keyword>
<keyword>Sonoma County</keyword>
<keyword>Digital Terrain Model</keyword>
<keyword>Hydrology</keyword>
<keyword>LiDAR</keyword>
<keyword>Flood Depth</keyword>
<keyword>Flood Inundation Raaster</keyword>
<keyword>Water Depth</keyword>
<keyword>boundaries</keyword>
</searchKeys>
<resConst>
<LegConsts>
<useLimit>Please contact Sonoma County for information regarding the use of this data.</useLimit>
</LegConsts>
</resConst>
<resConst>
<Consts>
<useLimit>&lt;div style='text-align:Left;'&gt;&lt;div&gt;&lt;div&gt;&lt;p&gt;&lt;span&gt;Please contact Sonoma County for information regarding the use of this data.&lt;/span&gt;&lt;/p&gt;&lt;/div&gt;&lt;/div&gt;&lt;/div&gt;, None. However, users should be aware that temporal changes may have occurred since this dataset was collected and that some parts of these data may no longer represent actual surface conditions. Users should not use these data for critical applications without a full awareness of its limitations.</useLimit>
</Consts>
</resConst>
<resConst>
<Consts>
<useLimit>&lt;DIV STYLE="text-align:Left;"&gt;&lt;DIV&gt;&lt;DIV&gt;&lt;P&gt;&lt;SPAN&gt;Please contact Sonoma County for information regarding the use of this data.&lt;/SPAN&gt;&lt;/P&gt;&lt;/DIV&gt;&lt;/DIV&gt;&lt;/DIV&gt;, None. However, users should be aware that temporal changes may have occurred since this dataset was collected and that some parts of these data may no longer represent actual surface conditions. Users should not use these data for critical applications without a full awareness of its limitations.</useLimit>
</Consts>
</resConst>
<dataLang>
<languageCode value="eng">
</languageCode>
<countryCode Sync="TRUE" value="USA">
</countryCode>
</dataLang>
<envirDesc Sync="TRUE"> Version 6.2 (Build 9200) ; Esri ArcGIS 10.7.1.11595</envirDesc>
<dataExt>
<geoEle>
<GeoBndBox>
<westBL>-123.133691</westBL>
<eastBL>-122.713223</eastBL>
<southBL>38.33358</southBL>
<northBL>38.857612</northBL>
</GeoBndBox>
</geoEle>
</dataExt>
<dataExt>
<exDesc>Sonoma County</exDesc>
<tempEle>
<TempExtent>
<exTemp>
<TM_Instant>
<tmPosition>2020-03-21</tmPosition>
</TM_Instant>
</exTemp>
</TempExtent>
</tempEle>
</dataExt>
<suppInfo>Raster File Type = GRID Bit Depth/Pixel Type = 32-bit float Raster Cell Size = 3 feet Interpolation or Resampling Technique = Triangulated Irregular Network (TIN), Linear Interpolation, Proprietary</suppInfo>
<spatRpType>
<SpatRepTypCd Sync="TRUE" value="002">
</SpatRepTypCd>
</spatRpType>
<dataExt>
<geoEle>
<GeoBndBox esriExtentType="search">
<exTypeCode Sync="TRUE">1</exTypeCode>
<westBL Sync="TRUE">-123.143247</westBL>
<eastBL Sync="TRUE">-122.492988</eastBL>
<northBL Sync="TRUE">38.860995</northBL>
<southBL Sync="TRUE">38.143544</southBL>
</GeoBndBox>
</geoEle>
</dataExt>
<tpCat>
<TopicCatCd value="013">
</TopicCatCd>
</tpCat>
<tpCat>
<TopicCatCd value="003">
</TopicCatCd>
</tpCat>
<tpCat>
<TopicCatCd value="006">
</TopicCatCd>
</tpCat>
</dataIdInfo>
<dqInfo>
<dqScope>
<scpLvl>
<ScopeCd value="005">
</ScopeCd>
</scpLvl>
</dqScope>
<report type="DQConcConsis">
<measDesc>Water features are derived from hydrologic model results and delineated from LiDAR data collected throughout the defined study area. Feature completeness is representative of the time period of data acquisition.</measDesc>
</report>
<report type="DQCompOm">
<measDesc>The study area was defined by Sonoma County. QSI performed a hydrological analysis and generated resulting data throughout the defined study area.</measDesc>
</report>
<dataLineage>
<prcStep>
<stepDesc>LAS Point Classification: The point classification is performed as described below. The bare earth surface is manually reviewed to ensure correct classification on the Class 2 (Ground) points. All data were manually reviewed and any remaining artifacts removed using functionality provided by TerraScan and TerraModeler. ArcMap is used as a final check of the bare earth dataset. TerraScan, LasTools, and Las Monkey was then used to create the deliverable industry-standard LAS files for both the All Point Cloud Data and the Bare Earth. Quantum Spatial, Inc. proprietary software was used to perform final statistical analysis of the classes in the LAS files, on a per tile level to verify final classification metrics and full LAS header information.</stepDesc>
<stepDateTm>2018-01-01</stepDateTm>
</prcStep>
<prcStep>
<stepDesc>Raw Data and Boresight Processing: The boresight for each lift was done individually as the solution may change slightly from lift to lift. The following steps describe the Raw Data Processing and Boresight process: 1) Technicians processed the raw data to LAS format flight lines using the final GPS/IMU solution. This LAS data set was used as source data for boresight. 2) Technicians first used Quantum Spatial, Inc. proprietary and commercial software to calculate initial boresight adjustment angles based on sample areas selected in the lift. These areas cover calibration flight lines collected in the lift, cross tie and production flight lines. These areas are well distributed in the lift coverage and cover multiple terrain types that are necessary for boresight angle calculation. The technician then analyzed the results and made any necessary additional adjustment until it is acceptable for the selected areas. 3) Once the boresight angle calculation was completed for the selected areas, the adjusted settings were applied to all of the flight lines of the lift and checked for consistency. The technicians utilized commercial and proprietary software packages to analyze how well flight line overlaps match for the entire lift and adjusted as necessary until the results met the project specifications. 4) Once all lifts were completed with individual boresight adjustment, the technicians checked and corrected the vertical misalignment of all flight lines and also the matching between data and ground truth. The relative accuracy was less than or equal to 7 cm RMSEz within individual swaths and less than or equal to 10 cm RMSEz or within swath overlap (between adjacent swaths). 5) The technicians ran a final vertical accuracy check of the boresighted flight lines against the surveyed check points after the z correction to ensure the requirement of NVA = 19.6 cm 95% Confidence Level (Required Accuracy) was met.</stepDesc>
<stepDateTm>2019-01-01</stepDateTm>
</prcStep>
<prcStep>
<stepDesc>Hydro depth raster DEM Processing: Hydro depth rasters were generated by subtracting the bare earth DEM from the water surface elevation DEM output from the HEC RAS modeling process</stepDesc>
<stepDateTm>2020-01-01</stepDateTm>
</prcStep>
<prcStep>
<stepDesc>QSI derived water surface shapes from a bare earth DEM created from the classified LiDAR point cloud and the results of hydrological modeling. Water surface elevations were simulated using HEC RAS 5.0.7 and output as polygon shapefiles. The resulting flood extent polygon shapefiles were created by comparing the modeled water surface elevation to the bare earth elevation as measured in the bare earth DEM.</stepDesc>
<stepDateTm>2020-03-20</stepDateTm>
</prcStep>
</dataLineage>
</dqInfo>
<dqInfo>
<dqScope>
<scpLvl>
<ScopeCd value="005">
</ScopeCd>
</scpLvl>
</dqScope>
<report type="DQConcConsis">
<measDesc>Data covers the entire area specified for this project.</measDesc>
</report>
<report type="DQCompOm">
<measDesc>LiDAR were collected and processed for the entire project study area during a previous LiDAR collection. In some areas of heavy vegetation and forest cover, there may be relatively few ground points in the LiDAR data. TINing the points produces large triangles and hence the elevations may be less accurate within such areas. In some areas with large bodies of water, competing water surface levels may be visible. This is due to seasonal water level fluctuation and intervals of time between acquisition of an area.</measDesc>
</report>
<report dimension="vertical" type="DQAbsExtPosAcc">
<measDesc>Ground survey data were acquired as part of the original LiDAR collection for Sonoma County. A subset of these points were reserved for non-vegetated vertical accuracy testing. The Bare Earth DEM NVA was tested with these reserved lidar data points located in bare earth (non-vegetated) areas. See the data report for methodology, descriptive statistics, and relevant standards and reporting language.</measDesc>
<evalMethDesc>The root mean square error (RMSE) of the native LiDAR point cloud data used in the creation of the bare earth DEM used to calculate this depth raster is 0.03 meters. Accuracy was assessed using ground check points (GCPs). These GCPs are distributed throughout the study area. See previous LiDAR data report.</evalMethDesc>
<measResult>
<QuanResult>
<quanVal>0.03</quanVal>
</QuanResult>
</measResult>
</report>
</dqInfo>
<spatRepInfo>
<Georect>
<axisDimension type="001">
<dimSize Sync="TRUE">86548</dimSize>
<dimResol>
<value Sync="TRUE">3.000000</value>
</dimResol>
</axisDimension>
<axisDimension type="002">
<dimSize Sync="TRUE">61253</dimSize>
<dimResol>
<value Sync="TRUE">3.000000</value>
</dimResol>
</axisDimension>
<cellGeo>
<CellGeoCd Sync="TRUE" value="002">
</CellGeoCd>
</cellGeo>
<numDims Sync="TRUE">2</numDims>
<tranParaAv Sync="TRUE">1</tranParaAv>
<chkPtAv Sync="TRUE">0</chkPtAv>
<cornerPts>
<pos Sync="TRUE">6236126.396389 1816123.543629</pos>
</cornerPts>
<cornerPts>
<pos Sync="TRUE">6236126.396389 2075767.543629</pos>
</cornerPts>
<cornerPts>
<pos Sync="TRUE">6419885.396389 2075767.543629</pos>
</cornerPts>
<cornerPts>
<pos Sync="TRUE">6419885.396389 1816123.543629</pos>
</cornerPts>
<centerPt>
<pos Sync="TRUE">6328005.896389 1945945.543629</pos>
</centerPt>
<ptInPixel>
<PixOrientCd Sync="TRUE" value="001">
</PixOrientCd>
</ptInPixel>
</Georect>
</spatRepInfo>
<mdHrLvName Sync="TRUE">dataset</mdHrLvName>
<refSysInfo>
<RefSystem>
<refSysID>
<identCode Sync="TRUE" code="6418">
</identCode>
<idCodeSpace Sync="TRUE">EPSG</idCodeSpace>
<idVersion Sync="TRUE">8.9.3(10.3.1)</idVersion>
</refSysID>
</RefSystem>
</refSysInfo>
<contInfo>
<ImgDesc>
<contentTyp>
<ContentTypCd Sync="TRUE" value="001">
</ContentTypCd>
</contentTyp>
<covDim>
<Band>
<dimDescrp Sync="TRUE">Band_1</dimDescrp>
<maxVal Sync="TRUE">170.153854</maxVal>
<minVal Sync="TRUE">0.000999</minVal>
<bitsPerVal Sync="TRUE">32</bitsPerVal>
</Band>
</covDim>
</ImgDesc>
</contInfo>
<spdoinfo>
<rastinfo>
<rasttype Sync="TRUE">Pixel</rasttype>
<rowcount Sync="TRUE">86548</rowcount>
<colcount Sync="TRUE">61253</colcount>
<rastxsz Sync="TRUE">3.000000</rastxsz>
<rastysz Sync="TRUE">3.000000</rastysz>
<rastbpp Sync="TRUE">32</rastbpp>
<vrtcount Sync="TRUE">1</vrtcount>
<rastorig Sync="TRUE">Upper Left</rastorig>
<rastcmap Sync="TRUE">FALSE</rastcmap>
<rastcomp Sync="TRUE">LZ77</rastcomp>
<rastband Sync="TRUE">1</rastband>
<rastdtyp Sync="TRUE">pixel codes</rastdtyp>
<rastifor Sync="TRUE">FGDBR</rastifor>
<rastplyr Sync="TRUE">TRUE</rastplyr>
</rastinfo>
</spdoinfo>
<spref>
<horizsys>
<planar>
<planci>
<plance Sync="TRUE">row and column</plance>
<coordrep>
<absres Sync="TRUE">3.000000</absres>
<ordres Sync="TRUE">3.000000</ordres>
</coordrep>
</planci>
</planar>
</horizsys>
</spref>
</metadata>
