<?xml version="1.0" encoding="UTF-8" standalone="no"?>
<metadata xml:lang="en">
<Esri>
<CreaDate>20251104</CreaDate>
<CreaTime>08271800</CreaTime>
<ArcGISFormat>1.0</ArcGISFormat>
<SyncOnce>FALSE</SyncOnce>
<DataProperties>
<itemProps>
<itemName Sync="TRUE">Lidar_Aspect_2022</itemName>
<nativeExtBox>
<westBL Sync="TRUE">6118514.665833</westBL>
<eastBL Sync="TRUE">6463973.292500</eastBL>
<southBL Sync="TRUE">1800803.485000</southBL>
<northBL Sync="TRUE">2077505.687500</northBL>
<exTypeCode Sync="TRUE">1</exTypeCode>
</nativeExtBox>
</itemProps>
<coordRef>
<type Sync="TRUE">Projected</type>
<geogcsn Sync="TRUE">GCS_NAD_1983_2011</geogcsn>
<csUnits Sync="TRUE">Linear Unit: Foot_US (0.304801)</csUnits>
<projcsn Sync="TRUE">NAD_1983_StatePlane_California_II_FIPS_0402_Feet_2011</projcsn>
<peXml Sync="TRUE">&lt;ProjectedCoordinateSystem xsi:type='typens:ProjectedCoordinateSystem' xmlns:xsi='http://www.w3.org/2001/XMLSchema-instance' xmlns:xs='http://www.w3.org/2001/XMLSchema' xmlns:typens='http://www.esri.com/schemas/ArcGIS/3.5.0'&gt;&lt;WKT&gt;PROJCS[&amp;quot;NAD_1983_StatePlane_California_II_FIPS_0402_Feet_2011&amp;quot;,GEOGCS[&amp;quot;GCS_NAD_1983_2011&amp;quot;,DATUM[&amp;quot;D_NAD_1983_2011&amp;quot;,SPHEROID[&amp;quot;GRS_1980&amp;quot;,6378137.0,298.257222101]],PRIMEM[&amp;quot;Greenwich&amp;quot;,0.0],UNIT[&amp;quot;Degree&amp;quot;,0.0174532925199433]],PROJECTION[&amp;quot;Lambert_Conformal_Conic&amp;quot;],PARAMETER[&amp;quot;False_Easting&amp;quot;,6561666.66666667],PARAMETER[&amp;quot;False_Northing&amp;quot;,1640416.66666667],PARAMETER[&amp;quot;Central_Meridian&amp;quot;,-122.0],PARAMETER[&amp;quot;Standard_Parallel_1&amp;quot;,38.3333333333333],PARAMETER[&amp;quot;Standard_Parallel_2&amp;quot;,39.8333333333333],PARAMETER[&amp;quot;Latitude_Of_Origin&amp;quot;,37.6666666666667],UNIT[&amp;quot;Foot_US&amp;quot;,0.3048006096012192]]&lt;/WKT&gt;&lt;XOrigin&gt;-115211800&lt;/XOrigin&gt;&lt;YOrigin&gt;-93821500&lt;/YOrigin&gt;&lt;XYScale&gt;36983428.057351544&lt;/XYScale&gt;&lt;ZOrigin&gt;-100000&lt;/ZOrigin&gt;&lt;ZScale&gt;10000&lt;/ZScale&gt;&lt;MOrigin&gt;-100000&lt;/MOrigin&gt;&lt;MScale&gt;10000&lt;/MScale&gt;&lt;XYTolerance&gt;0.0032808333333333331&lt;/XYTolerance&gt;&lt;ZTolerance&gt;0.001&lt;/ZTolerance&gt;&lt;MTolerance&gt;0.001&lt;/MTolerance&gt;&lt;HighPrecision&gt;true&lt;/HighPrecision&gt;&lt;/ProjectedCoordinateSystem&gt;</peXml>
</coordRef>
<RasterProperties>
<General>
<PixelDepth Sync="TRUE">32</PixelDepth>
<HasColormap Sync="TRUE">FALSE</HasColormap>
<CompressionType Sync="TRUE">None</CompressionType>
<NumBands Sync="TRUE">1</NumBands>
<Format Sync="TRUE">AMD</Format>
<HasPyramids Sync="TRUE">TRUE</HasPyramids>
<SourceType Sync="TRUE">continuous</SourceType>
<PixelType Sync="TRUE">floating point</PixelType>
<NoDataValue Sync="TRUE">
</NoDataValue>
</General>
<Properties>
<MaxImageHeight Sync="TRUE">4100</MaxImageHeight>
<MaxImageWidth Sync="TRUE">15000</MaxImageWidth>
<MaxRecordCount Sync="TRUE">1000</MaxRecordCount>
<MaxDownloadImageCount Sync="TRUE">20</MaxDownloadImageCount>
<MaxDownloadSizeLimit Sync="TRUE">2048</MaxDownloadSizeLimit>
<MaxMosaicImageCount Sync="TRUE">20</MaxMosaicImageCount>
<DefaultCompressionQuality Sync="TRUE">75</DefaultCompressionQuality>
<DefaultCompressionTolerance Sync="TRUE">0.01</DefaultCompressionTolerance>
<BlendWidth Sync="TRUE">10</BlendWidth>
<ViewpointSpacingX Sync="TRUE">600</ViewpointSpacingX>
<ViewpointSpacingY Sync="TRUE">300</ViewpointSpacingY>
<AllowedItemMetadata Sync="TRUE">Basic</AllowedItemMetadata>
<DefaultResamplingMethod Sync="TRUE">1</DefaultResamplingMethod>
<AllowedMosaicMethods Sync="TRUE">NorthWest,Center,LockRaster,ByAttribute,Nadir,Viewpoint,Seamline,None</AllowedMosaicMethods>
<AllowedCompressions Sync="TRUE">None,JPEG,LZ77,LERC</AllowedCompressions>
<AllowedMensurationCapabilities Sync="TRUE">Basic</AllowedMensurationCapabilities>
<AvailableMensurationCapabilities Sync="TRUE">None,Basic,Base-Top Height,Top-Top Shadow Height,Base-Top Shadow Height,3D</AvailableMensurationCapabilities>
<ClipToBoundary Sync="TRUE">-1</ClipToBoundary>
<FootprintMayContainNoData Sync="TRUE">-1</FootprintMayContainNoData>
<CellSizeTolerance Sync="TRUE">0.8</CellSizeTolerance>
<MinimumPixelContribution Sync="TRUE">1</MinimumPixelContribution>
<AvailableMosaicMethods Sync="TRUE">NorthWest,Center,LockRaster,ByAttribute,Nadir,Viewpoint,Seamline,None</AvailableMosaicMethods>
<AvailableCompressionMethods Sync="TRUE">None,JPEG,LZ77,LERC</AvailableCompressionMethods>
<AvailableItemMetadataLevels Sync="TRUE">None,Basic,Full</AvailableItemMetadataLevels>
<BandDefinitionKeyword Sync="TRUE">NONE</BandDefinitionKeyword>
<_docversion_ Sync="TRUE">10</_docversion_>
<AllowedFields Sync="TRUE">Name,MinPS,MaxPS,LowPS,HighPS,Tag,GroupName,ProductName,CenterX,CenterY,ZOrder,Shape_Length,Shape_Area,Thumbnail</AllowedFields>
<ApplyColorCorrection Sync="TRUE">0</ApplyColorCorrection>
<MaxCellSize Sync="TRUE">47244</MaxCellSize>
<LowCellSize Sync="TRUE">3.28083333333333</LowCellSize>
<HighCellSize Sync="TRUE">104.986666666667</HighCellSize>
</Properties>
<Functions Sync="TRUE">
<Function Description="Sets a new spatial reference and cell sizes" Name="Reproject Function">
<Arguments>
<Raster>MosaicFunction.OutputRaster</Raster>
<SpatialReference>
</SpatialReference>
<XCellsize>0</XCellsize>
<YCellsize>0</YCellsize>
<XOrigin>0</XOrigin>
<YOrigin>0</YOrigin>
</Arguments>
</Function>
<Function Description="Performs on-the-fly mosaic on a raster catalog." Name="Mosaic Function">
</Function>
</Functions>
</RasterProperties>
</DataProperties>
<SyncDate>20251205</SyncDate>
<SyncTime>07254000</SyncTime>
<ModDate>20251205</ModDate>
<ModTime>07254000</ModTime>
<ArcGISProfile>ISO19139</ArcGISProfile>
<scaleRange>
<minScale>150000000</minScale>
<maxScale>5000</maxScale>
</scaleRange>
</Esri>
<mdLang>
<languageCode Sync="TRUE" value="eng">
</languageCode>
<countryCode Sync="TRUE" value="USA">
</countryCode>
</mdLang>
<mdChar>
<CharSetCd value="004">
</CharSetCd>
</mdChar>
<mdHrLv>
<ScopeCd value="005">
</ScopeCd>
</mdHrLv>
<mdContact>
<rpOrgName>Sonoma County Vegetation Mapping and LiDAR Program</rpOrgName>
<rpCntInfo>
<cntAddress>
<eMailAdd>help@pacificvegmap.org</eMailAdd>
</cntAddress>
</rpCntInfo>
<role>
<RoleCd value="007">
</RoleCd>
</role>
</mdContact>
<mdDateSt Sync="TRUE">20251205</mdDateSt>
<mdStanName>ArcGIS Metadata</mdStanName>
<mdStanVer>1.0</mdStanVer>
<dataIdInfo>
<idCitation>
<resTitle>Lidar_Aspect_2022</resTitle>
<date>
<pubDate>2022-03-31</pubDate>
</date>
<citRespParty>
<rpOrgName>Sonoma County Agricultural Preservation and Open Space District</rpOrgName>
<role>
<RoleCd value="006">
</RoleCd>
</role>
</citRespParty>
<citRespParty>
<rpOrgName>Sonoma County Vegetation Mapping and LiDAR Program</rpOrgName>
<role>
<RoleCd value="006">
</RoleCd>
</role>
</citRespParty>
<citRespParty>
<rpOrgName>County of Sonoma ISD GIS Central</rpOrgName>
<rpCntInfo>
<cntAddress>
<delPoint>2615 Paulin Drive, Santa Rosa, CA, 95404, US</delPoint>
</cntAddress>
</rpCntInfo>
<role>
<RoleCd value="010">
</RoleCd>
</role>
</citRespParty>
<presForm>
<PresFormCd value="005">
</PresFormCd>
</presForm>
<presForm>
<fgdcGeoform>raster digital data</fgdcGeoform>
</presForm>
</idCitation>
<idAbs>&lt;div style='text-align:Left;'&gt;&lt;div&gt;&lt;div&gt;&lt;p&gt;&lt;span&gt;LiDAR Derivatives for 14 California Countieshttps://tukmangeospatial.egnyte.com/dl/ADWSBBL7acLiDAR Derivatives Datasheet Sonoma&lt;/span&gt;&lt;/p&gt;&lt;p&gt;&lt;span&gt;Original Coordinate System: NAD 1983 (2011) UTM Zone 10N&lt;/span&gt;&lt;/p&gt;&lt;p&gt;&lt;span&gt;Projected Coordinate System: State Plane NAD 1983 (2011), CA Zone II, US Survey Feet&lt;/span&gt;&lt;/p&gt;&lt;p&gt;&lt;span&gt;&lt;span&gt;Horizontal Datum: NAD 1983 2011&lt;/span&gt;&lt;/span&gt;&lt;/p&gt;&lt;p&gt;&lt;span&gt;&lt;span&gt;Vertical Coordinate System: NAVD88 (Geoid 18)&lt;/span&gt;&lt;/span&gt;&lt;/p&gt;&lt;p&gt;&lt;span&gt;&lt;span&gt;Pixel size = 1-meter&lt;/span&gt;&lt;/span&gt;&lt;/p&gt;&lt;p&gt;&lt;a href='https://storymaps.arcgis.com/stories/183976156b3940bc93167e7461fdc673' target='_blank' style='text-decoration:underline;'&gt;&lt;span&gt;&lt;span style='text-decoration:underline;'&gt;LiDAR Derivatives for 14 California Counties&lt;/span&gt;&lt;/span&gt;&lt;/a&gt;&lt;/p&gt;&lt;p&gt;&lt;a href='https://tukmangeospatial.egnyte.com/dl/ADWSBBL7ac' target='_blank' style='text-decoration:underline;'&gt;&lt;span&gt;&lt;span style='text-decoration:underline;'&gt;https://tukmangeospatial.egnyte.com/dl/ADWSBBL7ac&lt;/span&gt;&lt;/span&gt;&lt;/a&gt;&lt;/p&gt;&lt;p&gt;&lt;a href='https://tukmangeospatial.egnyte.com/dl/ADWSBBL7ac' target='_blank' style='text-decoration:underline;'&gt;&lt;span&gt;&lt;span style='text-decoration:underline;'&gt;LiDAR Derivatives Datasheet Sonoma&lt;/span&gt;&lt;/span&gt;&lt;/a&gt;&lt;/p&gt;&lt;/div&gt;&lt;/div&gt;&lt;/div&gt;</idAbs>
<idPurp>The aspect raster is calculated from the DTM with each pixel representing the compass direction that a slope faces. The pixels will have a value from 0-360° measured in degrees from north indicating the azimuth</idPurp>
<idCredit>Funders: California Natural Resources Agency, State Coastal Conservancy, NASA, USGS, Sonoma Water, University of California, San Diego, Sonoma Ag + Open Space, Humboldt Bay Municipal Water District
Grantees &amp; Coordinating Organizations: North Coast Resource Partnership, Solano County
Technical Team: NV5 Geospatial and Tukman Geospatial</idCredit>
<idStatus>
<ProgCd value="001">
</ProgCd>
</idStatus>
<resMaint>
<maintFreq>
<MaintFreqCd value="011">
</MaintFreqCd>
</maintFreq>
</resMaint>
<placeKeys>
<keyword>Sonoma County</keyword>
</placeKeys>
<themeKeys>
<keyword>LiDAR</keyword>
<keyword>Light Detection And Ranging</keyword>
</themeKeys>
<themeKeys>
<thesaName>
<resTitle>ISO 19115 Topic Categories</resTitle>
</thesaName>
<keyword>imageryBaseMapsEarthCover</keyword>
</themeKeys>
<searchKeys>
<keyword>LiDAR</keyword>
<keyword>Light Detection And Ranging</keyword>
<keyword>imageryBaseMapsEarthCover</keyword>
<keyword>Sonoma County</keyword>
</searchKeys>
<resConst>
<Consts>
<useLimit>&lt;div style='text-align:Left;'&gt;&lt;div&gt;&lt;div&gt;&lt;p&gt;&lt;span&gt;Publicly available.&lt;/span&gt;&lt;/p&gt;&lt;p&gt;&lt;span&gt;This data has been reprojected from UTM Zone 10N. Horizontal units are in meters. Vertical units are in meters.Data Limitations and Missing Data: While it is great to have harmonized lidar data and county-by-county derivatives, there are numerous limitations to these data and some areas of missing data. Please be aware that these limitations can result in incorrect or misleading information. Limitations and areas of missing data include the following: 1. There is a 340,000 acre ‘hole’ (No Data) in the lidar data products between Del Norte and Humboldt Counties. 2. There are holes (No Data areas) over some tribal lands in Sonoma, Lake, and Mendocino Counties. 3. There are data quality issues, especially in the older Quality Level 2 datasets, leading to anomalies in the point clouds and the derivatives. These can manifest as ‘pits’ in the canopy height models, anomalous high returns in the canopy and forestry metrics that aren’t vegetation, and missing data in places. We are limited to the data quality of the source point clouds and couldn’t re-fly areas as part of this effort. 4. Note that because we have harmonized the point clouds and created products from a harmonized point cloud, there will be differences across collection boundaries in the characteristics of the data. These will stem from both numerous factors including variations in collection time of year, changes in ground condition between adjacent collection, point density of adjacent collections, and lidar collection specification differences of adjacent collections (e.g., point density, sensor characteristics, and processing specifications). Please be aware of these variations and the shortcomings that they impose when using these data for modeling and analysis. 5. There are particular issues with the 2017 FEMA R9 collection in Modoc County. As a result, some of the derivative rasters do not exist for Modoc County.&lt;/span&gt;&lt;/p&gt;&lt;/div&gt;&lt;/div&gt;&lt;/div&gt;</useLimit>
</Consts>
</resConst>
<resConst>
<LegConsts>
<useLimit>Data were provided by the University of Maryland and the Sonoma County Vegetation Mapping and LiDAR Program (http://sonomavegmap.org) under grant NNX13AP69G from NASA’s Carbon Monitoring System (Dr. Ralph Dubayah, PI). This data is available for unrestricted public use. However, users should acknowledge the source of the data in any reports, publications, or presentations where the data is used.</useLimit>
</LegConsts>
</resConst>
<spatRpType>
<SpatRepTypCd value="002">
</SpatRepTypCd>
</spatRpType>
<envirDesc>Esri ArcGIS 13.5.3.57366</envirDesc>
<dataExt>
<geoEle>
<GeoBndBox>
<exTypeCode>true</exTypeCode>
<westBL>-123.556315</westBL>
<eastBL>-122.339493</eastBL>
<northBL>38.866328</northBL>
<southBL>38.096736</southBL>
</GeoBndBox>
</geoEle>
</dataExt>
<tpCat>
<TopicCatCd value="010">
</TopicCatCd>
</tpCat>
<dataLang>
<languageCode Sync="TRUE" value="eng">
</languageCode>
<countryCode Sync="TRUE" value="USA">
</countryCode>
</dataLang>
<dataExt>
<geoEle>
<GeoBndBox esriExtentType="search">
<exTypeCode Sync="TRUE">1</exTypeCode>
<westBL Sync="TRUE">-123.556315</westBL>
<eastBL Sync="TRUE">-122.339493</eastBL>
<northBL Sync="TRUE">38.866328</northBL>
<southBL Sync="TRUE">38.096736</southBL>
</GeoBndBox>
</geoEle>
</dataExt>
</dataIdInfo>
<dqInfo>
<dqScope>
<scpLvl>
<ScopeCd value="005">
</ScopeCd>
</scpLvl>
</dqScope>
<report type="DQConcConsis">
<measDesc>LiDAR flight lines have been examined to ensure that there was at least 60% sidelap, there are no gaps between flightlines, and overlapping flightlines have consistent elevation values. Shaded relief images have been visually inspected for data errors such as pits, border artifacts, gaps, and shifting. The data were examined at a 1:3000 scale.</measDesc>
</report>
<report type="DQCompOm">
<measDesc>LiDAR has been collected and processed for all areas within the project study Area. In the First-Return surface model, only the highest hits are shown (e.g. tree-tops, roofs, etc.).</measDesc>
</report>
<report dimension="horizontal" type="DQAbsExtPosAcc">
<measDesc>Relative Accuracy measures the divergence between points from different flightlines. Relative Accuracy median is 0.05 meters (0.16 feet) out of 106,255,665,985 laser points over 4,133 flightlines. For more information regarding the internal consistency between ground-classified points from different overlapping flightlines please see LiDAR data report.</measDesc>
</report>
<report dimension="vertical" type="DQAbsExtPosAcc">
<measDesc>The Fundamental Vertical Accuracy (FVA) of the data set is 0.03 meters (0.09 feet). Accuracy was assessed using 9,685 ground control (real time kinematic) points. These ground control points are distributed through out the project study area. Supplemental Vertical Accuracy (SVA) is reported as the deviation between landcover classified laser points and landclass checkpoints at the 95th percentile. The SVA for individual land classes are 0.27 meters for shrub, 0.09 meters for short grass, 0.19 meters for tall grass, 0.19 meters for mixed forest, 0.05 meters for developed areas, 0.12 for herbaceous upland natural areas, 0.05 for non-natural woody areas and 0.07 for barren areas. The supplemental vertical accuracies were calculated using 417 individual landclass checkpoints. Consolidated Vertical Accuracy (CVA) is reported as the deviation between both ground and landcover classified laser points from all survey checkpoints, reported at the 95th percentile. CVA for this dataset is 0.06 meters, and was calculated from 10,102 ground and landclass checkpoints. See LiDAR data report.</measDesc>
<evalMethDesc>The FVA was tested using 851 independent ground control points (GCPs) located in open terrain. The GCPs were distributed throughout the project area. Elevations from the unclassified LiDAR surface were measured for the x,y location of each check point. Elevations interpolated from the LiDAR surface were then compared to the elevation values of the surveyed control. The Root-Mean-Square (RMSE) was computed to be 0.03 m (0.09 ft.). AccuracyZ has been tested to meet 0.05 m (0.17 ft.) FVA at 95 Percent confidence level using RMSE(z) x 1.9600 as defined by the National Standards for Spatial Data Accuracy (NSSDA); assessed and reported using National Digital Elevation Program (NDEP)/ASRPS Guidelines.</evalMethDesc>
<measResult>
<QuanResult>
<quanVal>0.05 meters RMSEz at 95 percent Confidence Interval.</quanVal>
</QuanResult>
</measResult>
</report>
</dqInfo>
<spatRepInfo>
<Georect>
<numDims>2</numDims>
<axisDimension type="001">
<dimSize>84339</dimSize>
<dimResol>
<value Sync="TRUE" uom="ftUS">3.280833</value>
</dimResol>
</axisDimension>
<axisDimension type="002">
<dimSize>105296</dimSize>
<dimResol>
<value Sync="TRUE" uom="ftUS">3.280833</value>
</dimResol>
</axisDimension>
<cellGeo>
<CellGeoCd Sync="TRUE" value="002">
</CellGeoCd>
</cellGeo>
<tranParaAv Sync="TRUE">1</tranParaAv>
<chkPtAv Sync="TRUE">0</chkPtAv>
<cornerPts>
<pos Sync="TRUE">6118514.665833 1800803.485000</pos>
</cornerPts>
<cornerPts>
<pos Sync="TRUE">6118514.665833 2077505.687500</pos>
</cornerPts>
<cornerPts>
<pos Sync="TRUE">6463973.292500 2077505.687500</pos>
</cornerPts>
<cornerPts>
<pos Sync="TRUE">6463973.292500 1800803.485000</pos>
</cornerPts>
<centerPt>
<pos Sync="TRUE">6291243.979167 1939154.586250</pos>
</centerPt>
<ptInPixel>
<PixOrientCd Sync="TRUE" value="001">
</PixOrientCd>
</ptInPixel>
</Georect>
</spatRepInfo>
<refSysInfo>
<RefSystem>
<refSysID>
<identCode Sync="TRUE" code="0">
</identCode>
</refSysID>
</RefSystem>
</refSysInfo>
<contInfo>
<ImgDesc>
<contentTyp>
<ContentTypCd Sync="TRUE" value="001">
</ContentTypCd>
</contentTyp>
<covDim>
<Band>
<dimDescrp Sync="TRUE">Band_1</dimDescrp>
<maxVal Sync="TRUE">359.296845</maxVal>
<minVal Sync="TRUE">0.703125</minVal>
<bitsPerVal Sync="TRUE">32</bitsPerVal>
<valUnit>
<UOM type="length">
</UOM>
</valUnit>
</Band>
</covDim>
</ImgDesc>
</contInfo>
<eainfo>
<overview>
<eaover>This raster data set represents highest hit surface elevations derived from classified LiDAR point data.</eaover>
<eadetcit>Sonoma County Vegetation Mapping and LiDAR Program</eadetcit>
</overview>
</eainfo>
</metadata>
