{ "currentVersion": 11.3, "serviceDescription": "
Percent slope derived from 2022 LiDAR bare-earth DTM (Digital Terrain Model, State Plane) and reclassified into set intervals and 9 different categories from 0% to greater than 50%. <\/span><\/p> Slope in Percent specified by the Ag Commissioner: (Enumerated domain value definition source\u2003County of Sonoma ISD \u2013 GIS)<\/span><\/span><\/p> List of values\u2003<\/span><\/span><\/p> Value\u20031 \u2003Zero to 5% slopes <\/span><\/p> Value\u20032 \u2003>5% slopes to 10% slopes <\/span><\/p> Value\u20033 \u2003>10% slopes to 15% slopes <\/span><\/p> Value\u20034 \u2003>15% slopes to 20% slopes <\/span><\/p> Value\u20035 \u2003>20% slopes to 25% slopes <\/span><\/p> Value\u20036 \u2003>25% slopes to 30% slopes <\/span><\/p> Value\u20037 \u2003>30% slopes to 40% slopes <\/span><\/p> Value\u20038 \u2003>40% slopes to 50% slopes<\/span><\/p> Value\u20039 \u2003> 50% slopes<\/span><\/p> <\/p> 2022 Lidar derived DTM:<\/span><\/p> The Digital Terrain Model (DTM) represents the orthometric elevations of the earth\u2019s surface with all above ground features removed. It is created by first creating a TIN of ground classified lidar returns and converting the TIN to a raster at the desired resolution. The DTM is hydroflattened. <\/span><\/span>This is a 3-foot resolution version of the DTM, with pixel values in feet and a State Plane horizontal coordinate system. <\/span><\/span><\/p> https://tukmangeospatial.egnyte.com/dl/ADWSBBL7ac<\/span><\/p> <\/p> Grantees & Coordinating Organizations: <\/span><\/span>North Coast Resource Partnership, Solano County <\/span><\/span><\/p> Funders<\/span><\/span>: California Natural Resources Agency, State Coastal Conservancy, NASA, USGS, Sonoma Water, University of California, San Diego, Sonoma Ag + Open Space, Humboldt Bay Municipal Water District <\/span><\/span><\/p> Technical Team: <\/span><\/span>NV5 Geospatial and Tukman Geospatial <\/span><\/span><\/p> Access<\/span><\/span>: Publicly available, see links throughout this document<\/span><\/span><\/p> https://s3.us-west-1.wasabisys.com/lidarderivs/Sonoma_be_stateplane.zip <\/span><\/span><\/p> <\/p> <\/p><\/div><\/div><\/div>",
"name": "Rasters/Lidar_Slope_Percent_Reclassified_2022_tif",
"description": " Percent slope derived from 2022 LiDAR bare-earth DTM (Digital Terrain Model, State Plane) and reclassified into set intervals and 9 different categories from 0% to greater than 50%. <\/span><\/p> Slope in Percent specified by the Ag Commissioner: (Enumerated domain value definition source\u2003County of Sonoma ISD \u2013 GIS)<\/span><\/span><\/p> List of values\u2003<\/span><\/span><\/p> Value\u20031 \u2003Zero to 5% slopes <\/span><\/p> Value\u20032 \u2003>5% slopes to 10% slopes <\/span><\/p> Value\u20033 \u2003>10% slopes to 15% slopes <\/span><\/p> Value\u20034 \u2003>15% slopes to 20% slopes <\/span><\/p> Value\u20035 \u2003>20% slopes to 25% slopes <\/span><\/p> Value\u20036 \u2003>25% slopes to 30% slopes <\/span><\/p> Value\u20037 \u2003>30% slopes to 40% slopes <\/span><\/p> Value\u20038 \u2003>40% slopes to 50% slopes<\/span><\/p> Value\u20039 \u2003> 50% slopes<\/span><\/p> <\/p> 2022 Lidar derived DTM:<\/span><\/p> The Digital Terrain Model (DTM) represents the orthometric elevations of the earth\u2019s surface with all above ground features removed. It is created by first creating a TIN of ground classified lidar returns and converting the TIN to a raster at the desired resolution. The DTM is hydroflattened. <\/span><\/span>This is a 3-foot resolution version of the DTM, with pixel values in feet and a State Plane horizontal coordinate system. <\/span><\/span><\/p> https://tukmangeospatial.egnyte.com/dl/ADWSBBL7ac<\/span><\/p> <\/p> Grantees & Coordinating Organizations: <\/span><\/span>North Coast Resource Partnership, Solano County <\/span><\/span><\/p> Funders<\/span><\/span>: California Natural Resources Agency, State Coastal Conservancy, NASA, USGS, Sonoma Water, University of California, San Diego, Sonoma Ag + Open Space, Humboldt Bay Municipal Water District <\/span><\/span><\/p> Technical Team: <\/span><\/span>NV5 Geospatial and Tukman Geospatial <\/span><\/span><\/p> Access<\/span><\/span>: Publicly available, see links throughout this document<\/span><\/span><\/p> https://s3.us-west-1.wasabisys.com/lidarderivs/Sonoma_be_stateplane.zip <\/span><\/span><\/p> <\/p> <\/p><\/div><\/div><\/div>",
"extent": {
"xmin": 6118513.00265109,
"ymin": 1800802.0189442686,
"xmax": 6463975.00265109,
"ymax": 2077507.0189442686,
"spatialReference": {
"wkt2": "PROJCRS[\"NAD_1983_StatePlane_California_II_FIPS_0402_Feet\",BASEGEOGCRS[\"GCS_North_American_1983\",DATUM[\"D_North_American_1983\",ELLIPSOID[\"GRS_1980\",6378137.0,298.257222101,LENGTHUNIT[\"Meter\",1.0]]],PRIMEM[\"Greenwich\",0.0,ANGLEUNIT[\"Degree\",0.0174532925199433]],CS[ellipsoidal,2],ANGLEUNIT[\"Degree\",0.0174532925199433]],CONVERSION[\"Lambert_Conformal_Conic\",METHOD[\"Lambert_Conformal_Conic\"],PARAMETER[\"False_Easting\",6561666.667,LENGTHUNIT[\"Foot_US\",0.3048006096012192]],PARAMETER[\"False_Northing\",1640416.667,LENGTHUNIT[\"Foot_US\",0.3048006096012192]],PARAMETER[\"Central_Meridian\",-122.0,ANGLEUNIT[\"Degree\",0.0174532925199433]],PARAMETER[\"Standard_Parallel_1\",38.3333333333333,ANGLEUNIT[\"Degree\",0.0174532925199433]],PARAMETER[\"Standard_Parallel_2\",39.8333333333333,ANGLEUNIT[\"Degree\",0.0174532925199433]],PARAMETER[\"Latitude_Of_Origin\",37.6666666666667,ANGLEUNIT[\"Degree\",0.0174532925199433]]],CS[Cartesian,2],AXIS[\"Easting (X)\",east,ORDER[1]],AXIS[\"Northing (Y)\",north,ORDER[2]],LENGTHUNIT[\"Foot_US\",0.3048006096012192]]",
"wkt": "PROJCS[\"NAD_1983_StatePlane_California_II_FIPS_0402_Feet\",GEOGCS[\"GCS_North_American_1983\",DATUM[\"D_North_American_1983\",SPHEROID[\"GRS_1980\",6378137.0,298.257222101]],PRIMEM[\"Greenwich\",0.0],UNIT[\"Degree\",0.0174532925199433]],PROJECTION[\"Lambert_Conformal_Conic\"],PARAMETER[\"False_Easting\",6561666.667],PARAMETER[\"False_Northing\",1640416.667],PARAMETER[\"Central_Meridian\",-122.0],PARAMETER[\"Standard_Parallel_1\",38.3333333333333],PARAMETER[\"Standard_Parallel_2\",39.8333333333333],PARAMETER[\"Latitude_Of_Origin\",37.6666666666667],UNIT[\"Foot_US\",0.3048006096012192]]"
}
},
"initialExtent": {
"xmin": 6118513.00265109,
"ymin": 1800802.0189442686,
"xmax": 6463975.00265109,
"ymax": 2077507.0189442686,
"spatialReference": {
"wkt2": "PROJCRS[\"NAD_1983_StatePlane_California_II_FIPS_0402_Feet\",BASEGEOGCRS[\"GCS_North_American_1983\",DATUM[\"D_North_American_1983\",ELLIPSOID[\"GRS_1980\",6378137.0,298.257222101,LENGTHUNIT[\"Meter\",1.0]]],PRIMEM[\"Greenwich\",0.0,ANGLEUNIT[\"Degree\",0.0174532925199433]],CS[ellipsoidal,2],ANGLEUNIT[\"Degree\",0.0174532925199433]],CONVERSION[\"Lambert_Conformal_Conic\",METHOD[\"Lambert_Conformal_Conic\"],PARAMETER[\"False_Easting\",6561666.667,LENGTHUNIT[\"Foot_US\",0.3048006096012192]],PARAMETER[\"False_Northing\",1640416.667,LENGTHUNIT[\"Foot_US\",0.3048006096012192]],PARAMETER[\"Central_Meridian\",-122.0,ANGLEUNIT[\"Degree\",0.0174532925199433]],PARAMETER[\"Standard_Parallel_1\",38.3333333333333,ANGLEUNIT[\"Degree\",0.0174532925199433]],PARAMETER[\"Standard_Parallel_2\",39.8333333333333,ANGLEUNIT[\"Degree\",0.0174532925199433]],PARAMETER[\"Latitude_Of_Origin\",37.6666666666667,ANGLEUNIT[\"Degree\",0.0174532925199433]]],CS[Cartesian,2],AXIS[\"Easting (X)\",east,ORDER[1]],AXIS[\"Northing (Y)\",north,ORDER[2]],LENGTHUNIT[\"Foot_US\",0.3048006096012192]]",
"wkt": "PROJCS[\"NAD_1983_StatePlane_California_II_FIPS_0402_Feet\",GEOGCS[\"GCS_North_American_1983\",DATUM[\"D_North_American_1983\",SPHEROID[\"GRS_1980\",6378137.0,298.257222101]],PRIMEM[\"Greenwich\",0.0],UNIT[\"Degree\",0.0174532925199433]],PROJECTION[\"Lambert_Conformal_Conic\"],PARAMETER[\"False_Easting\",6561666.667],PARAMETER[\"False_Northing\",1640416.667],PARAMETER[\"Central_Meridian\",-122.0],PARAMETER[\"Standard_Parallel_1\",38.3333333333333],PARAMETER[\"Standard_Parallel_2\",39.8333333333333],PARAMETER[\"Latitude_Of_Origin\",37.6666666666667],UNIT[\"Foot_US\",0.3048006096012192]]"
}
},
"fullExtent": {
"xmin": 6118513.00265109,
"ymin": 1800802.0189442686,
"xmax": 6463975.00265109,
"ymax": 2077507.0189442686,
"spatialReference": {
"wkt2": "PROJCRS[\"NAD_1983_StatePlane_California_II_FIPS_0402_Feet\",BASEGEOGCRS[\"GCS_North_American_1983\",DATUM[\"D_North_American_1983\",ELLIPSOID[\"GRS_1980\",6378137.0,298.257222101,LENGTHUNIT[\"Meter\",1.0]]],PRIMEM[\"Greenwich\",0.0,ANGLEUNIT[\"Degree\",0.0174532925199433]],CS[ellipsoidal,2],ANGLEUNIT[\"Degree\",0.0174532925199433]],CONVERSION[\"Lambert_Conformal_Conic\",METHOD[\"Lambert_Conformal_Conic\"],PARAMETER[\"False_Easting\",6561666.667,LENGTHUNIT[\"Foot_US\",0.3048006096012192]],PARAMETER[\"False_Northing\",1640416.667,LENGTHUNIT[\"Foot_US\",0.3048006096012192]],PARAMETER[\"Central_Meridian\",-122.0,ANGLEUNIT[\"Degree\",0.0174532925199433]],PARAMETER[\"Standard_Parallel_1\",38.3333333333333,ANGLEUNIT[\"Degree\",0.0174532925199433]],PARAMETER[\"Standard_Parallel_2\",39.8333333333333,ANGLEUNIT[\"Degree\",0.0174532925199433]],PARAMETER[\"Latitude_Of_Origin\",37.6666666666667,ANGLEUNIT[\"Degree\",0.0174532925199433]]],CS[Cartesian,2],AXIS[\"Easting (X)\",east,ORDER[1]],AXIS[\"Northing (Y)\",north,ORDER[2]],LENGTHUNIT[\"Foot_US\",0.3048006096012192]]",
"wkt": "PROJCS[\"NAD_1983_StatePlane_California_II_FIPS_0402_Feet\",GEOGCS[\"GCS_North_American_1983\",DATUM[\"D_North_American_1983\",SPHEROID[\"GRS_1980\",6378137.0,298.257222101]],PRIMEM[\"Greenwich\",0.0],UNIT[\"Degree\",0.0174532925199433]],PROJECTION[\"Lambert_Conformal_Conic\"],PARAMETER[\"False_Easting\",6561666.667],PARAMETER[\"False_Northing\",1640416.667],PARAMETER[\"Central_Meridian\",-122.0],PARAMETER[\"Standard_Parallel_1\",38.3333333333333],PARAMETER[\"Standard_Parallel_2\",39.8333333333333],PARAMETER[\"Latitude_Of_Origin\",37.6666666666667],UNIT[\"Foot_US\",0.3048006096012192]]"
}
},
"sortableFields": "",
"bandCount": 1,
"pixelType": "U16",
"minValues": [
0
],
"maxValues": [
9
],
"meanValues": [
2.598403011113
],
"stdvValues": [
3.4467872782361
],
"hasMultidimensions": false,
"pixelSizeX": 3,
"pixelSizeY": 3,
"meanPixelSize": 0.9144018288036577,
"datasetFormat": "TIFF",
"uncompressedSize": 21242458380,
"blockWidth": 128,
"blockHeight": 128,
"compressionType": "None",
"bandNames": [
"Band_1"
],
"allowCopy": true,
"allowAnalysis": true,
"itemAccess": false,
"inspectionCapabilities": "",
"minPixelSize": 0,
"maxPixelSize": 0,
"copyrightText": "Sonoma County Ag + Open Space, County of Sonoma ISD-GIS",
"serviceDataType": "esriImageServiceDataTypeThematic",
"serviceSourceType": "esriImageServiceSourceTypeDataset",
"objectIdField": "",
"fields": [],
"capabilities": "Mensuration,Image,Metadata",
"defaultMosaicMethod": "Center",
"allowedMosaicMethods": "",
"sortField": "",
"sortValue": null,
"sortAscending": true,
"mosaicOperator": "First",
"defaultCompressionQuality": 75,
"defaultResamplingMethod": "Bilinear",
"maxImageHeight": 4100,
"maxImageWidth": 15000,
"allowRasterFunction": true,
"rasterFunctionInfos": [
{
"name": "None",
"description": "",
"help": ""
}
],
"rasterTypeInfos": [
{
"name": "Raster Dataset",
"description": "Supports all ArcGIS Raster Datasets",
"help": ""
}
],
"mensurationCapabilities": "Basic",
"hasHistograms": true,
"hasColormap": true,
"hasRasterAttributeTable": true,
"minScale": 0,
"maxScale": 0,
"exportTilesAllowed": false,
"supportsStatistics": false,
"supportsAdvancedQueries": false,
"editFieldsInfo": null,
"ownershipBasedAccessControlForRasters": null,
"allowComputeTiePoints": false,
"useStandardizedQueries": true,
"advancedQueryCapabilities": {
"useStandardizedQueries": true,
"supportsStatistics": false,
"supportsOrderBy": false,
"supportsDistinct": false,
"supportsPagination": false
},
"spatialReference": {
"wkt2": "PROJCRS[\"NAD_1983_StatePlane_California_II_FIPS_0402_Feet\",BASEGEOGCRS[\"GCS_North_American_1983\",DATUM[\"D_North_American_1983\",ELLIPSOID[\"GRS_1980\",6378137.0,298.257222101,LENGTHUNIT[\"Meter\",1.0]]],PRIMEM[\"Greenwich\",0.0,ANGLEUNIT[\"Degree\",0.0174532925199433]],CS[ellipsoidal,2],ANGLEUNIT[\"Degree\",0.0174532925199433]],CONVERSION[\"Lambert_Conformal_Conic\",METHOD[\"Lambert_Conformal_Conic\"],PARAMETER[\"False_Easting\",6561666.667,LENGTHUNIT[\"Foot_US\",0.3048006096012192]],PARAMETER[\"False_Northing\",1640416.667,LENGTHUNIT[\"Foot_US\",0.3048006096012192]],PARAMETER[\"Central_Meridian\",-122.0,ANGLEUNIT[\"Degree\",0.0174532925199433]],PARAMETER[\"Standard_Parallel_1\",38.3333333333333,ANGLEUNIT[\"Degree\",0.0174532925199433]],PARAMETER[\"Standard_Parallel_2\",39.8333333333333,ANGLEUNIT[\"Degree\",0.0174532925199433]],PARAMETER[\"Latitude_Of_Origin\",37.6666666666667,ANGLEUNIT[\"Degree\",0.0174532925199433]]],CS[Cartesian,2],AXIS[\"Easting (X)\",east,ORDER[1]],AXIS[\"Northing (Y)\",north,ORDER[2]],LENGTHUNIT[\"Foot_US\",0.3048006096012192]]",
"wkt": "PROJCS[\"NAD_1983_StatePlane_California_II_FIPS_0402_Feet\",GEOGCS[\"GCS_North_American_1983\",DATUM[\"D_North_American_1983\",SPHEROID[\"GRS_1980\",6378137.0,298.257222101]],PRIMEM[\"Greenwich\",0.0],UNIT[\"Degree\",0.0174532925199433]],PROJECTION[\"Lambert_Conformal_Conic\"],PARAMETER[\"False_Easting\",6561666.667],PARAMETER[\"False_Northing\",1640416.667],PARAMETER[\"Central_Meridian\",-122.0],PARAMETER[\"Standard_Parallel_1\",38.3333333333333],PARAMETER[\"Standard_Parallel_2\",39.8333333333333],PARAMETER[\"Latitude_Of_Origin\",37.6666666666667],UNIT[\"Foot_US\",0.3048006096012192]]"
},
"resampling": false
}