<?xml version="1.0" encoding="UTF-8" standalone="no"?>
<metadata xml:lang="en">
<Esri>
<CreaDate>20251009</CreaDate>
<CreaTime>14054400</CreaTime>
<ArcGISFormat>1.0</ArcGISFormat>
<SyncOnce>FALSE</SyncOnce>
<DataProperties>
<itemProps>
<itemName Sync="TRUE">Lidar_Vegetation_Height_2022</itemName>
<nativeExtBox>
<westBL Sync="TRUE">6118513.000000</westBL>
<eastBL Sync="TRUE">6463975.000000</eastBL>
<southBL Sync="TRUE">1800802.000000</southBL>
<northBL Sync="TRUE">2077507.000000</northBL>
<exTypeCode Sync="TRUE">1</exTypeCode>
</nativeExtBox>
</itemProps>
<coordRef>
<type Sync="TRUE">Projected</type>
<geogcsn Sync="TRUE">GCS_NAD_1983_2011</geogcsn>
<csUnits Sync="TRUE">Linear Unit: Foot_US (0.304801)</csUnits>
<projcsn Sync="TRUE">NAD_1983_StatePlane_California_II_FIPS_0402_Feet_2011</projcsn>
<peXml Sync="TRUE">&lt;ProjectedCoordinateSystem xsi:type='typens:ProjectedCoordinateSystem' xmlns:xsi='http://www.w3.org/2001/XMLSchema-instance' xmlns:xs='http://www.w3.org/2001/XMLSchema' xmlns:typens='http://www.esri.com/schemas/ArcGIS/3.5.0'&gt;&lt;WKT&gt;PROJCS[&amp;quot;NAD_1983_StatePlane_California_II_FIPS_0402_Feet_2011&amp;quot;,GEOGCS[&amp;quot;GCS_NAD_1983_2011&amp;quot;,DATUM[&amp;quot;D_NAD_1983_2011&amp;quot;,SPHEROID[&amp;quot;GRS_1980&amp;quot;,6378137.0,298.257222101]],PRIMEM[&amp;quot;Greenwich&amp;quot;,0.0],UNIT[&amp;quot;Degree&amp;quot;,0.0174532925199433]],PROJECTION[&amp;quot;Lambert_Conformal_Conic&amp;quot;],PARAMETER[&amp;quot;False_Easting&amp;quot;,6561666.66666667],PARAMETER[&amp;quot;False_Northing&amp;quot;,1640416.66666667],PARAMETER[&amp;quot;Central_Meridian&amp;quot;,-122.0],PARAMETER[&amp;quot;Standard_Parallel_1&amp;quot;,38.3333333333333],PARAMETER[&amp;quot;Standard_Parallel_2&amp;quot;,39.8333333333333],PARAMETER[&amp;quot;Latitude_Of_Origin&amp;quot;,37.6666666666667],UNIT[&amp;quot;Foot_US&amp;quot;,0.3048006096012192]]&lt;/WKT&gt;&lt;XOrigin&gt;-115211800&lt;/XOrigin&gt;&lt;YOrigin&gt;-93821500&lt;/YOrigin&gt;&lt;XYScale&gt;36983428.057351544&lt;/XYScale&gt;&lt;ZOrigin&gt;-100000&lt;/ZOrigin&gt;&lt;ZScale&gt;10000&lt;/ZScale&gt;&lt;MOrigin&gt;-100000&lt;/MOrigin&gt;&lt;MScale&gt;10000&lt;/MScale&gt;&lt;XYTolerance&gt;0.0032808333333333331&lt;/XYTolerance&gt;&lt;ZTolerance&gt;0.001&lt;/ZTolerance&gt;&lt;MTolerance&gt;0.001&lt;/MTolerance&gt;&lt;HighPrecision&gt;true&lt;/HighPrecision&gt;&lt;/ProjectedCoordinateSystem&gt;</peXml>
</coordRef>
<RasterProperties>
<General>
<PixelDepth Sync="TRUE">32</PixelDepth>
<HasColormap Sync="TRUE">FALSE</HasColormap>
<CompressionType Sync="TRUE">None</CompressionType>
<NumBands Sync="TRUE">1</NumBands>
<Format Sync="TRUE">AMD</Format>
<HasPyramids Sync="TRUE">TRUE</HasPyramids>
<SourceType Sync="TRUE">continuous</SourceType>
<PixelType Sync="TRUE">floating point</PixelType>
<NoDataValue Sync="TRUE">
</NoDataValue>
</General>
<Properties>
<MaxImageHeight Sync="TRUE">4100</MaxImageHeight>
<MaxImageWidth Sync="TRUE">15000</MaxImageWidth>
<MaxRecordCount Sync="TRUE">1000</MaxRecordCount>
<MaxDownloadImageCount Sync="TRUE">20</MaxDownloadImageCount>
<MaxDownloadSizeLimit Sync="TRUE">2048</MaxDownloadSizeLimit>
<MaxMosaicImageCount Sync="TRUE">20</MaxMosaicImageCount>
<DefaultCompressionQuality Sync="TRUE">75</DefaultCompressionQuality>
<DefaultCompressionTolerance Sync="TRUE">0.01</DefaultCompressionTolerance>
<BlendWidth Sync="TRUE">10</BlendWidth>
<ViewpointSpacingX Sync="TRUE">600</ViewpointSpacingX>
<ViewpointSpacingY Sync="TRUE">300</ViewpointSpacingY>
<AllowedItemMetadata Sync="TRUE">Basic</AllowedItemMetadata>
<DefaultResamplingMethod Sync="TRUE">1</DefaultResamplingMethod>
<AllowedMosaicMethods Sync="TRUE">NorthWest,Center,LockRaster,ByAttribute,Nadir,Viewpoint,Seamline,None</AllowedMosaicMethods>
<AllowedCompressions Sync="TRUE">None,JPEG,LZ77,LERC</AllowedCompressions>
<AllowedMensurationCapabilities Sync="TRUE">Basic</AllowedMensurationCapabilities>
<AvailableMensurationCapabilities Sync="TRUE">None,Basic,Base-Top Height,Top-Top Shadow Height,Base-Top Shadow Height,3D</AvailableMensurationCapabilities>
<ClipToBoundary Sync="TRUE">-1</ClipToBoundary>
<FootprintMayContainNoData Sync="TRUE">-1</FootprintMayContainNoData>
<CellSizeTolerance Sync="TRUE">0.8</CellSizeTolerance>
<MinimumPixelContribution Sync="TRUE">1</MinimumPixelContribution>
<AvailableMosaicMethods Sync="TRUE">NorthWest,Center,LockRaster,ByAttribute,Nadir,Viewpoint,Seamline,None</AvailableMosaicMethods>
<AvailableCompressionMethods Sync="TRUE">None,JPEG,LZ77,LERC</AvailableCompressionMethods>
<AvailableItemMetadataLevels Sync="TRUE">None,Basic,Full</AvailableItemMetadataLevels>
<BandDefinitionKeyword Sync="TRUE">NONE</BandDefinitionKeyword>
<_docversion_ Sync="TRUE">10</_docversion_>
<AllowedFields Sync="TRUE">Name,MinPS,MaxPS,LowPS,HighPS,Tag,GroupName,ProductName,CenterX,CenterY,ZOrder,Shape_Length,Shape_Area</AllowedFields>
<MaxCellSize Sync="TRUE">960</MaxCellSize>
<LowCellSize Sync="TRUE">3</LowCellSize>
<HighCellSize Sync="TRUE">96</HighCellSize>
</Properties>
<Functions Sync="TRUE">
<Function Description="Performs on-the-fly mosaic on a raster catalog." Name="Mosaic Function">
</Function>
</Functions>
</RasterProperties>
</DataProperties>
<SyncDate>20251205</SyncDate>
<SyncTime>07294200</SyncTime>
<ModDate>20251205</ModDate>
<ModTime>07294200</ModTime>
<scaleRange>
<minScale>150000000</minScale>
<maxScale>5000</maxScale>
</scaleRange>
</Esri>
<mdFileID>c1a8c024f48d4ae4bbf9ce1e76f5c84e</mdFileID>
<mdLang>
<languageCode Sync="TRUE" value="eng">
</languageCode>
<countryCode Sync="TRUE" value="USA">
</countryCode>
</mdLang>
<mdChar>
<CharSetCd Sync="FALSE" value="004">
</CharSetCd>
</mdChar>
<mdHrLv>
<ScopeCd value="005">
</ScopeCd>
</mdHrLv>
<mdDateSt Sync="TRUE">20251205</mdDateSt>
<distInfo>
<distTranOps>
<onLineSrc>
<linkage>https://socogis.sonomacounty.ca.gov/image2/rest/services/Rasters/Lidar_Intensity_Vegetation_Height_2022/ImageServer</linkage>
</onLineSrc>
</distTranOps>
<distFormat>
<formatName>Image Service</formatName>
</distFormat>
</distInfo>
<dataIdInfo>
<idAbs>&lt;div style='text-align:Left;'&gt;&lt;div&gt;&lt;div&gt;&lt;p&gt;&lt;span&gt;The Digital Surface Model (DSM) represents the orthometric elevations of all above ground features detected by the lidar returns. It is created using the max elevation detected for each pixel at the desired resolution.&lt;/span&gt;&lt;/p&gt;&lt;p&gt;&lt;span&gt;Projected Coordinate System: State Plane NAD 1983 (2011), CA Zone II, US Survey Feet&lt;/span&gt;&lt;/p&gt;&lt;p&gt;&lt;span&gt;Horizontal Datum: NAD 1983 2011&lt;/span&gt;&lt;/p&gt;&lt;p&gt;&lt;span&gt;Vertical Coordinate System: NAVD88 (Geoid 18)&lt;/span&gt;&lt;/p&gt;&lt;p&gt;&lt;span&gt;Pixel size = 3-ft&lt;/span&gt;&lt;/p&gt;&lt;p&gt;&lt;a href='https://storymaps.arcgis.com/stories/183976156b3940bc93167e7461fdc673' target='_blank' style='text-decoration:underline;'&gt;&lt;span&gt;LiDAR Derivatives for 14 California Counties&lt;/span&gt;&lt;/a&gt;&lt;/p&gt;&lt;p&gt;&lt;a href='https://tukmangeospatial.egnyte.com/dl/ADWSBBL7ac' target='_blank' style='text-decoration:underline;'&gt;&lt;span&gt;https://tukmangeospatial.egnyte.com/dl/ADWSBBL7ac&lt;/span&gt;&lt;/a&gt;&lt;/p&gt;&lt;p&gt;&lt;a href='https://tukmangeospatial.egnyte.com/dl/ADWSBBL7ac' target='_blank' style='text-decoration:underline;'&gt;&lt;span&gt;LiDAR Derivatives Datasheet Sonoma&lt;/span&gt;&lt;/a&gt;&lt;/p&gt;&lt;/div&gt;&lt;/div&gt;&lt;/div&gt;</idAbs>
<idCitation>
<resTitle Sync="FALSE">Lidar_Vegetation_Height_2022</resTitle>
<date>
<createDate>2025-08-08T12:46:17</createDate>
<reviseDate>2025-08-08T12:46:18</reviseDate>
</date>
<presForm>
<PresFormCd Sync="TRUE" value="005">
</PresFormCd>
</presForm>
</idCitation>
<dataExt>
<geoEle>
<GeoBndBox>
<westBL Sync="FALSE">-123.60</westBL>
<eastBL Sync="FALSE">-122.20</eastBL>
<northBL Sync="FALSE">38.90</northBL>
<southBL Sync="FALSE">38.00</southBL>
<exTypeCode Sync="TRUE">1</exTypeCode>
</GeoBndBox>
</geoEle>
</dataExt>
<searchKeys>
<keyword>LiDAR</keyword>
<keyword>Light Detection And Ranging</keyword>
<keyword>Sonoma County</keyword>
<keyword>canopy</keyword>
<keyword>CHM</keyword>
<keyword>vegetation</keyword>
<keyword>height</keyword>
</searchKeys>
<idPurp>The Vegetation/Canopy Height Model (CHM) represents the maximum height above ground in feet considering default (class 1), ground (class 2), and vegetation (class 5) returns. Values below 0.25 meters above ground have been set to 0. For this version of the CHM, the 2022 Bare Earth CHM was reprojected from UTM Zone 10 (with height pixel values in meters) to CA State Plane II (with pixel values in feet). The data were also resampled from a 1-meter cell size to a 3-feet cell size using the bilinear interpolation method to align with the 2013 CHM. Note that the vertical coordinate system of the 2022 CHM is DIFFERENT than the vertical coordinate system of the 2013 data. These lidar-derived data products are provided to Sonoma County as part of a larger 10-county effort to acquire lidar and prepare derivative products. Dates of collection vary by county and the best available (most recent and highest quality) point cloud data was used for any given area. The various point clouds were harmonized into a single, unified point cloud for the counties. From the unified point cloud, 36 raster lidar derivatives were created for each county. See the datasheet ( https://tukmangeospatial.egnyte.com/dl/ADWSBBL7ac ) for information on collection dates and to access the original DTM (in UTM Zone 10N, meters), lidar point cloud, and other derivative products.</idPurp>
<idCredit>Funders: California Natural Resources Agency, State Coastal Conservancy, NASA, USGS, Sonoma Water, University of California, San Diego, Sonoma Ag + Open Space, Humboldt Bay Municipal Water District
Grantees &amp; Coordinating Organizations: North Coast Resource Partnership, Solano County
Technical Team: NV5 Geospatial and Tukman Geospatial</idCredit>
<dataChar>
<CharSetCd Sync="FALSE" value="004">
</CharSetCd>
</dataChar>
<envirDesc Sync="FALSE">Esri ArcGIS 13.5.3.57366</envirDesc>
<dataLang>
<languageCode Sync="TRUE" value="eng">
</languageCode>
<countryCode Sync="TRUE" value="USA">
</countryCode>
</dataLang>
<spatRpType>
<SpatRepTypCd Sync="TRUE" value="002">
</SpatRepTypCd>
</spatRpType>
<dataExt>
<geoEle>
<GeoBndBox esriExtentType="search">
<exTypeCode Sync="TRUE">1</exTypeCode>
<westBL Sync="TRUE">-123.556321</westBL>
<eastBL Sync="TRUE">-122.339487</eastBL>
<northBL Sync="TRUE">38.866332</northBL>
<southBL Sync="TRUE">38.096731</southBL>
</GeoBndBox>
</geoEle>
</dataExt>
<resConst>
<Consts>
<useLimit/>
</Consts>
</resConst>
</dataIdInfo>
<spatRepInfo>
<Georect>
<cellGeo>
<CellGeoCd Sync="TRUE" value="002">
</CellGeoCd>
</cellGeo>
<numDims Sync="TRUE">2</numDims>
<tranParaAv Sync="TRUE">1</tranParaAv>
<chkPtAv Sync="TRUE">0</chkPtAv>
<cornerPts>
<pos Sync="TRUE">6118513.000000 1800802.000000</pos>
</cornerPts>
<cornerPts>
<pos Sync="TRUE">6118513.000000 2077507.000000</pos>
</cornerPts>
<cornerPts>
<pos Sync="TRUE">6463975.000000 2077507.000000</pos>
</cornerPts>
<cornerPts>
<pos Sync="TRUE">6463975.000000 1800802.000000</pos>
</cornerPts>
<centerPt>
<pos Sync="TRUE">6291244.000000 1939154.500000</pos>
</centerPt>
<axisDimension type="002">
<dimSize Sync="TRUE">115154</dimSize>
<dimResol>
<value Sync="TRUE" uom="ftUS">3.000000</value>
</dimResol>
</axisDimension>
<axisDimension type="001">
<dimSize Sync="TRUE">92235</dimSize>
<dimResol>
<value Sync="TRUE" uom="ftUS">3.000000</value>
</dimResol>
</axisDimension>
<ptInPixel>
<PixOrientCd Sync="TRUE" value="001">
</PixOrientCd>
</ptInPixel>
</Georect>
</spatRepInfo>
<refSysInfo>
<RefSystem>
<refSysID>
<identCode code="102998">
</identCode>
<idCodeSpace>EPSG</idCodeSpace>
</refSysID>
</RefSystem>
</refSysInfo>
<contInfo>
<ImgDesc>
<contentTyp>
<ContentTypCd Sync="TRUE" value="001">
</ContentTypCd>
</contentTyp>
<covDim>
<Band>
<dimDescrp Sync="TRUE">Band_1</dimDescrp>
<maxVal Sync="TRUE">319.267910</maxVal>
<minVal Sync="TRUE">0.624790</minVal>
<bitsPerVal Sync="TRUE">32</bitsPerVal>
<valUnit>
<UOM type="length">
</UOM>
</valUnit>
</Band>
</covDim>
</ImgDesc>
</contInfo>
</metadata>
