<?xml version="1.0" encoding="UTF-8" standalone="no"?>
<metadata xml:lang="en">
<Esri>
<CreaDate>20250813</CreaDate>
<CreaTime>12255200</CreaTime>
<ArcGISFormat>1.0</ArcGISFormat>
<SyncOnce>FALSE</SyncOnce>
<DataProperties>
<itemProps>
<imsContentType>002</imsContentType>
<itemName Sync="TRUE">Ortho_SoCo_EagleView_2025_WM</itemName>
<nativeExtBox>
<westBL Sync="TRUE">-13752781.356363</westBL>
<eastBL Sync="TRUE">-13619253.543307</eastBL>
<southBL Sync="TRUE">4592793.497587</southBL>
<northBL Sync="TRUE">4701365.303531</northBL>
<exTypeCode Sync="TRUE">1</exTypeCode>
</nativeExtBox>
</itemProps>
<coordRef>
<type Sync="TRUE">Projected</type>
<geogcsn Sync="TRUE">GCS_WGS_1984</geogcsn>
<csUnits Sync="TRUE">Linear Unit: Meter (1.000000)</csUnits>
<projcsn Sync="TRUE">WGS_1984_Web_Mercator_Auxiliary_Sphere</projcsn>
<peXml Sync="TRUE">&lt;ProjectedCoordinateSystem xsi:type='typens:ProjectedCoordinateSystem' xmlns:xsi='http://www.w3.org/2001/XMLSchema-instance' xmlns:xs='http://www.w3.org/2001/XMLSchema' xmlns:typens='http://www.esri.com/schemas/ArcGIS/3.5.0'&gt;&lt;WKT&gt;PROJCS[&amp;quot;WGS_1984_Web_Mercator_Auxiliary_Sphere&amp;quot;,GEOGCS[&amp;quot;GCS_WGS_1984&amp;quot;,DATUM[&amp;quot;D_WGS_1984&amp;quot;,SPHEROID[&amp;quot;WGS_1984&amp;quot;,6378137.0,298.257223563]],PRIMEM[&amp;quot;Greenwich&amp;quot;,0.0],UNIT[&amp;quot;Degree&amp;quot;,0.0174532925199433]],PROJECTION[&amp;quot;Mercator_Auxiliary_Sphere&amp;quot;],PARAMETER[&amp;quot;False_Easting&amp;quot;,0.0],PARAMETER[&amp;quot;False_Northing&amp;quot;,0.0],PARAMETER[&amp;quot;Central_Meridian&amp;quot;,0.0],PARAMETER[&amp;quot;Standard_Parallel_1&amp;quot;,0.0],PARAMETER[&amp;quot;Auxiliary_Sphere_Type&amp;quot;,0.0],UNIT[&amp;quot;Meter&amp;quot;,1.0],AUTHORITY[&amp;quot;EPSG&amp;quot;,3857]]&lt;/WKT&gt;&lt;XOrigin&gt;-20037700&lt;/XOrigin&gt;&lt;YOrigin&gt;-30241100&lt;/YOrigin&gt;&lt;XYScale&gt;148923141.92838538&lt;/XYScale&gt;&lt;ZOrigin&gt;-100000&lt;/ZOrigin&gt;&lt;ZScale&gt;10000&lt;/ZScale&gt;&lt;MOrigin&gt;-100000&lt;/MOrigin&gt;&lt;MScale&gt;10000&lt;/MScale&gt;&lt;XYTolerance&gt;0.001&lt;/XYTolerance&gt;&lt;ZTolerance&gt;0.001&lt;/ZTolerance&gt;&lt;MTolerance&gt;0.001&lt;/MTolerance&gt;&lt;HighPrecision&gt;true&lt;/HighPrecision&gt;&lt;WKID&gt;102100&lt;/WKID&gt;&lt;LatestWKID&gt;3857&lt;/LatestWKID&gt;&lt;/ProjectedCoordinateSystem&gt;</peXml>
</coordRef>
<RasterProperties>
<General>
<PixelDepth Sync="TRUE">8</PixelDepth>
<HasColormap Sync="TRUE">FALSE</HasColormap>
<CompressionType Sync="TRUE">None</CompressionType>
<NumBands Sync="TRUE">4</NumBands>
<Format Sync="TRUE">AMD</Format>
<HasPyramids Sync="TRUE">TRUE</HasPyramids>
<SourceType Sync="TRUE">continuous</SourceType>
<PixelType Sync="TRUE">unsigned integer</PixelType>
<NoDataValue Sync="TRUE">
</NoDataValue>
</General>
<Properties>
<MaxImageHeight Sync="TRUE">4100</MaxImageHeight>
<MaxImageWidth Sync="TRUE">15000</MaxImageWidth>
<MaxRecordCount Sync="TRUE">1000</MaxRecordCount>
<MaxDownloadImageCount Sync="TRUE">20</MaxDownloadImageCount>
<MaxDownloadSizeLimit Sync="TRUE">2048</MaxDownloadSizeLimit>
<MaxMosaicImageCount Sync="TRUE">20</MaxMosaicImageCount>
<DefaultCompressionQuality Sync="TRUE">75</DefaultCompressionQuality>
<DefaultCompressionTolerance Sync="TRUE">0.01</DefaultCompressionTolerance>
<BlendWidth Sync="TRUE">10</BlendWidth>
<ViewpointSpacingX Sync="TRUE">600</ViewpointSpacingX>
<ViewpointSpacingY Sync="TRUE">300</ViewpointSpacingY>
<AllowedItemMetadata Sync="TRUE">Basic</AllowedItemMetadata>
<DefaultResamplingMethod Sync="TRUE">1</DefaultResamplingMethod>
<AllowedMosaicMethods Sync="TRUE">NorthWest,Center,LockRaster,ByAttribute,Nadir,Viewpoint,Seamline,None</AllowedMosaicMethods>
<AllowedCompressions Sync="TRUE">None,JPEG,LZ77,LERC</AllowedCompressions>
<AllowedMensurationCapabilities Sync="TRUE">Basic</AllowedMensurationCapabilities>
<AvailableMensurationCapabilities Sync="TRUE">None,Basic,Base-Top Height,Top-Top Shadow Height,Base-Top Shadow Height,3D</AvailableMensurationCapabilities>
<ClipToBoundary Sync="TRUE">-1</ClipToBoundary>
<FootprintMayContainNoData Sync="TRUE">-1</FootprintMayContainNoData>
<CellSizeTolerance Sync="TRUE">0.8</CellSizeTolerance>
<MinimumPixelContribution Sync="TRUE">1</MinimumPixelContribution>
<AvailableMosaicMethods Sync="TRUE">NorthWest,Center,LockRaster,ByAttribute,Nadir,Viewpoint,Seamline,None</AvailableMosaicMethods>
<AvailableCompressionMethods Sync="TRUE">None,JPEG,LZ77,LERC</AvailableCompressionMethods>
<AvailableItemMetadataLevels Sync="TRUE">None,Basic,Full</AvailableItemMetadataLevels>
<BandDefinitionKeyword Sync="TRUE">NaturalColorRGBI</BandDefinitionKeyword>
<_docversion_ Sync="TRUE">10</_docversion_>
<AllowedFields Sync="TRUE">Name,MinPS,MaxPS,LowPS,HighPS,Tag,GroupName,ProductName,CenterX,CenterY,ZOrder,Shape_Length,Shape_Area,Thumbnail</AllowedFields>
<ApplyColorCorrection Sync="TRUE">0</ApplyColorCorrection>
<MaxCellSize Sync="TRUE">33329.9466598933</MaxCellSize>
<LowCellSize Sync="TRUE">0.15240030480061</LowCellSize>
<HighCellSize Sync="TRUE">0.304800609601219</HighCellSize>
</Properties>
<Functions Sync="TRUE">
<Function Description="Enhances an image by changing properties such as brightness, contrast and gamma through multiple stretch types." Name="Stretch Function">
<Arguments>
<Raster>ReprojectFunction.OutputRaster</Raster>
<Statistics>0.000000 255.000000 132.503555 18.862923 0.000000 255.000000 154.571255 12.307944 0.000000 255.000000 133.265090 9.358725 0.000000 253.000000 38.327061 17.383679</Statistics>
<Gamma>1.101122 0.977491 1.096831 1.630427</Gamma>
<UseGamma>-1</UseGamma>
<ComputeGamma>-1</ComputeGamma>
<MinPercent>0.5</MinPercent>
<MaxPercent>0.5</MaxPercent>
<StretchType>0</StretchType>
<SigmoidStrengthLevel>2</SigmoidStrengthLevel>
<DRA>0</DRA>
<Min>0</Min>
<Max>255</Max>
<EstimateStatsHistogram>0</EstimateStatsHistogram>
<NumberOfStandardDeviation>2.5</NumberOfStandardDeviation>
</Arguments>
</Function>
<Function Description="Sets a new spatial reference and cell sizes" Name="Reproject Function">
<Arguments>
<Raster>MosaicFunction.OutputRaster</Raster>
<XCellsize>0</XCellsize>
<YCellsize>0</YCellsize>
<XOrigin>0</XOrigin>
<YOrigin>0</YOrigin>
</Arguments>
</Function>
<Function Description="Performs on-the-fly mosaic on a raster catalog." Name="Mosaic Function">
</Function>
</Functions>
</RasterProperties>
</DataProperties>
<scaleRange>
<minScale>150000000</minScale>
<maxScale>5000</maxScale>
</scaleRange>
<SyncDate>20251119</SyncDate>
<SyncTime>10432500</SyncTime>
<ModDate>20251119</ModDate>
<ModTime>10440300</ModTime>
<ArcGISProfile>ISO19139</ArcGISProfile>
</Esri>
<mdLang>
<languageCode Sync="TRUE" value="eng">
</languageCode>
<countryCode Sync="TRUE" value="USA">
</countryCode>
</mdLang>
<mdChar>
<CharSetCd value="004">
</CharSetCd>
</mdChar>
<mdHrLv>
<ScopeCd value="005">
</ScopeCd>
</mdHrLv>
<mdContact>
<rpIndName>Evan Valenti</rpIndName>
<rpOrgName>Pictometry International Corp.</rpOrgName>
<rpPosName>Aerial Triangulation Technician</rpPosName>
<rpCntInfo>
<cntPhone>
<voiceNum>585-486-0093</voiceNum>
<faxNum>585-486-0098</faxNum>
</cntPhone>
<cntAddress addressType="both">
<delPoint>25 Methodist Hill Drive</delPoint>
<city>Rochester</city>
<adminArea>New York</adminArea>
<postCode>14623</postCode>
<country>US</country>
</cntAddress>
<cntHours>0900-1700 EST</cntHours>
</rpCntInfo>
<role>
<RoleCd value="007">
</RoleCd>
</role>
</mdContact>
<mdDateSt Sync="TRUE">20251119</mdDateSt>
<mdStanName>ArcGIS Metadata</mdStanName>
<mdStanVer>1.0</mdStanVer>
<distInfo>
<distributor>
<distorCont>
<rpOrgName>Pictometry International Corp.</rpOrgName>
<rpCntInfo>
<cntPhone>
<voiceNum>585-486-0093</voiceNum>
<faxNum>585-486-0098</faxNum>
</cntPhone>
<cntAddress addressType="both">
<delPoint>25 Methodist Hill Drive</delPoint>
<city>Rochester</city>
<adminArea>New York</adminArea>
<postCode>14623</postCode>
<country>US</country>
</cntAddress>
<cntHours>0900-1700 EST</cntHours>
</rpCntInfo>
<role>
<RoleCd value="005">
</RoleCd>
</role>
</distorCont>
<distorOrdPrc>
<resFees>$TBD</resFees>
</distorOrdPrc>
<distorFormat>
<formatName>TIFF</formatName>
</distorFormat>
<distorTran>
<transSize>0.097</transSize>
<offLineMed>
<medName>
<MedNameCd value="001">
</MedNameCd>
</medName>
<medDensity>1</medDensity>
<medDenUnits>percent</medDenUnits>
<medFormat>
<MedFormCd value="n/a">
</MedFormCd>
</medFormat>
</offLineMed>
</distorTran>
</distributor>
</distInfo>
<dataIdInfo>
<idCitation>
<resTitle>Ortho_SoCo_EagleView_2025_WM</resTitle>
<date>
<pubDate>2025-05-28T00:00:00</pubDate>
</date>
<citRespParty>
<rpOrgName>Pictometry International Corp.</rpOrgName>
<role>
<RoleCd value="006">
</RoleCd>
</role>
</citRespParty>
<presForm>
<PresFormCd value="005">
</PresFormCd>
</presForm>
<presForm>
<fgdcGeoform>raster digital data</fgdcGeoform>
</presForm>
</idCitation>
<idAbs>&lt;div style='text-align:Left;'&gt;&lt;div&gt;&lt;div&gt;&lt;p&gt;&lt;span&gt;The dataset consists of tiled orthogonal imagery produced from nadir images captured by EagleView. Automatic aerial triangulation (AAT) was performed. The triangulated frames were rectified to a DEM. Mosaicking was performed using an automatic seaming algorithm and manually edited to eliminate seams through elevated features where possible.&lt;/span&gt;&lt;/p&gt;&lt;/div&gt;&lt;/div&gt;&lt;/div&gt;</idAbs>
<idPurp>Orthogonal image mosaic to support the needs of CA Sonoma. Other uses expected. Web Mercator.</idPurp>
<idStatus>
<ProgCd value="001">
</ProgCd>
</idStatus>
<idPoC>
<rpOrgName>Pictometry International Corp.</rpOrgName>
<rpCntInfo>
<cntPhone>
<voiceNum>585-486-0093</voiceNum>
<faxNum>585-486-0098</faxNum>
</cntPhone>
<cntAddress addressType="both">
<delPoint>25 Methodist Hill Drive</delPoint>
<city>Rochester</city>
<adminArea>New York</adminArea>
<postCode>14623</postCode>
<country>US</country>
</cntAddress>
<cntHours>0900-1700 EST</cntHours>
</rpCntInfo>
<role>
<RoleCd value="007">
</RoleCd>
</role>
</idPoC>
<resMaint>
<maintFreq>
<MaintFreqCd value="012">
</MaintFreqCd>
</maintFreq>
</resMaint>
<placeKeys>
<thesaName>
<resTitle>Geographic Names Index Service</resTitle>
</thesaName>
<keyword>Sonoma</keyword>
<keyword>CA</keyword>
</placeKeys>
<tempKeys>
<keyword>Current</keyword>
</tempKeys>
<themeKeys>
<thesaName>
<resTitle>EDI Thesaurus</resTitle>
</thesaName>
<keyword>Digital Orthophotography</keyword>
</themeKeys>
<searchKeys>
<keyword>Digital Orthophotography</keyword>
<keyword>Sonoma</keyword>
<keyword>CA</keyword>
<keyword>Current</keyword>
</searchKeys>
<resConst>
<Consts>
<useLimit>&lt;div style='text-align:Left;'&gt;&lt;div&gt;&lt;div&gt;&lt;p&gt;&lt;span&gt;The County of Sonoma (“County”) is the authoritative source for this data. Please contact the data owner if you have questions about permitted use.&lt;/span&gt;&lt;/p&gt;&lt;p&gt;&lt;span&gt;For more information regarding the contacts and use and limitations please refer to policy 9-2 Information Technology Use and Security Policy Manual (https://sonomacounty.ca.gov/CAO/Administrative-Policies/IT-Use-and-Security-Policy).&lt;/span&gt;&lt;/p&gt;&lt;p&gt;&lt;span&gt;You are free to: Share - copy and redistribute the data in any medium or format. Adapt - You may make derivative works, transform, and build upon the data for any purpose, even commercial. The licensor cannot revoke these freedoms as long as you follow the license terms.&lt;/span&gt;&lt;/p&gt;&lt;p&gt;&lt;span&gt;License terms: Attribution - You must give appropriate credit (if supplied, you must provide the name of the creator and attribution parties, a copyright notice, a license notice, a disclaimer notice and a link to the material) and indicate if any changes were made. You may do so in any reasonable manner, but not in any way that suggests the licensor endorses you, your organization, or your use of the data. ShareAlike - if you modify, transform, or build on the data, you must distribute your contributions under the same license as the original.&lt;/span&gt;&lt;/p&gt;&lt;p&gt;&lt;span&gt;No additional Restrictions - You may not apply legal terms or technological measures that legally restrict others form doing anything the license permits.&lt;/span&gt;&lt;/p&gt;&lt;p&gt;&lt;span&gt;Notices: You do not have to comply with the license for elements of the material in the public domain or where your use is permitted by an applicable exception or limitation. No warranties are given. The license may not give you all of the permissions necessary for your intended use. For example, other rights such as publicity, privacy, or moral rights may limit how you use the data.&lt;/span&gt;&lt;/p&gt;&lt;p&gt;&lt;span&gt;EXCEPT TO THE EXTENT REQUIRED BY APPLICABLE LAW, IN NO EVENT WILL LICENSOR BE LIABLE TO YOU ON ANY LEGAL THEORY FOR ANY SPECIAL, INCIDENTAL, CONSEQUENTIAL, PUNITIVE OR EXEMPLARY DAMAGES ARISING OUT OF THIS LICENSE OR THE USE OF THE DATA, EVEN IF LICENSOR HAS BEEN ADVISED OF THE POSSIBILITY OF SUCH DAMAGES.&lt;/span&gt;&lt;/p&gt;&lt;p&gt;&lt;span&gt;The above is an easily understandable summary of and not a substitute for the license and disclaimer for the Attribution-ShareAlike 3.0 United States (CC BY-SA 3.0 US) the full text is available at creativecommons.org.&lt;/span&gt;&lt;/p&gt;&lt;p&gt;&lt;span&gt;https://creativecommons.org/licenses/by-sa/3.0/us/legalcode&lt;/span&gt;&lt;/p&gt;&lt;/div&gt;&lt;/div&gt;&lt;/div&gt;</useLimit>
</Consts>
</resConst>
<resConst>
<LegConsts>
<useLimit>Distribution of this dataset is constrained by the existing license agreement between the Pictometry International Corp. and CA Sonoma.</useLimit>
<accessConsts>
<RestrictCd value="008">
</RestrictCd>
</accessConsts>
<othConsts>Access to this data is constrained by the license agreements between Pictometry International and CA Sonoma.</othConsts>
</LegConsts>
</resConst>
<aggrInfo>
<aggrDSName>
<resTitle>CA Sonoma 2025 Certified Ortho Project</resTitle>
<date>
<pubDate>2025-05-28</pubDate>
</date>
<citRespParty>
<rpOrgName>Pictometry International Corp.</rpOrgName>
<role>
<RoleCd value="006">
</RoleCd>
</role>
</citRespParty>
<presForm>
<PresFormCd value="005">
</PresFormCd>
</presForm>
<presForm>
<fgdcGeoform>raster digital data</fgdcGeoform>
</presForm>
</aggrDSName>
<assocType>
<AscTypeCd value="001">
</AscTypeCd>
</assocType>
</aggrInfo>
<spatRpType>
<SpatRepTypCd value="001">
</SpatRepTypCd>
</spatRpType>
<dataExt>
<geoEle>
<GeoBndBox>
<exTypeCode>true</exTypeCode>
<westBL>-123.551024</westBL>
<eastBL>-122.335069</eastBL>
<northBL>38.863098</northBL>
<southBL>38.096291</southBL>
</GeoBndBox>
</geoEle>
</dataExt>
<dataExt>
<exDesc>ground condition</exDesc>
<tempEle>
<TempExtent>
<exTemp>
<TM_Period>
<tmBegin>2025-03-18</tmBegin>
<tmEnd>2025-05-10</tmEnd>
</TM_Period>
</exTemp>
</TempExtent>
</tempEle>
</dataExt>
<envirDesc Sync="FALSE">Esri ArcGIS 13.5.3.57366</envirDesc>
<dataLang>
<languageCode Sync="TRUE" value="eng">
</languageCode>
<countryCode Sync="TRUE" value="USA">
</countryCode>
</dataLang>
<dataExt>
<geoEle>
<GeoBndBox esriExtentType="search">
<exTypeCode Sync="TRUE">1</exTypeCode>
<westBL Sync="TRUE">-123.543337</westBL>
<eastBL Sync="TRUE">-122.343836</eastBL>
<northBL Sync="TRUE">38.858095</northBL>
<southBL Sync="TRUE">38.094566</southBL>
</GeoBndBox>
</geoEle>
</dataExt>
<idCredit>EagleView, County of Sonoma</idCredit>
</dataIdInfo>
<dqInfo>
<dqScope>
<scpLvl>
<ScopeCd value="005">
</ScopeCd>
</scpLvl>
</dqScope>
<report type="DQConcConsis">
<measDesc>Dataset is orthoimagery. Logical consistency is not applicable.</measDesc>
</report>
<report type="DQCompOm">
<measDesc>The 2025 CA Sonoma Orthogonal data associated with this metadata file completely covers the project-specified boundary.</measDesc>
</report>
<dataLineage>
<prcStep>
<stepDesc>GPS/INS processing: Data was post-processed using NGS CORS base station data.</stepDesc>
<stepDateTm date="unknown">
</stepDateTm>
</prcStep>
<prcStep>
<stepDesc>AeroTriangulation: Imagery was aerotriangulated using Inpho's Match-AT software.</stepDesc>
<stepDateTm date="unknown">
</stepDateTm>
</prcStep>
<prcStep>
<stepDesc>Rectification: Ortho-rectification was performed using Inpho's OrthoMaster software. A LiDAR based DEM was used as the rectification surface.</stepDesc>
<stepDateTm date="unknown">
</stepDateTm>
</prcStep>
<prcStep>
<stepDesc>Mosaicking: Mosaicking was performed using Inpho's OrthoVista software and SeamEditor was employed for manual corrections.</stepDesc>
<stepDateTm date="unknown">
</stepDateTm>
</prcStep>
<dataSource>
<srcDesc>N/A</srcDesc>
<srcMedName>
<MedNameCd value="031">
</MedNameCd>
</srcMedName>
<srcCitatn>
<resTitle>CA Sonoma 2025 Certified Ortho Project</resTitle>
<resAltTitle>disc</resAltTitle>
<date>
<pubDate>2025-05-28</pubDate>
</date>
<citRespParty>
<rpOrgName>Pictometry International Corp.</rpOrgName>
<role>
<RoleCd value="006">
</RoleCd>
</role>
</citRespParty>
<presForm>
<PresFormCd value="005">
</PresFormCd>
</presForm>
<presForm>
<fgdcGeoform>raster digital data</fgdcGeoform>
</presForm>
</srcCitatn>
<srcExt>
<exDesc>ground condition</exDesc>
<tempEle>
<TempExtent>
<exTemp>
<TM_Period>
<tmBegin>2025-03-18</tmBegin>
<tmEnd>2025-05-10</tmEnd>
</TM_Period>
</exTemp>
</TempExtent>
</tempEle>
</srcExt>
</dataSource>
</dataLineage>
</dqInfo>
<spatRepInfo>
<VectSpatRep>
<geometObjs>
<geoObjTyp>
<GeoObjTypCd value="001">
</GeoObjTypCd>
</geoObjTyp>
<geoObjCnt>6735</geoObjCnt>
</geometObjs>
</VectSpatRep>
<Georect>
<cellGeo>
<CellGeoCd Sync="TRUE" value="002">
</CellGeoCd>
</cellGeo>
<numDims Sync="TRUE">2</numDims>
<tranParaAv Sync="TRUE">1</tranParaAv>
<chkPtAv Sync="TRUE">0</chkPtAv>
<cornerPts>
<pos Sync="TRUE">-13752781.356363 4592793.497587</pos>
</cornerPts>
<cornerPts>
<pos Sync="TRUE">-13752781.356363 4701365.303531</pos>
</cornerPts>
<cornerPts>
<pos Sync="TRUE">-13619253.543307 4701365.303531</pos>
</cornerPts>
<cornerPts>
<pos Sync="TRUE">-13619253.543307 4592793.497587</pos>
</cornerPts>
<centerPt>
<pos Sync="TRUE">-13686017.449835 4647079.400559</pos>
</centerPt>
<axisDimension type="002">
<dimSize Sync="TRUE">876165</dimSize>
<dimResol>
<value Sync="TRUE" uom="m">0.152400</value>
</dimResol>
</axisDimension>
<axisDimension type="001">
<dimSize Sync="TRUE">712412</dimSize>
<dimResol>
<value Sync="TRUE" uom="m">0.152400</value>
</dimResol>
</axisDimension>
<ptInPixel>
<PixOrientCd Sync="TRUE" value="001">
</PixOrientCd>
</ptInPixel>
</Georect>
</spatRepInfo>
<refSysInfo>
<RefSystem>
<refSysID>
<identCode Sync="TRUE" code="3857">
</identCode>
<idCodeSpace Sync="TRUE">EPSG</idCodeSpace>
<idVersion Sync="TRUE">6.18.3(9.3.1.2)</idVersion>
</refSysID>
</RefSystem>
</refSysInfo>
<contInfo>
<ImgDesc>
<contentTyp>
<ContentTypCd Sync="TRUE" value="001">
</ContentTypCd>
</contentTyp>
<covDim>
<Band>
<dimDescrp Sync="TRUE">Red</dimDescrp>
<maxVal Sync="TRUE">255.000000</maxVal>
<minVal Sync="TRUE">0.000000</minVal>
<bitsPerVal Sync="TRUE">8</bitsPerVal>
<valUnit>
<UOM type="length">
</UOM>
</valUnit>
</Band>
<Band>
<dimDescrp Sync="TRUE">Green</dimDescrp>
<maxVal Sync="TRUE">255.000000</maxVal>
<minVal Sync="TRUE">0.000000</minVal>
<bitsPerVal Sync="TRUE">8</bitsPerVal>
<valUnit>
<UOM type="length">
</UOM>
</valUnit>
</Band>
<Band>
<dimDescrp Sync="TRUE">Blue</dimDescrp>
<maxVal Sync="TRUE">255.000000</maxVal>
<minVal Sync="TRUE">0.000000</minVal>
<bitsPerVal Sync="TRUE">8</bitsPerVal>
<valUnit>
<UOM type="length">
</UOM>
</valUnit>
</Band>
<Band>
<dimDescrp Sync="TRUE">Infrared</dimDescrp>
<maxVal Sync="TRUE">255.000000</maxVal>
<minVal Sync="TRUE">0.000000</minVal>
<bitsPerVal Sync="TRUE">8</bitsPerVal>
<valUnit>
<UOM type="length">
</UOM>
</valUnit>
</Band>
</covDim>
</ImgDesc>
</contInfo>
<eainfo>
<detailed>
<enttyp>
<enttypl>CA_Sonoma_Grid_Neighborhood</enttypl>
<enttypd>CA Sonoma Certified Ortho Flight Tiling Scheme</enttypd>
<enttypds>Pictometry International Corp.</enttypds>
</enttyp>
<attr>
<attrlabl>FID</attrlabl>
<attrdef>Internal feature number.</attrdef>
<attrdefs>ESRI</attrdefs>
<attrdomv>
<udom>Sequential unique whole numbers that are automatically generated.</udom>
</attrdomv>
</attr>
<attr>
<attrlabl>Shape</attrlabl>
<attrdef>Feature geometry.</attrdef>
<attrdefs>ESRI</attrdefs>
<attrdomv>
<udom>Coordinates defining the features.</udom>
</attrdomv>
</attr>
<attr>
<attrlabl>TILELABEL</attrlabl>
<attrdef>Tile Label</attrdef>
<attrdefs>Pictometry International Corp.</attrdefs>
<attrdomv>
<udom>Coordinates defining the features.</udom>
</attrdomv>
</attr>
</detailed>
</eainfo>
</metadata>
