View In:
ArcGIS JavaScript
ArcGIS Online Map Viewer
ArcGIS Earth
Service Description: The NASA Carbon Monitoring System (CMS) is designed to make significant contributions in characterizing, quantifying, understanding, and predicting the evolution of global carbon sources and sinks through improved monitoring of carbon stocks and fluxes. The System will use the full range of NASA satellite observations and modeling/analysis capabilities to establish the accuracy, quantitative uncertainties, and utility of products for supporting national and international policy, regulatory, and management activities. CMS will maintain a global emphasis while providing finer scale regional information, utilizing space-based and surface-based data and will rapidly initiate generation and distribution of products both for user evaluation and to inform near-term policy development and planning.
Funding for this work came from the NASA Carbon Monitoring system (CMS) project (NNX13AP69G, Dr. Ralph Dubayah and Dr. George Hurtt, Principal Investigators). The data set was developed through collaboration between the University of Maryland, the University of Vermont, and the USDA Forest Service.
The datasheet for this product is available here:
https://sonomaopenspace.egnyte.com/dl/GUj8b4EjCR
Name: Rasters/Aboveground_Carbon_Mgha_2013
Description:
Single Fused Map Cache: false
Extent:
XMin: 428220.0
YMin: 4202010.0
XMax: 569550.0
YMax: 4319550.0
Spatial Reference: 0
(0)
LatestVCSWkid(0)
Initial Extent:
XMin: 428220.0
YMin: 4202010.0
XMax: 569550.0
YMax: 4319550.0
Spatial Reference: 0
(0)
LatestVCSWkid(0)
Full Extent:
XMin: 428220.0
YMin: 4202010.0
XMax: 569550.0
YMax: 4319550.0
Spatial Reference: 0
(0)
LatestVCSWkid(0)
Pixel Size X: 30.0
Pixel Size Y: 30.0
Band Count: 1
Pixel Type: F64
RasterFunction Infos: {"rasterFunctionInfos": [{
"name": "None",
"description": "",
"help": ""
}]}
Mensuration Capabilities: Basic
Inspection Capabilities:
Has Histograms: true
Has Colormap: false
Has Multi Dimensions : false
Rendering Rule:
Min Scale: 0
Max Scale: 0
Copyright Text: Dubayah, R.O., A. Swatantran, W. Huang, L. Duncanson, K. Johnson, H. Tang, J.O. Dunne, and G.C. Hurtt. 2016. CMS: LiDAR-derived Aboveground Biomass, Canopy Height and Cover for Sonoma County, 2013.
Service Data Type: esriImageServiceDataTypeGeneric
Min Values: 0
Max Values: 263.27752472523423
Mean Values: 61.87542372725447
Standard Deviation Values: 61.91525557607644
Object ID Field:
Fields:
None
Default Mosaic Method: Center
Allowed Mosaic Methods:
SortField:
SortValue: null
Mosaic Operator: First
Default Compression Quality: 75
Default Resampling Method: Bilinear
Max Record Count: null
Max Image Height: 4100
Max Image Width: 15000
Max Download Image Count: null
Max Mosaic Image Count: null
Allow Raster Function: true
Allow Copy: true
Allow Analysis: true
Allow Compute TiePoints: false
Supports Statistics: false
Supports Advanced Queries: false
Use StandardizedQueries: true
Raster Type Infos:
Name: Raster Dataset
Description: Supports all ArcGIS Raster Datasets
Help:
Has Raster Attribute Table: false
Edit Fields Info: null
Ownership Based AccessControl For Rasters: null
Child Resources:
Info
Histograms
Statistics
Key Properties
Legend
Raster Function Infos
Supported Operations:
Export Image
Identify
Measure
Compute Histograms
Compute Statistics Histograms
Get Samples
Compute Class Statistics
Query Boundary
Compute Pixel Location
Compute Angles
Validate
Project