View In:
ArcGIS JavaScript
ArcGIS Online Map Viewer
ArcGIS Earth
Service Description: The hillshade is a greyscale image showing topography in the landscape. In this case it is created from a LiDAR derived hydro-flattened bare earth digital elevation model illuminated by hypothetical light source shining from the north west. A hydro flattened bare earth digital elevation model (DEM) represents the earth's surface with all vegetation and human-made structures removed. In addition bodies of waters 2acres or larger have been smoothed.
The DEM used to create this hillshade is described as a bare earth digital elevation model (DEM) representing the earth's surface with all vegetation and human-made structures removed. The bare earth DEMs were derived from LiDAR data using triangulated irregular network (TIN) processing of the ground point returns. Each image corresponds to a 37,800-square-foot tile. Each pixel is 3 feet and represents an average elevation for that area.
Name: Rasters/Lidar_HydroFlat_BareEarth_HS_2013_WM
Description: The hillshade is a greyscale image showing topography in the landscape. In this case it is created from a LiDAR derived hydro-flattened bare earth digital elevation model illuminated by hypothetical light source shining from the north west. A hydro flattened bare earth digital elevation model (DEM) represents the earth's surface with all vegetation and human-made structures removed. In addition bodies of waters 2acres or larger have been smoothed.
The DEM used to create this hillshade is described as a bare earth digital elevation model (DEM) representing the earth's surface with all vegetation and human-made structures removed. The bare earth DEMs were derived from LiDAR data using triangulated irregular network (TIN) processing of the ground point returns. Each image corresponds to a 37,800-square-foot tile. Each pixel is 3 feet and represents an average elevation for that area.
Single Fused Map Cache: false
Extent:
XMin: -1.3755196730571218E7
YMin: 4591705.376963831
XMax: -1.3605983888268521E7
YMax: 4770843.017248876
Spatial Reference: 102100
(3857)
LatestVCSWkid(0)
Initial Extent:
XMin: -1.3755196730571218E7
YMin: 4591705.376963831
XMax: -1.3605983888268521E7
YMax: 4770843.017248876
Spatial Reference: 102100
(3857)
LatestVCSWkid(0)
Full Extent:
XMin: -1.3755196730571218E7
YMin: 4591705.376963831
XMax: -1.3605983888268521E7
YMax: 4770843.017248876
Spatial Reference: 102100
(3857)
LatestVCSWkid(0)
Pixel Size X: 0.2985821416476169
Pixel Size Y: 0.2985821416476168
Band Count: 3
Pixel Type: U8
RasterFunction Infos: {"rasterFunctionInfos": [{
"name": "None",
"description": "",
"help": ""
}]}
Mensuration Capabilities: Basic
Inspection Capabilities:
Has Histograms: false
Has Colormap: false
Has Multi Dimensions : false
Rendering Rule:
Min Scale: 0
Max Scale: 0
Copyright Text: Sonoma County Vegetation Mapping and LiDAR Consortium, NASA, University of Maryland, Watershed Sciences, Inc., Tukman Geospatial LLC
Service Data Type: esriImageServiceDataTypeRGB
Min Values: N/A
Max Values: N/A
Mean Values: N/A
Standard Deviation Values: N/A
Object ID Field:
Fields:
None
Default Mosaic Method: Center
Allowed Mosaic Methods:
SortField:
SortValue: null
Mosaic Operator: First
Default Compression Quality: 75
Default Resampling Method: Bilinear
Max Record Count: null
Max Image Height: 4100
Max Image Width: 15000
Max Download Image Count: null
Max Mosaic Image Count: null
Allow Raster Function: true
Allow Copy: true
Allow Analysis: true
Allow Compute TiePoints: false
Supports Statistics: false
Supports Advanced Queries: false
Use StandardizedQueries: true
Raster Type Infos:
Name: Raster Dataset
Description: Supports all ArcGIS Raster Datasets
Help:
Has Raster Attribute Table: false
Edit Fields Info: null
Ownership Based AccessControl For Rasters: null
Child Resources:
Info
Statistics
Key Properties
Legend
Raster Function Infos
Supported Operations:
Export Image
Identify
Measure
Compute Histograms
Compute Statistics Histograms
Get Samples
Compute Class Statistics
Query Boundary
Compute Pixel Location
Compute Angles
Validate
Project