View In:
ArcGIS JavaScript
ArcGIS Online Map Viewer
ArcGIS Earth
Service Description: The dataset consists of tiled orthogonal imagery produced from nadir images captured by Pictometry International during the period of November 6, 2008 thru January 16, 2009. Automatic aerial triangulation (AAT) was performed, culminating in a single block adjustment of 3718 source frames. The AAT process was supported by 21 ground control points surveyed by US Surveyors Inc. Portions of this image's triangulated frames were orthorectified to a LiDAR derived DEM created from the Spring 2009 LiDAR capture. Mosaicing was performed using an automatic seaming algorithm and supplemented by manual editing to correct seams through elevated features where possible. A global radiometric correction was applied to the source frames to minimize the appearance of radiometric seams.
Name: Rasters/Ortho_SoCo_Pictometry_2008
Description: The dataset consists of tiled orthogonal imagery produced from nadir images captured by Pictometry International during the period of November 6, 2008 thru January 16, 2009. Automatic aerial triangulation (AAT) was performed, culminating in a single block adjustment of 3718 source frames. The AAT process was supported by 21 ground control points surveyed by US Surveyors Inc. Portions of this image's triangulated frames were orthorectified to a LiDAR derived DEM created from the Spring 2009 LiDAR capture. Mosaicing was performed using an automatic seaming algorithm and supplemented by manual editing to correct seams through elevated features where possible. A global radiometric correction was applied to the source frames to minimize the appearance of radiometric seams.
Single Fused Map Cache: false
Extent:
XMin: 6124470.079464942
YMin: 1802859.0735615625
XMax: 6461542.977712657
YMax: 2075880.9406870902
Spatial Reference: 102642
(2226)
LatestVCSWkid(0)
Initial Extent:
XMin: 6124470.079464942
YMin: 1802859.0735615625
XMax: 6461542.977712657
YMax: 2075880.9406870902
Spatial Reference: 102642
(2226)
LatestVCSWkid(0)
Full Extent:
XMin: 6124470.079464942
YMin: 1802859.0735615625
XMax: 6461542.977712657
YMax: 2075880.9406870902
Spatial Reference: 102642
(2226)
LatestVCSWkid(0)
Pixel Size X: 0.979598243055555
Pixel Size Y: 0.9795982430555553
Band Count: 3
Pixel Type: U8
RasterFunction Infos: {"rasterFunctionInfos": [{
"name": "None",
"description": "",
"help": ""
}]}
Mensuration Capabilities: Basic
Inspection Capabilities:
Has Histograms: false
Has Colormap: false
Has Multi Dimensions : false
Rendering Rule:
Min Scale: 0
Max Scale: 0
Copyright Text: County of Sonoma, Pictometry International Corp.
Service Data Type: esriImageServiceDataTypeRGB
Min Values: N/A
Max Values: N/A
Mean Values: N/A
Standard Deviation Values: N/A
Object ID Field:
Fields:
None
Default Mosaic Method: Center
Allowed Mosaic Methods:
SortField:
SortValue: null
Mosaic Operator: First
Default Compression Quality: 75
Default Resampling Method: Bilinear
Max Record Count: null
Max Image Height: 4100
Max Image Width: 15000
Max Download Image Count: null
Max Mosaic Image Count: null
Allow Raster Function: true
Allow Copy: true
Allow Analysis: true
Allow Compute TiePoints: false
Supports Statistics: false
Supports Advanced Queries: false
Use StandardizedQueries: true
Raster Type Infos:
Name: Raster Dataset
Description: Supports all ArcGIS Raster Datasets
Help:
Has Raster Attribute Table: false
Edit Fields Info: null
Ownership Based AccessControl For Rasters: null
Child Resources:
Info
Statistics
Key Properties
Legend
Raster Function Infos
Supported Operations:
Export Image
Identify
Measure
Compute Histograms
Compute Statistics Histograms
Get Samples
Compute Class Statistics
Query Boundary
Compute Pixel Location
Compute Angles
Validate
Project