View In:
ArcGIS JavaScript
ArcGIS Online Map Viewer
ArcGIS Earth
Service Description: These data are LiDAR orthorectified aerial photographs (8-bit GeoTIFF format) within the Sonoma County Vegetation Mapping and LiDAR Program's project area. Imagery was collected in fall, 2013. The imagery coverage corresponds to the Sonoma County 2013 LiDAR survey data extent and encompasses approximately 1,047,999 acres. A GSD (Ground Sample Distance) resolution of 6 inches was used for each four-band color pixel. WSI recommends viewing the orthoimagery in ESRI ArcMap software using a raster catalog. For best results, stretch type should be set to 'None' and Gamma Stretch should not be applied (Layer Properties -> Symbology Tab). The specified coordinate system for this dataset is California State Plane Zone II (FIPS 0402), NAD83 (2011), with units in US Survey Feet.
Name: Rasters/Ortho_SoCo_SonomaVeg_2013_WM
Description: These data are LiDAR orthorectified aerial photographs (8-bit GeoTIFF format) within the Sonoma County Vegetation Mapping and LiDAR Program's project area. Imagery was collected in fall, 2013. The imagery coverage corresponds to the Sonoma County 2013 LiDAR survey data extent and encompasses approximately 1,047,999 acres. A GSD (Ground Sample Distance) resolution of 6 inches was used for each four-band color pixel. WSI recommends viewing the orthoimagery in ESRI ArcMap software using a raster catalog. For best results, stretch type should be set to 'None' and Gamma Stretch should not be applied (Layer Properties -> Symbology Tab). The specified coordinate system for this dataset is California State Plane Zone II (FIPS 0402), NAD83 (2011), with units in US Survey Feet.
Single Fused Map Cache: false
Extent:
XMin: -1.3753318350318111E7
YMin: 4593363.403596401
XMax: -1.3618985946208708E7
YMax: 4757530.135299236
Spatial Reference: 102100
(3857)
LatestVCSWkid(0)
Initial Extent:
XMin: -1.3753318350318111E7
YMin: 4593363.403596401
XMax: -1.3618985946208708E7
YMax: 4757530.135299236
Spatial Reference: 102100
(3857)
LatestVCSWkid(0)
Full Extent:
XMin: -1.3753318350318111E7
YMin: 4593363.403596401
XMax: -1.3618985946208708E7
YMax: 4757530.135299236
Spatial Reference: 102100
(3857)
LatestVCSWkid(0)
Pixel Size X: 0.29858214164761465
Pixel Size Y: 0.29858214164761687
Band Count: 3
Pixel Type: U8
RasterFunction Infos: {"rasterFunctionInfos": [{
"name": "None",
"description": "",
"help": ""
}]}
Mensuration Capabilities: Basic
Inspection Capabilities:
Has Histograms: false
Has Colormap: false
Has Multi Dimensions : false
Rendering Rule:
Min Scale: 0
Max Scale: 0
Copyright Text: Sonoma County Vegetation Mapping and LiDAR Consortium, NASA, University of Maryland, Watershed Sciences, Inc., Tukman Geospatial LLC
Service Data Type: esriImageServiceDataTypeRGB
Min Values: N/A
Max Values: N/A
Mean Values: N/A
Standard Deviation Values: N/A
Object ID Field:
Fields:
None
Default Mosaic Method: Center
Allowed Mosaic Methods:
SortField:
SortValue: null
Mosaic Operator: First
Default Compression Quality: 75
Default Resampling Method: Bilinear
Max Record Count: null
Max Image Height: 4100
Max Image Width: 15000
Max Download Image Count: null
Max Mosaic Image Count: null
Allow Raster Function: true
Allow Copy: true
Allow Analysis: true
Allow Compute TiePoints: false
Supports Statistics: false
Supports Advanced Queries: false
Use StandardizedQueries: true
Raster Type Infos:
Name: Raster Dataset
Description: Supports all ArcGIS Raster Datasets
Help:
Has Raster Attribute Table: false
Edit Fields Info: null
Ownership Based AccessControl For Rasters: null
Child Resources:
Info
Statistics
Key Properties
Legend
Raster Function Infos
Supported Operations:
Export Image
Identify
Measure
Compute Histograms
Compute Statistics Histograms
Get Samples
Compute Class Statistics
Query Boundary
Compute Pixel Location
Compute Angles
Validate
Project