View In:
ArcGIS JavaScript
ArcGIS Online Map Viewer
ArcGIS Earth
Service Description: TASK NAME: San Francisco, Sacramento, Stockton, Modesto, Sonoma, CA 133UA 0.5-Foot Ortho with Upgrades Aerial Imagery Acquisition and Digital Orthophoto Production Task USGS CONTRACT NO: G10PC00057 TASK ORDER NO: G11PD00296 CONTRACTOR: Woolpert Inc.
Name: Rasters/Ortho_SoCo_USGS_2011
Description: TASK NAME: San Francisco, Sacramento, Stockton, Modesto, Sonoma, CA 133UA 0.5-Foot Ortho with Upgrades Aerial Imagery Acquisition and Digital Orthophoto Production Task USGS CONTRACT NO: G10PC00057 TASK ORDER NO: G11PD00296 CONTRACTOR: Woolpert Inc.
Single Fused Map Cache: false
Extent:
XMin: 6122500.21131416
YMin: 1786579.86051938
XMax: 6462209.71131416
YMax: 2074411.61051938
Spatial Reference: 102642
(2226)
LatestVCSWkid(0)
Initial Extent:
XMin: 6122500.21131416
YMin: 1786579.86051938
XMax: 6462209.71131416
YMax: 2074411.61051938
Spatial Reference: 102642
(2226)
LatestVCSWkid(0)
Full Extent:
XMin: 6122500.21131416
YMin: 1786579.86051938
XMax: 6462209.71131416
YMax: 2074411.61051938
Spatial Reference: 102642
(2226)
LatestVCSWkid(0)
Pixel Size X: 0.25
Pixel Size Y: 0.25
Band Count: 4
Pixel Type: U8
RasterFunction Infos: {"rasterFunctionInfos": [{
"name": "None",
"description": "",
"help": ""
}]}
Mensuration Capabilities: Basic
Inspection Capabilities:
Has Histograms: true
Has Colormap: false
Has Multi Dimensions : false
Rendering Rule:
Min Scale: 0
Max Scale: 0
Copyright Text: USGS, Woolpert Inc.
Service Data Type: esriImageServiceDataTypeGeneric
Min Values: 0, 0, 0, 0
Max Values: 246, 241, 242, 235
Mean Values: 66.77725958872875, 80.94183915731759, 48.75600419817664, 136.36262182968022
Standard Deviation Values: 32.825798253754826, 30.61955342489517, 25.328574384681254, 38.29692747014998
Object ID Field: OBJECTID
Fields:
-
OBJECTID
(
type: esriFieldTypeOID, alias: OBJECTID
)
-
Shape
(
type: esriFieldTypeGeometry, alias: Shape
)
-
Name
(
type: esriFieldTypeString, alias: Name, length: 200
)
-
MinPS
(
type: esriFieldTypeDouble, alias: MinPS
)
-
MaxPS
(
type: esriFieldTypeDouble, alias: MaxPS
)
-
LowPS
(
type: esriFieldTypeDouble, alias: LowPS
)
-
HighPS
(
type: esriFieldTypeDouble, alias: HighPS
)
-
Category
(
type: esriFieldTypeInteger, alias: Category
, Coded Values:
[0: Unknown]
, [1: Primary]
, [2: Overview]
, ...6 more...
)
-
Tag
(
type: esriFieldTypeString, alias: Tag, length: 100
)
-
GroupName
(
type: esriFieldTypeString, alias: GroupName, length: 100
)
-
ProductName
(
type: esriFieldTypeString, alias: ProductName, length: 100
)
-
CenterX
(
type: esriFieldTypeDouble, alias: CenterX
)
-
CenterY
(
type: esriFieldTypeDouble, alias: CenterY
)
-
ZOrder
(
type: esriFieldTypeInteger, alias: ZOrder
)
-
Shape_Length
(
type: esriFieldTypeDouble, alias: Shape_Length
)
-
Shape_Area
(
type: esriFieldTypeDouble, alias: Shape_Area
)
Default Mosaic Method: Northwest
Allowed Mosaic Methods: NorthWest,Center,LockRaster,ByAttribute,Nadir,Viewpoint,Seamline,None
SortField:
SortValue: null
Mosaic Operator: First
Default Compression Quality: 75
Default Resampling Method: Bilinear
Max Record Count: 1000
Max Image Height: 4100
Max Image Width: 15000
Max Download Image Count: 20
Max Mosaic Image Count: 20
Allow Raster Function: true
Allow Copy: true
Allow Analysis: true
Allow Compute TiePoints: false
Supports Statistics: true
Supports Advanced Queries: true
Use StandardizedQueries: true
Raster Type Infos:
Name: Raster Dataset
Description: Supports all ArcGIS Raster Datasets
Help:
Has Raster Attribute Table: false
Edit Fields Info: null
Ownership Based AccessControl For Rasters: null
Child Resources:
Info
Histograms
Statistics
Key Properties
Legend
Raster Function Infos
Supported Operations:
Export Image
Identify
Measure
Compute Histograms
Compute Statistics Histograms
Get Samples
Compute Class Statistics
Query Boundary
Compute Pixel Location
Compute Angles
Validate
Project