View In:
ArcGIS JavaScript
ArcGIS Online Map Viewer
ArcGIS Earth
Service Description: Percent slope derived from the Sonoma Veg Map LiDAR bare-earth DEM and reclassified into set intervals and 9 different categories from 0% to greater than 50%.
Name: Rasters/Slope_Percentage_Values
Description: Percent slope derived from the Sonoma Veg Map LiDAR bare-earth DEM and reclassified into set intervals and 9 different categories from 0% to greater than 50%.
Single Fused Map Cache: false
Extent:
XMin: 6119016.999954134
YMin: 1797202.000024803
XMax: 6497016.999954134
YMax: 2250802.000024803
Spatial Reference: 0
(0)
LatestVCSWkid(0)
Initial Extent:
XMin: 6119016.999954134
YMin: 1797202.000024803
XMax: 6497016.999954134
YMax: 2250802.000024803
Spatial Reference: 0
(0)
LatestVCSWkid(0)
Full Extent:
XMin: 6119016.999954134
YMin: 1797202.000024803
XMax: 6497016.999954134
YMax: 2250802.000024803
Spatial Reference: 0
(0)
LatestVCSWkid(0)
Pixel Size X: 3.0
Pixel Size Y: 3.0
Band Count: 1
Pixel Type: U4
RasterFunction Infos: {"rasterFunctionInfos": [{
"name": "None",
"description": "",
"help": ""
}]}
Mensuration Capabilities: Basic
Inspection Capabilities:
Has Histograms: false
Has Colormap: false
Has Multi Dimensions : false
Rendering Rule:
Min Scale: 0
Max Scale: 0
Copyright Text: Sonoma Veg Map, County of Sonoma ISD-GIS
Service Data Type: esriImageServiceDataTypeGeneric
Min Values: 1
Max Values: 9
Mean Values: 5.416212428514434
Standard Deviation Values: 3.0849621160145357
Object ID Field:
Fields:
None
Default Mosaic Method: Center
Allowed Mosaic Methods:
SortField:
SortValue: null
Mosaic Operator: First
Default Compression Quality: 75
Default Resampling Method: Bilinear
Max Record Count: null
Max Image Height: 4100
Max Image Width: 15000
Max Download Image Count: null
Max Mosaic Image Count: null
Allow Raster Function: true
Allow Copy: true
Allow Analysis: true
Allow Compute TiePoints: false
Supports Statistics: false
Supports Advanced Queries: false
Use StandardizedQueries: true
Raster Type Infos:
Name: Raster Dataset
Description: Supports all ArcGIS Raster Datasets
Help:
Has Raster Attribute Table: true
Edit Fields Info: null
Ownership Based AccessControl For Rasters: null
Child Resources:
Info
Raster Attribute Table
Statistics
Key Properties
Legend
Raster Function Infos
Supported Operations:
Export Image
Identify
Measure
Compute Histograms
Compute Statistics Histograms
Get Samples
Compute Class Statistics
Query Boundary
Compute Pixel Location
Compute Angles
Validate
Project