View In:
ArcGIS JavaScript
ArcGIS Online Map Viewer
ArcGIS Earth
Service Description: Sonoma Water analyzed 3-km downscaled climate projections for daily rainfall (LOCA2) from 13 global circulation models to produce gridded scalars of the climate model mean for 24-hour rainfall for early century (2016-2045), medium-high emissions scenario (SSP2-4.5), the 5-year storm. Raw data from LOCA2 (Scripps, 2023), CMIP6 (IPCC, 2021) for Sonoma County, Upper Russian River, and Upper Eel River watersheds. For additional information, see the Technical Report at [https://www.sonomawater.org/media/PDF/climate/FutureRainfallDatabaseTechnicalReport.pdf].
Name: SCWAClimatePublic/Y2030_SSP2_4pt5_5yr_Mean_1SD_Scalar_Raster
Description:
Single Fused Map Cache: false
Extent:
XMin: -123.562505
YMin: 38.09375
XMax: -122.343755
YMax: 39.71875
Spatial Reference: 4269
(4269)
LatestVCSWkid(0)
Initial Extent:
XMin: -123.562505
YMin: 38.09375
XMax: -122.343755
YMax: 39.71875
Spatial Reference: 4269
(4269)
LatestVCSWkid(0)
Full Extent:
XMin: -123.562505
YMin: 38.09375
XMax: -122.343755
YMax: 39.71875
Spatial Reference: 4269
(4269)
LatestVCSWkid(0)
Pixel Size X: 0.03125
Pixel Size Y: 0.03125
Band Count: 1
Pixel Type: F32
RasterFunction Infos: {"rasterFunctionInfos": [{
"name": "None",
"description": "",
"help": ""
}]}
Mensuration Capabilities: Basic
Inspection Capabilities:
Has Histograms: true
Has Colormap: false
Has Multi Dimensions : false
Rendering Rule:
Min Scale: 0
Max Scale: 0
Copyright Text: Sonoma Water - 404 Aviation Blvd Santa Rosa CA - Molly.Oshun@scwa.ca.gov (May 2024)
Service Data Type: esriImageServiceDataTypeGeneric
Min Values: -0.018200930207968
Max Values: 0.32991969585419
Mean Values: 0.14208305402331
Standard Deviation Values: 0.05684671386137
Object ID Field:
Fields:
None
Default Mosaic Method: Center
Allowed Mosaic Methods:
SortField:
SortValue: null
Mosaic Operator: First
Default Compression Quality: 75
Default Resampling Method: Bilinear
Max Record Count: null
Max Image Height: 4100
Max Image Width: 15000
Max Download Image Count: null
Max Mosaic Image Count: null
Allow Raster Function: true
Allow Copy: true
Allow Analysis: true
Allow Compute TiePoints: false
Supports Statistics: false
Supports Advanced Queries: false
Use StandardizedQueries: true
Raster Type Infos:
Name: Raster Dataset
Description: Supports all ArcGIS Raster Datasets
Help:
Has Raster Attribute Table: false
Edit Fields Info: null
Ownership Based AccessControl For Rasters: null
Child Resources:
Info
Histograms
Statistics
Key Properties
Legend
Raster Function Infos
Supported Operations:
Export Image
Identify
Measure
Compute Histograms
Compute Statistics Histograms
Get Samples
Compute Class Statistics
Query Boundary
Compute Pixel Location
Compute Angles
Validate
Project