View In:
ArcGIS JavaScript
ArcGIS Online Map Viewer
ArcGIS Earth
Service Description: The bare earth digital elevation model (DEM) represents the earth's surface with all vegetation and anthropogenic features removed. It is derived from NIR Lidar data using TIN processing of the ground point returns. Some elevation values have been interpolated across areas in the ground model where there is no elevation data (e.g. over water, under dense vegetation). The horizontal datum for this dataset is NAD83 (2011), the vertical datum is NAVD88, Geoid 18, and the data is projected in California State Plane, Zone 2. Units are in US Survey Feet. NV5 Geospatial collected the Russian River Lidar data for Sonoma County Water Agency on 01/23/2021.
Name: SCWAPublic/SCWA_RussianRiver_Lidar_BareEarth_DEM_2021
Description:
Single Fused Map Cache: false
Extent:
XMin: 6267597.0
YMin: 1975758.0
XMax: 6339507.0
YMax: 2074383.0
Spatial Reference: 103004
(6418)
LatestVCSWkid(0)
Initial Extent:
XMin: 6267597.0
YMin: 1975758.0
XMax: 6339507.0
YMax: 2074383.0
Spatial Reference: 103004
(6418)
LatestVCSWkid(0)
Full Extent:
XMin: 6267597.0
YMin: 1975758.0
XMax: 6339507.0
YMax: 2074383.0
Spatial Reference: 103004
(6418)
LatestVCSWkid(0)
Pixel Size X: 3.0
Pixel Size Y: 3.0
Band Count: 1
Pixel Type: F32
RasterFunction Infos: {"rasterFunctionInfos": [{
"name": "None",
"description": "A No-Op Function.",
"help": ""
}]}
Mensuration Capabilities: Basic
Inspection Capabilities:
Has Histograms: true
Has Colormap: false
Has Multi Dimensions : false
Rendering Rule:
Min Scale: 0
Max Scale: 0
Resampling: false
Copyright Text: Sonoma County Water Agency
Service Data Type: esriImageServiceDataTypeGeneric
Min Values: 59.80506896972656
Max Values: 1039.046142578125
Mean Values: 274.60927197216466
Standard Deviation Values: 145.54730146010488
Object ID Field: OBJECTID
Fields:
-
OBJECTID
(
type: esriFieldTypeOID, alias: OBJECTID
)
-
Shape
(
type: esriFieldTypeGeometry, alias: Shape
)
-
Name
(
type: esriFieldTypeString, alias: Name, length: 200
)
-
MinPS
(
type: esriFieldTypeDouble, alias: MinPS
)
-
MaxPS
(
type: esriFieldTypeDouble, alias: MaxPS
)
-
LowPS
(
type: esriFieldTypeDouble, alias: LowPS
)
-
HighPS
(
type: esriFieldTypeDouble, alias: HighPS
)
-
Category
(
type: esriFieldTypeInteger, alias: Category
, Coded Values:
[0: Unknown]
, [1: Primary]
, [2: Overview]
, ...6 more...
)
-
Tag
(
type: esriFieldTypeString, alias: Tag, length: 100
)
-
GroupName
(
type: esriFieldTypeString, alias: GroupName, length: 100
)
-
ProductName
(
type: esriFieldTypeString, alias: ProductName, length: 100
)
-
CenterX
(
type: esriFieldTypeDouble, alias: CenterX
)
-
CenterY
(
type: esriFieldTypeDouble, alias: CenterY
)
-
ZOrder
(
type: esriFieldTypeInteger, alias: ZOrder
)
-
Shape_Length
(
type: esriFieldTypeDouble, alias: Shape_Length
)
-
Shape_Area
(
type: esriFieldTypeDouble, alias: Shape_Area
)
Default Mosaic Method: Northwest
Allowed Mosaic Methods: NorthWest,Center,LockRaster,ByAttribute,Nadir,Viewpoint,Seamline,None
SortField:
SortValue: null
Mosaic Operator: First
Default Compression Quality: 75
Default Resampling Method: Bilinear
Max Record Count: 1000
Max Image Height: 4100
Max Image Width: 15000
Max Download Image Count: 20
Max Mosaic Image Count: 20
Allow Raster Function: true
Allow Copy: false
Allow Analysis: true
Allow Compute TiePoints: false
Supports Statistics: true
Supports Advanced Queries: true
Use StandardizedQueries: true
Raster Type Infos:
Name: Raster Dataset
Description: Supports all ArcGIS Raster Datasets
Help:
Has Raster Attribute Table: false
Edit Fields Info: null
Ownership Based AccessControl For Rasters: null
Child Resources:
Info
Histograms
Statistics
Key Properties
Legend
Raster Function Infos
Supported Operations:
Export Image
Query
Identify
Measure
Compute Histograms
Compute Statistics Histograms
Get Samples
Compute Class Statistics
Query GPS Info
Find Images
Image to Map
Map to Image
Measure from Image
Image to Map Multiray
Query Boundary
Compute Pixel Location
Compute Angles
Validate
Project