View In:
ArcGIS JavaScript
ArcGIS Online Map Viewer
ArcGIS Earth
Service Description: This .tif file represents the intensity values of the Green Lidar laser returns from the Sonoma Creek Topo bathymetric dataset. The horizontal datum for this dataset is NAD83 (2011), the vertical datum is NAVD88, Geoid 18, and the data is projected in California State Plane, Zone 2. Units are in US Survey Feet. NV5 Geospatial collected the Sonoma Creek Topo bathymetric Lidar data for Sonoma Water between 02/04/2021 and 02/06/2021.
Name: SCWAPublic/SCWA_SonomaCreek_Lidar_Intensity_Bath_2021
Description:
Single Fused Map Cache: false
Extent:
XMin: 6392154.000000002
YMin: 1845000.0000001017
XMax: 6444023.999999938
YMax: 1925532.0000000016
Spatial Reference: 103004
(6418)
LatestVCSWkid(0)
Initial Extent:
XMin: 6392154.000000002
YMin: 1845000.0000001017
XMax: 6444023.999999938
YMax: 1925532.0000000016
Spatial Reference: 103004
(6418)
LatestVCSWkid(0)
Full Extent:
XMin: 6392154.000000002
YMin: 1845000.0000001017
XMax: 6444023.999999938
YMax: 1925532.0000000016
Spatial Reference: 103004
(6418)
LatestVCSWkid(0)
Pixel Size X: 1.4999999999981417
Pixel Size Y: 1.4999999999981353
Band Count: 1
Pixel Type: U8
RasterFunction Infos: {"rasterFunctionInfos": [{
"name": "None",
"description": "",
"help": ""
}]}
Mensuration Capabilities: Basic
Inspection Capabilities:
Has Histograms: false
Has Colormap: false
Has Multi Dimensions : false
Rendering Rule:
Min Scale: 0
Max Scale: 0
Resampling: false
Copyright Text: Sonoma Water
Service Data Type: esriImageServiceDataTypeGeneric
Min Values: N/A
Max Values: N/A
Mean Values: N/A
Standard Deviation Values: N/A
Object ID Field:
Fields:
None
Default Mosaic Method: Center
Allowed Mosaic Methods:
SortField:
SortValue: null
Mosaic Operator: First
Default Compression Quality: 75
Default Resampling Method: Bilinear
Max Record Count: null
Max Image Height: 4100
Max Image Width: 15000
Max Download Image Count: null
Max Mosaic Image Count: null
Allow Raster Function: true
Allow Copy: false
Allow Analysis: true
Allow Compute TiePoints: false
Supports Statistics: false
Supports Advanced Queries: false
Use StandardizedQueries: true
Raster Type Infos:
Name: Raster Dataset
Description: Supports all ArcGIS Raster Datasets
Help:
Has Raster Attribute Table: false
Edit Fields Info: null
Ownership Based AccessControl For Rasters: null
Child Resources:
Info
Statistics
Key Properties
Legend
Raster Function Infos
Supported Operations:
Export Image
Identify
Measure
Compute Histograms
Compute Statistics Histograms
Get Samples
Compute Class Statistics
Query Boundary
Compute Pixel Location
Compute Angles
Validate
Project