View In:
ArcGIS JavaScript
ArcGIS Online Map Viewer
ArcGIS Earth
Service Description: The Sonoma County Russian River - Mark West Creek Inundation Model provides high resolution water depth data. The water depth digital elevation model (DEM) represents the difference between water surface elevation models and bare earth (all vegetation and man-made structures removed) digital elevation models. The water surface elevations were estimated using HEC RAS 5.0.7 hydrologic modeling software. Each pixel is three feet by three feet and represents an average height above ground for that area. QSI collected the LiDAR and created this data set for the Russian River Modeling and Buildings study area. The projection is CASP 2 with horizontal datum NAD83(2011), vertical datum NAVD88 (Geoid 12A), and the units are US Survey Feet. See Process Steps for derivation of raster datasets.
Name: PRMDPublic/Russian_River_Mark_West_Depth_Raster_33ft
Description: The Sonoma County Russian River - Mark West Creek Inundation Model provides high resolution water depth data. The water depth digital elevation model (DEM) represents the difference between water surface elevation models and bare earth (all vegetation and man-made structures removed) digital elevation models. The water surface elevations were estimated using HEC RAS 5.0.7 hydrologic modeling software. Each pixel is three feet by three feet and represents an average height above ground for that area. QSI collected the LiDAR and created this data set for the Russian River Modeling and Buildings study area. The projection is CASP 2 with horizontal datum NAD83(2011), vertical datum NAVD88 (Geoid 12A), and the units are US Survey Feet. See Process Steps for derivation of raster datasets.
Single Fused Map Cache: true
Tile Info:
- Height: 256
- Width: 256
- DPI: 96
-
Levels of Detail: 24
-
Level ID: 1
[ Start Tile, End Tile ]
- Resolution: 78271.5169639999
- Scale: 2.95828763795777E8
-
Level ID: 2
[ Start Tile, End Tile ]
- Resolution: 39135.7584820001
- Scale: 1.47914381897889E8
-
Level ID: 3
[ Start Tile, End Tile ]
- Resolution: 19567.8792409999
- Scale: 7.3957190948944E7
-
Level ID: 4
[ Start Tile, End Tile ]
- Resolution: 9783.93962049996
- Scale: 3.6978595474472E7
-
Level ID: 5
[ Start Tile, End Tile ]
- Resolution: 4891.96981024998
- Scale: 1.8489297737236E7
- Format: PNG8
- Compression Quality: 0.0
- LERC Error: NaN
- Origin: X: -2.0037508342787E7
Y: 2.0037508342787E7
- Spatial Reference: 102100
(3857)
LatestVCSWkid(0)
Storage Info:
- Storage Format: esriMapCacheStorageModeCompactV2
- Packet Size: 128
Extent:
XMin: -1.3708243527642462E7
YMin: 4599723.707339594
XMax: -1.3635857102270892E7
YMax: 4701779.883560069
Spatial Reference: 102100
(3857)
LatestVCSWkid(0)
Initial Extent:
XMin: -1.3708243527642462E7
YMin: 4599723.707339594
XMax: -1.3635857102270892E7
YMax: 4701779.883560069
Spatial Reference: 102100
(3857)
LatestVCSWkid(0)
Full Extent:
XMin: -1.3708243527642462E7
YMin: 4599723.707339594
XMax: -1.3635857102270892E7
YMax: 4701779.883560069
Spatial Reference: 102100
(3857)
LatestVCSWkid(0)
Pixel Size X: 0.9144018288036532
Pixel Size Y: 0.9144018288036521
Band Count: 1
Pixel Type: F32
RasterFunction Infos: {"rasterFunctionInfos": [{
"name": "None",
"description": "",
"help": ""
}]}
Mensuration Capabilities: Basic
Inspection Capabilities:
Has Histograms: true
Has Colormap: false
Has Multi Dimensions : false
Rendering Rule:
Min Scale: 0
Max Scale: 0
Resampling: false
Copyright Text: Sonoma County
Service Data Type: esriImageServiceDataTypeGeneric
Min Values: 9.9945068359375E-4
Max Values: 169.81661987304688
Mean Values: 8.298425860547335
Standard Deviation Values: 7.6002287639975465
Object ID Field:
Fields:
None
Default Mosaic Method: Center
Allowed Mosaic Methods:
SortField:
SortValue: null
Mosaic Operator: First
Default Compression Quality: 75
Default Resampling Method: Bilinear
Max Record Count: null
Max Image Height: 4100
Max Image Width: 15000
Max Download Image Count: null
Max Mosaic Image Count: null
Allow Raster Function: true
Allow Copy: true
Allow Analysis: true
Allow Compute TiePoints: false
Supports Statistics: false
Supports Advanced Queries: false
Use StandardizedQueries: true
Raster Type Infos:
Name: Raster Dataset
Description: Supports all ArcGIS Raster Datasets
Help:
Has Raster Attribute Table: false
Edit Fields Info: null
Ownership Based AccessControl For Rasters: null
Child Resources:
Info
Histograms
Statistics
Key Properties
Legend
Raster Function Infos
Supported Operations:
Export Image
Identify
Measure
Compute Histograms
Compute Statistics Histograms
Get Samples
Compute Class Statistics
Query Boundary
Compute Pixel Location
Compute Angles
Validate
Project