View In:
ArcGIS JavaScript
ArcGIS Online Map Viewer
ArcGIS Earth
Service Description: 2022 Bare Earth Digital Terrain Model projected to CA State Plane II, with pixel values (ground elevations) in feet. This uses the 2022 1-meter DTM created by NV5 and simply reprojects / resamples it to the same coordinate system as the 2013 DTM, and converts pixel values from meters to feet. Bilinear interpolation was used as the resampling method. Note that the vertical coordinate system of the 2022 DTM is DIFFERENT than the vertical coordinate system of the 2013 data.
Name: Rasters/Lidar_HydroFlat_BareEarth_DEM_2022_WM
Description: 2022 Bare Earth Digital Terrain Model projected to CA State Plane II, with pixel values (ground elevations) in feet. This uses the 2022 1-meter DTM created by NV5 and simply reprojects / resamples it to the same coordinate system as the 2013 DTM, and converts pixel values from meters to feet. Bilinear interpolation was used as the resampling method. Note that the vertical coordinate system of the 2022 DTM is DIFFERENT than the vertical coordinate system of the 2013 data.
Single Fused Map Cache: false
Extent:
XMin: -1.3754226568453139E7
YMin: 4593099.8221996445
XMax: -1.3618768910337823E7
YMax: 4702542.748285497
Spatial Reference: 102100
(3857)
LatestVCSWkid(0)
Initial Extent:
XMin: -1.3754226568453139E7
YMin: 4593099.8221996445
XMax: -1.3618768910337823E7
YMax: 4702542.748285497
Spatial Reference: 102100
(3857)
LatestVCSWkid(0)
Full Extent:
XMin: -1.3754226568453139E7
YMin: 4593099.8221996445
XMax: -1.3618768910337823E7
YMax: 4702542.748285497
Spatial Reference: 102100
(3857)
LatestVCSWkid(0)
Pixel Size X: 0.9144018288036573
Pixel Size Y: 0.914401828803657
Band Count: 1
Pixel Type: F32
RasterFunction Infos: {"rasterFunctionInfos": [{
"name": "None",
"description": "A No-Op Function.",
"help": ""
}]}
Mensuration Capabilities: Basic
Inspection Capabilities:
Has Histograms: true
Has Colormap: false
Has Multi Dimensions : false
Rendering Rule:
Min Scale: 0
Max Scale: 0
Resampling: false
Copyright Text: NV5 Geospatial, Tukman Geospatial
Service Data Type: esriImageServiceDataTypeGeneric
Min Values: -0.27863745391368866
Max Values: 4663.383396670222
Mean Values: 734.5335549894805
Standard Deviation Values: 660.0872907543549
Object ID Field: OBJECTID
Fields:
-
OBJECTID
(
type: esriFieldTypeOID, alias: OBJECTID
)
-
Shape
(
type: esriFieldTypeGeometry, alias: Shape
)
-
Name
(
type: esriFieldTypeString, alias: Name, length: 200
)
-
MinPS
(
type: esriFieldTypeDouble, alias: MinPS
)
-
MaxPS
(
type: esriFieldTypeDouble, alias: MaxPS
)
-
LowPS
(
type: esriFieldTypeDouble, alias: LowPS
)
-
HighPS
(
type: esriFieldTypeDouble, alias: HighPS
)
-
Category
(
type: esriFieldTypeInteger, alias: Category
, Coded Values:
[0: Unknown]
, [1: Primary]
, [2: Overview]
, ...6 more...
)
-
Tag
(
type: esriFieldTypeString, alias: Tag, length: 100
)
-
GroupName
(
type: esriFieldTypeString, alias: GroupName, length: 100
)
-
ProductName
(
type: esriFieldTypeString, alias: ProductName, length: 100
)
-
CenterX
(
type: esriFieldTypeDouble, alias: CenterX
)
-
CenterY
(
type: esriFieldTypeDouble, alias: CenterY
)
-
ZOrder
(
type: esriFieldTypeInteger, alias: ZOrder
)
-
Shape_Length
(
type: esriFieldTypeDouble, alias: Shape_Length
)
-
Shape_Area
(
type: esriFieldTypeDouble, alias: Shape_Area
)
Default Mosaic Method: Northwest
Allowed Mosaic Methods: NorthWest,Center,LockRaster,ByAttribute,Nadir,Viewpoint,Seamline,None
SortField:
SortValue: null
Mosaic Operator: First
Default Compression Quality: 75
Default Resampling Method: Bilinear
Max Record Count: 1000
Max Image Height: 4100
Max Image Width: 15000
Max Download Image Count: 20
Max Mosaic Image Count: 20
Allow Raster Function: true
Allow Copy: true
Allow Analysis: true
Allow Compute TiePoints: false
Supports Statistics: true
Supports Advanced Queries: true
Use StandardizedQueries: true
Raster Type Infos:
Name: Raster Dataset
Description: Supports all ArcGIS Raster Datasets
Help:
Has Raster Attribute Table: false
Edit Fields Info: null
Ownership Based AccessControl For Rasters: null
Child Resources:
Info
Histograms
Statistics
Key Properties
Legend
Raster Function Infos
Supported Operations:
Export Image
Query
Identify
Measure
Compute Histograms
Compute Statistics Histograms
Get Samples
Compute Class Statistics
Query GPS Info
Find Images
Image to Map
Map to Image
Measure from Image
Image to Map Multiray
Query Boundary
Compute Pixel Location
Compute Angles
Validate
Project